BEGIN:VCALENDAR
VERSION:2.0
PRODID:-//Downtown Ithaca - ECPv6.15.20//NONSGML v1.0//EN
CALSCALE:GREGORIAN
METHOD:PUBLISH
X-ORIGINAL-URL:https://www.downtownithaca.com
X-WR-CALDESC:Events for Downtown Ithaca
REFRESH-INTERVAL;VALUE=DURATION:PT1H
X-Robots-Tag:noindex
X-PUBLISHED-TTL:PT1H
BEGIN:VTIMEZONE
TZID:America/New_York
BEGIN:DAYLIGHT
TZOFFSETFROM:-0500
TZOFFSETTO:-0400
TZNAME:EDT
DTSTART:20250309T070000
END:DAYLIGHT
BEGIN:STANDARD
TZOFFSETFROM:-0400
TZOFFSETTO:-0500
TZNAME:EST
DTSTART:20251102T060000
END:STANDARD
BEGIN:DAYLIGHT
TZOFFSETFROM:-0500
TZOFFSETTO:-0400
TZNAME:EDT
DTSTART:20260308T070000
END:DAYLIGHT
BEGIN:STANDARD
TZOFFSETFROM:-0400
TZOFFSETTO:-0500
TZNAME:EST
DTSTART:20261101T060000
END:STANDARD
BEGIN:DAYLIGHT
TZOFFSETFROM:-0500
TZOFFSETTO:-0400
TZNAME:EDT
DTSTART:20270314T070000
END:DAYLIGHT
BEGIN:STANDARD
TZOFFSETFROM:-0400
TZOFFSETTO:-0500
TZNAME:EST
DTSTART:20271107T060000
END:STANDARD
END:VTIMEZONE
BEGIN:VEVENT
DTSTART;TZID=America/New_York:20260426T140000
DTEND;TZID=America/New_York:20260426T150000
DTSTAMP:20260421T163102
CREATED:20260327T151333Z
LAST-MODIFIED:20260327T151333Z
UID:10006975-1777212000-1777215600@www.downtownithaca.com
SUMMARY:Book Launch: Alice McDowell
DESCRIPTION:Book Title: Your Royal Nature\nBook Subtitle: Spiritual Essays to Find Your Way Home\nAuthor Name: Alice McDowell\, PhD  \nSynopsis:\nThis new collection of essays serves readers who want to grow spiritually and experience the oneness and liberation that is their true royal nature. Those who lead busy and complicated lives will find the short chapters offer a meditative reading experience with guidance\, support\, and spiritual sustenance. Wide-ranging and thought-provoking\, the essays will help you find your life purpose\, cope with a world in crises\, recognize true guidance\, break negative habits\, face the unknown\, grow spiritually in later life\, and find deep abiding love. Alice McDowell draws from spiritual wisdom traditions and personal experiences to take you beyond everyday challenges\, give you a larger perspective on life\, deepen your spiritual connection\, and cultivate your essential nature.  \nAuthor Bio:\nAlice McDowell\, Ph.D.\, is an author\, spiritual director\, workshop leader\, and retreat guide. She co-founded Light on the Hill Retreat Center in 1991 where she continues to guide individuals and groups on their spiritual journeys. She is author of Hidden Treasure: How to Break Free of Five Patterns that Hide Your True Self (She Writes Press\, 2017) and Dance of Light: Christian\, Sufi and Zen Wisdom for Today’s Spiritual Seeker. As a professor of religious studies at Ithaca College for eighteen years\, she taught courses in mysticism\, world religions\, depth psychology\, and women’s studies. McDowell has a Ph.D. in theology from Fordham University and has trained with Sufi and Buddhist teachers\, Christian contemplatives\, and humanistic and transpersonal psychologists.\nVisit her at: www.alicemcdowellauthor.com \n“If you are looking for a book to take you into your deeper\, wiser\, calmer self\, you have found it!” \n“This is a book to be savored\, chock-full of spiritual practices and suggestions to return to\, and chapters to revisit again and again.”
URL:https://www.downtownithaca.com/event/book-launch-alice-mcdowell/
LOCATION:Buffalo Street Books\, 215 N. Cayuga St.\, Ithaca
CATEGORIES:Featured
ATTACH;FMTTYPE=image/png:https://www.downtownithaca.com/wp-content/uploads/Alice-McDowell.png
ORGANIZER;CN="Buffalo Street Books":MAILTO:lisa@buffalostreetbooks.com
END:VEVENT
BEGIN:VEVENT
DTSTART;TZID=America/New_York:20260426T160000
DTEND;TZID=America/New_York:20260426T180000
DTSTAMP:20260421T163102
CREATED:20260303T210855Z
LAST-MODIFIED:20260303T210855Z
UID:10006820-1777219200-1777226400@www.downtownithaca.com
SUMMARY:ZINE WORKSHOP @ Orozco Gallery
DESCRIPTION:GALLERY HOURS 1-4PM\n🗓️ Sunday\, April 26th | ⏰ 4–6 PM\n📍 115 S Cayuga St\, Ithaca\, NY\n🎟️ Sliding scale | 👨‍👩‍👧‍👦 All ages | Supplies included \n🎨 This April\, Orozco Gallery opens its doors for a month-long pop-up filled with arts & culture in Downtown Ithaca. Featuring artist talks\, live music\, dance\, storytelling\, and hands-on workshops\, this welcoming sober space invites all ages to gather and celebrate the transformative power of art. \nCreate your own handmade zine during Orozco Gallery’s month-long pop-up filled with arts & culture. Supplies included. \n💵 Sliding scale $5-$10 (cash or Venmo)\n🥤 N/A drinks available\n♿ Accessible \n🌐 orozcogallery.com / @orozco_gallery – RSVP info: https://forms.gle/QbVYMMwfEcuVkXLMA \nNow more than ever\, art is an act of resistance and renewal — a way to reclaim joy\, foster dialogue\, and strengthen community bonds. This month-long series is organized and founded by community maker\, curator\, and activist Yen Ospina in collaboration with the Latino Civic Association of Tompkins County\, & Latina/o Studies Program at Cornell University.
URL:https://www.downtownithaca.com/event/zine-workshop-orozco-gallery/
LOCATION:orozco gallery\, 115 s cayuga st\, ithaca\, 14850
CATEGORIES:Featured
ORGANIZER;CN="Gallery Orozco Ithaca":MAILTO:ospinayen@gmail.com
END:VEVENT
END:VCALENDAR