BEGIN:VCALENDAR
VERSION:2.0
PRODID:-//Downtown Ithaca - ECPv6.15.20//NONSGML v1.0//EN
CALSCALE:GREGORIAN
METHOD:PUBLISH
X-ORIGINAL-URL:https://www.downtownithaca.com
X-WR-CALDESC:Events for Downtown Ithaca
REFRESH-INTERVAL;VALUE=DURATION:PT1H
X-Robots-Tag:noindex
X-PUBLISHED-TTL:PT1H
BEGIN:VTIMEZONE
TZID:America/New_York
BEGIN:DAYLIGHT
TZOFFSETFROM:-0500
TZOFFSETTO:-0400
TZNAME:EDT
DTSTART:20250309T070000
END:DAYLIGHT
BEGIN:STANDARD
TZOFFSETFROM:-0400
TZOFFSETTO:-0500
TZNAME:EST
DTSTART:20251102T060000
END:STANDARD
BEGIN:DAYLIGHT
TZOFFSETFROM:-0500
TZOFFSETTO:-0400
TZNAME:EDT
DTSTART:20260308T070000
END:DAYLIGHT
BEGIN:STANDARD
TZOFFSETFROM:-0400
TZOFFSETTO:-0500
TZNAME:EST
DTSTART:20261101T060000
END:STANDARD
BEGIN:DAYLIGHT
TZOFFSETFROM:-0500
TZOFFSETTO:-0400
TZNAME:EDT
DTSTART:20270314T070000
END:DAYLIGHT
BEGIN:STANDARD
TZOFFSETFROM:-0400
TZOFFSETTO:-0500
TZNAME:EST
DTSTART:20271107T060000
END:STANDARD
END:VTIMEZONE
BEGIN:VEVENT
DTSTART;VALUE=DATE:20260427
DTEND;VALUE=DATE:20260504
DTSTAMP:20260421T110112
CREATED:20260122T034520Z
LAST-MODIFIED:20260122T034520Z
UID:10006689-1777248000-1777852799@www.downtownithaca.com
SUMMARY:Old Greeny Fringe Fest
DESCRIPTION:Old Greeny Fringe Fest is a week-long\, fringe festival in celebration of the weird\, wacky\, and whimsical\, rooted in the legend of Old Greeny—the cryptid of Cayuga Lake. The festival activates traditional and non-traditional venues through performances\, installations\, community activities\, and storytelling\, with a strong commitment to sustainability\, accessibility\, and local culture.\nThe festival runs from April 27th to May 3rd at venues near the Waterfront Trail and on State Street. There will be more than 50 events and shows at 14 different venues in Ithaca NY. Events include music\, dance\, theatre\, drag\, burlesque\, circus\, clowning\, as well as crafting and skill-building workshops for all ages!\nCheck out the event website for a full program and details.\nwww.oldgreenyfringefest.com\nTickets to evening shows can be purchased in advance. Daytime events are family-friendly and free to the public! The Cherry Arts is the box office for the festival\, so drop by and pick up a program anytime from April 27th to May 2nd.
URL:https://www.downtownithaca.com/event/old-greeny-fringe-fest/
LOCATION:N
CATEGORIES:Featured
ATTACH;FMTTYPE=image/jpeg:https://www.downtownithaca.com/wp-content/uploads/OGFF-Event-Postings-Images-1.jpg
ORGANIZER;CN="vie cycle":MAILTO:theweddingshowith@gmail.com
END:VEVENT
BEGIN:VEVENT
DTSTART;TZID=America/New_York:20260428T140000
DTEND;TZID=America/New_York:20260428T160000
DTSTAMP:20260421T110112
CREATED:20260414T043204Z
LAST-MODIFIED:20260414T043204Z
UID:10007077-1777384800-1777392000@www.downtownithaca.com
SUMMARY:Volunteer Fair at LIfelong
DESCRIPTION:Lifelong Volunteer Fair: April 28th 2pm – 4pm FREE and open to the public Looking to give back and make a difference in your community?  \nJoin us for an inspiring afternoon with 20 local nonprofit organizations and discover meaningful volunteer opportunities that match your interests and skills. Bonus perks! Visit every vendor and you’ll be eligible to receive a 6-pack of local artisan beer\, plus a Lifelong lip balm\, pen\, and tote bag! Bring a friend and come see how you can make an impact!  \nRegistration appreciated (but not required): https://tinyurl.com/LLVolunteerFair2026
URL:https://www.downtownithaca.com/event/volunteer-fair-at-lifelong/
LOCATION:Lifelong\, 119 W COURT ST.\, ITHACA\, 14850
CATEGORIES:Featured
ATTACH;FMTTYPE=image/png:https://www.downtownithaca.com/wp-content/uploads/Volunteer-fair.png
ORGANIZER;CN="Lifelong":MAILTO:kcollins@tclifelong.org
END:VEVENT
BEGIN:VEVENT
DTSTART;TZID=America/New_York:20260428T183000
DTEND;TZID=America/New_York:20260428T193000
DTSTAMP:20260421T110112
CREATED:20260414T042957Z
LAST-MODIFIED:20260414T042957Z
UID:10007076-1777401000-1777404600@www.downtownithaca.com
SUMMARY:Imagine! Pedro X. Molina & Johannes Lehmann in Conversation
DESCRIPTION:Soil scientist Johannes Lehmann (member of the National Academy of Science) and cartoonist Pedro X. Molina (recipient of the Vaclav Havel Award for Creative Dissent) discuss their recent creative collaboration on a graphic novel titled HUMUS. This is the first event in a series\, “Imagine! Dialogues on the Power of Imagination as a Public Good\,” celebrating the 25th anniversary of Ithaca City of Asylum.
URL:https://www.downtownithaca.com/event/imagine-pedro-x-molina-johannes-lehmann-in-conversation/
LOCATION:Tompkins County Public Library\, Borg-Warner West\, 101 E Green St\, Ithaca\, NY 14850\, Ithaca\,\, NY\, 14853\, United States
CATEGORIES:Featured
ATTACH;FMTTYPE=image/png:https://www.downtownithaca.com/wp-content/uploads/imagine-1-facebook-post.png
ORGANIZER;CN="Ithaca City of Asylum":MAILTO:dguaspari@gmail.com
END:VEVENT
END:VCALENDAR