BEGIN:VCALENDAR
VERSION:2.0
PRODID:-//Downtown Ithaca - ECPv6.15.20//NONSGML v1.0//EN
CALSCALE:GREGORIAN
METHOD:PUBLISH
X-ORIGINAL-URL:https://www.downtownithaca.com
X-WR-CALDESC:Events for Downtown Ithaca
REFRESH-INTERVAL;VALUE=DURATION:PT1H
X-Robots-Tag:noindex
X-PUBLISHED-TTL:PT1H
BEGIN:VTIMEZONE
TZID:America/New_York
BEGIN:DAYLIGHT
TZOFFSETFROM:-0500
TZOFFSETTO:-0400
TZNAME:EDT
DTSTART:20250309T070000
END:DAYLIGHT
BEGIN:STANDARD
TZOFFSETFROM:-0400
TZOFFSETTO:-0500
TZNAME:EST
DTSTART:20251102T060000
END:STANDARD
BEGIN:DAYLIGHT
TZOFFSETFROM:-0500
TZOFFSETTO:-0400
TZNAME:EDT
DTSTART:20260308T070000
END:DAYLIGHT
BEGIN:STANDARD
TZOFFSETFROM:-0400
TZOFFSETTO:-0500
TZNAME:EST
DTSTART:20261101T060000
END:STANDARD
BEGIN:DAYLIGHT
TZOFFSETFROM:-0500
TZOFFSETTO:-0400
TZNAME:EDT
DTSTART:20270314T070000
END:DAYLIGHT
BEGIN:STANDARD
TZOFFSETFROM:-0400
TZOFFSETTO:-0500
TZNAME:EST
DTSTART:20271107T060000
END:STANDARD
END:VTIMEZONE
BEGIN:VEVENT
DTSTART;VALUE=DATE:20260427
DTEND;VALUE=DATE:20260504
DTSTAMP:20260421T110113
CREATED:20260122T034520Z
LAST-MODIFIED:20260122T034520Z
UID:10006689-1777248000-1777852799@www.downtownithaca.com
SUMMARY:Old Greeny Fringe Fest
DESCRIPTION:Old Greeny Fringe Fest is a week-long\, fringe festival in celebration of the weird\, wacky\, and whimsical\, rooted in the legend of Old Greeny—the cryptid of Cayuga Lake. The festival activates traditional and non-traditional venues through performances\, installations\, community activities\, and storytelling\, with a strong commitment to sustainability\, accessibility\, and local culture.\nThe festival runs from April 27th to May 3rd at venues near the Waterfront Trail and on State Street. There will be more than 50 events and shows at 14 different venues in Ithaca NY. Events include music\, dance\, theatre\, drag\, burlesque\, circus\, clowning\, as well as crafting and skill-building workshops for all ages!\nCheck out the event website for a full program and details.\nwww.oldgreenyfringefest.com\nTickets to evening shows can be purchased in advance. Daytime events are family-friendly and free to the public! The Cherry Arts is the box office for the festival\, so drop by and pick up a program anytime from April 27th to May 2nd.
URL:https://www.downtownithaca.com/event/old-greeny-fringe-fest/
LOCATION:N
CATEGORIES:Featured
ATTACH;FMTTYPE=image/jpeg:https://www.downtownithaca.com/wp-content/uploads/OGFF-Event-Postings-Images-1.jpg
ORGANIZER;CN="vie cycle":MAILTO:theweddingshowith@gmail.com
END:VEVENT
BEGIN:VEVENT
DTSTART;TZID=America/New_York:20260429T170000
DTEND;TZID=America/New_York:20260429T180000
DTSTAMP:20260421T110113
CREATED:20260416T204520Z
LAST-MODIFIED:20260416T204659Z
UID:10007081-1777482000-1777485600@www.downtownithaca.com
SUMMARY:BIPOC Voices In Romance & Fantasy ✨💖
DESCRIPTION:Join us at Buffalo Street Books to discuss I Accidentally Summoned a Demon Boyfriend joined virtually by author Jessica Cage ˚˖𓍢ִ໋❀
URL:https://www.downtownithaca.com/event/bipoc-voices-in-romance-fantasy-%e2%9c%a8%f0%9f%92%96/
LOCATION:Buffalo Street Books\, 215 N. Cayuga St.\, Ithaca
CATEGORIES:Featured
ATTACH;FMTTYPE=image/png:https://www.downtownithaca.com/wp-content/uploads/Demon-Boyfriend-by-Jessica-Cage-1.png
ORGANIZER;CN="Buffalo Street Books":MAILTO:lisa@buffalostreetbooks.com
END:VEVENT
BEGIN:VEVENT
DTSTART;TZID=America/New_York:20260429T170000
DTEND;TZID=America/New_York:20260429T190000
DTSTAMP:20260421T110113
CREATED:20260303T210941Z
LAST-MODIFIED:20260303T210941Z
UID:10006821-1777482000-1777489200@www.downtownithaca.com
SUMMARY:MAKE YOUR OWN VICTORIAN PUZZLE LETTER @ Orozco Gallery
DESCRIPTION:GALLERY HOURS | 2-5PM\n🗓️ Wednesday\, April 29th | ⏰ 5–7 PM\n📍 115 S Cayuga St\, Ithaca\, NY\n🎟️ Sliding scale | 👨‍👩‍👧‍👦 All ages | Supplies included \n🎨 This April\, Orozco Gallery opens its doors for a month-long pop-up filled with arts & culture in Downtown Ithaca. Featuring artist talks\, live music\, dance\, storytelling\, and hands-on workshops\, this welcoming sober space invites all ages to gather and celebrate the transformative power of art. \nLearn historic folded letter techniques during Orozco Gallery’s month-long pop-up filled with arts & culture. \n💵 Sliding scale (cash or Venmo)\n🥤 N/A drinks available\n♿ Accessible \n🌐 orozcogallery.com / @orozco_gallery – RSVP info: https://forms.gle/QbVYMMwfEcuVkXLMA \nNow more than ever\, art is an act of resistance and renewal — a way to reclaim joy\, foster dialogue\, and strengthen community bonds. This month-long series is organized and founded by community maker\, curator\, and activist Yen Ospina in collaboration with the Latino Civic Association of Tompkins County\, & Latina/o Studies Program at Cornell University.
URL:https://www.downtownithaca.com/event/make-your-own-victorian-puzzle-letter-orozco-gallery/
LOCATION:orozco gallery\, 115 s cayuga st\, ithaca\, 14850
CATEGORIES:Featured
ATTACH;FMTTYPE=image/jpeg:https://www.downtownithaca.com/wp-content/uploads/4_29-victorian-letter.jpg
ORGANIZER;CN="Gallery Orozco Ithaca":MAILTO:ospinayen@gmail.com
END:VEVENT
BEGIN:VEVENT
DTSTART;TZID=America/New_York:20260429T170000
DTEND;TZID=America/New_York:20260429T210000
DTSTAMP:20260421T110113
CREATED:20251208T172404Z
LAST-MODIFIED:20251208T172404Z
UID:10006520-1777482000-1777496400@www.downtownithaca.com
SUMMARY:Rolling With Pride: LGBTQ game night at Riverwood Gifts
DESCRIPTION:join us at Riverwood gifts for a night of fun and board games! Celebrating our LGBTQ community Riverwood is a safe and inclusive place to come hang out and play! Pizza provided by SAL’s pizzeria
URL:https://www.downtownithaca.com/event/rolling-with-pride-lgbtq-game-night-at-riverwood-gifts-2/2026-04-29/
LOCATION:Riverwood\, 116 E State St\, ITHACA\, N\, 14850\, United States
CATEGORIES:Featured
ATTACH;FMTTYPE=image/jpeg:https://www.downtownithaca.com/wp-content/uploads/Rolling-with-Pride-final.jpeg
ORGANIZER;CN="Riverwood":MAILTO:marking@theriverwoodotter.com
END:VEVENT
BEGIN:VEVENT
DTSTART;TZID=America/New_York:20260429T180000
DTEND;TZID=America/New_York:20260429T190000
DTSTAMP:20260421T110113
CREATED:20260417T144302Z
LAST-MODIFIED:20260417T144302Z
UID:10007082-1777485600-1777489200@www.downtownithaca.com
SUMMARY:Queer Horror Book Club - Grey Dog
DESCRIPTION:A fan of queer horror? Looking to get into the genre? Join us for a discussion on Grey Dog\, led by BSB staff member Anamarie. \nBook club attendees get 10% one (1) purchase in-store!
URL:https://www.downtownithaca.com/event/queer-horror-book-club-grey-dog/
LOCATION:Buffalo Street Books\, 215 N. Cayuga St.\, Ithaca
CATEGORIES:Featured
ATTACH;FMTTYPE=image/png:https://www.downtownithaca.com/wp-content/uploads/moonflow-325-2.png
ORGANIZER;CN="Buffalo Street Books":MAILTO:lisa@buffalostreetbooks.com
END:VEVENT
END:VCALENDAR