BEGIN:VCALENDAR
VERSION:2.0
PRODID:-//Downtown Ithaca - ECPv6.15.20//NONSGML v1.0//EN
CALSCALE:GREGORIAN
METHOD:PUBLISH
X-WR-CALNAME:Downtown Ithaca
X-ORIGINAL-URL:https://www.downtownithaca.com
X-WR-CALDESC:Events for Downtown Ithaca
REFRESH-INTERVAL;VALUE=DURATION:PT1H
X-Robots-Tag:noindex
X-PUBLISHED-TTL:PT1H
BEGIN:VTIMEZONE
TZID:America/New_York
BEGIN:DAYLIGHT
TZOFFSETFROM:-0500
TZOFFSETTO:-0400
TZNAME:EDT
DTSTART:20250309T070000
END:DAYLIGHT
BEGIN:STANDARD
TZOFFSETFROM:-0400
TZOFFSETTO:-0500
TZNAME:EST
DTSTART:20251102T060000
END:STANDARD
BEGIN:DAYLIGHT
TZOFFSETFROM:-0500
TZOFFSETTO:-0400
TZNAME:EDT
DTSTART:20260308T070000
END:DAYLIGHT
BEGIN:STANDARD
TZOFFSETFROM:-0400
TZOFFSETTO:-0500
TZNAME:EST
DTSTART:20261101T060000
END:STANDARD
BEGIN:DAYLIGHT
TZOFFSETFROM:-0500
TZOFFSETTO:-0400
TZNAME:EDT
DTSTART:20270314T070000
END:DAYLIGHT
BEGIN:STANDARD
TZOFFSETFROM:-0400
TZOFFSETTO:-0500
TZNAME:EST
DTSTART:20271107T060000
END:STANDARD
END:VTIMEZONE
BEGIN:VEVENT
DTSTART;VALUE=DATE:20260116
DTEND;VALUE=DATE:20260202
DTSTAMP:20260422T015937
CREATED:20260105T175116Z
LAST-MODIFIED:20260105T175118Z
UID:10006675-1768521600-1769990399@www.downtownithaca.com
SUMMARY:The Comfort Food Trail
DESCRIPTION:Downtown Ithaca’s Comfort Food Trail is a cozy winter event running January 16 – February 1 that invites food lovers to explore local restaurants while enjoying warm\, comfort-food dishes around town. Participants scan QR codes at participating eateries to log visits\, collect entries in a digital passport\, and earn chances to win weekly $50 Downtown Ithaca gift cards or the grand prize of a $150 gift card—all while savoring seasonal comfort favorites and supporting local businesses. There’s no separate fee to join; simply order featured items and scan the QR code at each stop to get more chances to win and make your way through Ithaca’s vibrant Downtown dining scene.
URL:https://www.downtownithaca.com/event/the-comfort-food-trail/
CATEGORIES:Featured
ATTACH;FMTTYPE=image/png:https://www.downtownithaca.com/wp-content/uploads/Comfort-Food-Trail-9-Mailchimp.png
ORGANIZER;CN="Downtown Ithaca":MAILTO:Adam@downtownithaca.com
END:VEVENT
BEGIN:VEVENT
DTSTART;TZID=America/New_York:20260128T170000
DTEND;TZID=America/New_York:20260128T190000
DTSTAMP:20260422T015937
CREATED:20260113T200712Z
LAST-MODIFIED:20260113T200712Z
UID:10006682-1769619600-1769626800@www.downtownithaca.com
SUMMARY:Cafe Do What?
DESCRIPTION:Come for an art jam\, stay for the creative juices!\nJoin So What? Studio + Creative Reuse of Ithaca at Cafe Dewitt for an art social! Come by yourself or with a friend to imagine\, play\, tap into that inner child\, and see what happens when you give yourself permission to just have fun being creative in the presence of others. All materials will be provided. Zero experience encouraged! \nSo What? Studio is a new social arts club dedicated to the transformative power of the creative arts to connect community and heal from the inside out. To learn more\, visit @sowhatartclub on Instagram
URL:https://www.downtownithaca.com/event/cafe-do-what/
LOCATION:Cafe DeWitt\, 215 N. Cayuga St.\, Ithaca\, N\, 14850\, United States
CATEGORIES:Featured
ATTACH;FMTTYPE=image/jpeg:https://www.downtownithaca.com/wp-content/uploads/CafeDoWhatSquare.jpg
ORGANIZER;CN="Cafe Dewitt":MAILTO:saoirsemcclory@gmail.com
END:VEVENT
BEGIN:VEVENT
DTSTART;TZID=America/New_York:20260128T190000
DTEND;TZID=America/New_York:20260128T220000
DTSTAMP:20260422T015937
CREATED:20250409T193606Z
LAST-MODIFIED:20250409T193606Z
UID:10004561-1769626800-1769637600@www.downtownithaca.com
SUMMARY:Wednesday Open Mic Night at The Nocturnal Café
DESCRIPTION:The Nocturnal Café (formerly Sacred Root Kava Lounge & Tea Bar) welcomes you to experience our weekly Open Mic Night hosted by a rotating cast of talented local artists. Come on down to share your song or story! Let’s cultivate shared creativity! Showcase your talents and enjoy the experience of creative connection with a welcoming and supportive audience at Ithaca’s only alcohol-free nightlife destination.
URL:https://www.downtownithaca.com/event/wednesday-open-mic-night-at-the-nocturnal-cafe/2026-01-28/
LOCATION:The Nocturnal Café\, 103 S. Geneva St.\, Ithaca\, 14850
CATEGORIES:Featured
ATTACH;FMTTYPE=image/jpeg:https://www.downtownithaca.com/wp-content/uploads/open-mic-SR.jpg
ORGANIZER;CN="The Nocturnal Caf%C3%A9":MAILTO:nocturnalcafeny@gmail.com
END:VEVENT
BEGIN:VEVENT
DTSTART;TZID=America/New_York:20260129T173000
DTEND;TZID=America/New_York:20260129T193000
DTSTAMP:20260422T015937
CREATED:20260103T065050Z
LAST-MODIFIED:20260103T065050Z
UID:10006673-1769707800-1769715000@www.downtownithaca.com
SUMMARY:Book Launch: The Oak and the Larch
DESCRIPTION:Join us to celebrate the book launch of The Oak and the Larch: A Forest History of Russia and its Empires by Sophie Pinkham with conversation and Q&A. \nFrom the Baltic to the Pacific\, from the Arctic to the steppes of Central Asia\, Russia’s forests account for nearly one-fifth of the world’s wooded lands. Sophie Pinkham’s new book “The Oak and the Larch” is the first-ever English-language exploration of this vast expanse—a dazzling environmental history of Russia that offers an urgent new understanding of the nature of Russian power\, and of Russia’s ideas of itself.
URL:https://www.downtownithaca.com/event/book-launch-the-oak-and-the-larch/
LOCATION:Buffalo Street Books\, 215 N. Cayuga St.\, Ithaca
CATEGORIES:Featured
ATTACH;FMTTYPE=image/png:https://www.downtownithaca.com/wp-content/uploads/The-Oak-and-the-Larch-Book-Launch.png
ORGANIZER;CN="Buffalo Street Books":MAILTO:lisa@buffalostreetbooks.com
END:VEVENT
BEGIN:VEVENT
DTSTART;TZID=America/New_York:20260131T140000
DTEND;TZID=America/New_York:20260131T160000
DTSTAMP:20260422T015937
CREATED:20260112T201217Z
LAST-MODIFIED:20260112T201217Z
UID:10006679-1769868000-1769875200@www.downtownithaca.com
SUMMARY:Narrative Poetry & Crafting
DESCRIPTION:Join R.C Lloyd as she discusses narrative poetry in conversation with BSB Staff\, Gabriela Medina + Candle Painting*  at Buffalo Street Books! \n*tickets needed for candle painting
URL:https://www.downtownithaca.com/event/narrative-poetry-crafting/
LOCATION:Buffalo Street Books\, 215 N. Cayuga St.\, Ithaca
CATEGORIES:Featured
ATTACH;FMTTYPE=image/png:https://www.downtownithaca.com/wp-content/uploads/R.C-Lloyd-1.png
ORGANIZER;CN="Buffalo Street Books":MAILTO:lisa@buffalostreetbooks.com
END:VEVENT
END:VCALENDAR