BEGIN:VCALENDAR
VERSION:2.0
PRODID:-//Downtown Ithaca - ECPv6.15.20//NONSGML v1.0//EN
CALSCALE:GREGORIAN
METHOD:PUBLISH
X-ORIGINAL-URL:https://www.downtownithaca.com
X-WR-CALDESC:Events for Downtown Ithaca
REFRESH-INTERVAL;VALUE=DURATION:PT1H
X-Robots-Tag:noindex
X-PUBLISHED-TTL:PT1H
BEGIN:VTIMEZONE
TZID:America/New_York
BEGIN:DAYLIGHT
TZOFFSETFROM:-0500
TZOFFSETTO:-0400
TZNAME:EDT
DTSTART:20250309T070000
END:DAYLIGHT
BEGIN:STANDARD
TZOFFSETFROM:-0400
TZOFFSETTO:-0500
TZNAME:EST
DTSTART:20251102T060000
END:STANDARD
BEGIN:DAYLIGHT
TZOFFSETFROM:-0500
TZOFFSETTO:-0400
TZNAME:EDT
DTSTART:20260308T070000
END:DAYLIGHT
BEGIN:STANDARD
TZOFFSETFROM:-0400
TZOFFSETTO:-0500
TZNAME:EST
DTSTART:20261101T060000
END:STANDARD
BEGIN:DAYLIGHT
TZOFFSETFROM:-0500
TZOFFSETTO:-0400
TZNAME:EDT
DTSTART:20270314T070000
END:DAYLIGHT
BEGIN:STANDARD
TZOFFSETFROM:-0400
TZOFFSETTO:-0500
TZNAME:EST
DTSTART:20271107T060000
END:STANDARD
END:VTIMEZONE
BEGIN:VEVENT
DTSTART;TZID=America/New_York:20260205T120000
DTEND;TZID=America/New_York:20260301T170000
DTSTAMP:20260421T183332
CREATED:20260126T011859Z
LAST-MODIFIED:20260126T011859Z
UID:10006693-1770292800-1772384400@www.downtownithaca.com
SUMMARY:Returning Light.
DESCRIPTION:Please join us this month as fifteen of our artist members celebrate the returning light. The show will feature paintings\, photos\, prints\, and drawings representing a broad spectrum of styles.\nThe show will run from February 5th through March 1st\, 2026. Opening reception Friday\, February 6th\, 5–8pm \nRegular hours Thursday-Sunday 12-5 pm. 120 W State St. Curbside parking and ADA accessibility. 607-277-1626. Made possible in part with funds from the NYS Council on the Arts\, administered by the Community Arts Partnership.
URL:https://www.downtownithaca.com/event/returning-light/
LOCATION:State of the Art Gallery\, 120 W State St #2\, Ithaca\, 14850\, United Kingdom
CATEGORIES:Featured
ATTACH;FMTTYPE=image/jpeg:https://www.downtownithaca.com/wp-content/uploads/2021-10-Porter-PATTY-Last-Light-copy-1.jpeg
ORGANIZER;CN="State of the Art Gallery":MAILTO:gallery@soag.org
END:VEVENT
BEGIN:VEVENT
DTSTART;VALUE=DATE:20260213
DTEND;VALUE=DATE:20260301
DTSTAMP:20260421T183332
CREATED:20260129T015741Z
LAST-MODIFIED:20260129T015741Z
UID:10006698-1770940800-1772323199@www.downtownithaca.com
SUMMARY:Ithaca Loves Teachers
DESCRIPTION:For over 20 years\, Ithaca area attractions\, shops\, and restaurants unite to host a community-wide celebration honoring PreK-12 educators and school staff. The celebration includes events throughout Tompkins County. It’s our way of saying thanks to educators & school staff everywhere for all of your hard work and dedication! The digital pass with the deals will be viewable February 1st. See the website https://www.visitithaca.com/ithaca-loves-teachers/ to get more details or contact info@visitithaca.com
URL:https://www.downtownithaca.com/event/ithaca-loves-teachers-2/
LOCATION:Downtown Ithaca\, United States
CATEGORIES:Featured
ATTACH;FMTTYPE=image/jpeg:https://www.downtownithaca.com/wp-content/uploads/600043160_1445193694280608_9134795798481289950_n_CC7134D9-FD28-716B-09F345CCC8B2BF93_ccc1eda2-e6a7-9e47-a6fdc1c7da84e3b7.jpg
ORGANIZER;CN="Visit Ithaca":MAILTO:info@visitithaca.com
GEO:42.4394279;-76.4969274
END:VEVENT
BEGIN:VEVENT
DTSTART;TZID=America/New_York:20260220T100000
DTEND;TZID=America/New_York:20260312T170000
DTSTAMP:20260421T183332
CREATED:20260219T183448Z
LAST-MODIFIED:20260219T183448Z
UID:10006791-1771581600-1773334800@www.downtownithaca.com
SUMMARY:Handwork Co-op's Winter Seconds Sale
DESCRIPTION:“You don’t want to miss out on Handwork Co-op’s highly anticipated Winter Seconds Sale! Running from February 20th – March 12\nEnjoy a wide range of discounts on artists’ seconds\, slightly imperfect and overstock wares. We get fresh seconds from our artists’ every year. Discounts range from 10% to 75% off. This includes candles\, pottery\, fiber arts\, woodcraft\, jewelry\, glass\, wall art\, and so much more.\nWhat’s on Sale:\nArtist’s Seconds that are slightly imperfect or overstock from the previous year – still full of charm\, totally unique and beautiful.\nThese items are priced to sell – out with the old and in with the new! Sale includes work from our local artists\, New York State artists\, and beyond.\nHow to Shop:\nOur seconds sale is in-store only but we offer more than one way to shop: E-mail our staff at HandworkOnlineShop@gmail.com to request photos of our shelves and shop the sale from afar. Be sure to follow us on Instagram to see what we’re posting there from the sale.\nWinter Store Hours:\nMon-Sat: 10-5\nSunday: 11-5
URL:https://www.downtownithaca.com/event/handwork-co-ops-winter-seconds-sale/
LOCATION:Handwork\, 102 West State Street\, Ithaca\, N\, 14850\, United States
CATEGORIES:Featured
ATTACH;FMTTYPE=image/png:https://www.downtownithaca.com/wp-content/uploads/WINTER-2NDS-SALE-1-3-1.png
ORGANIZER;CN="Handwork":MAILTO:HandworkMPC@gmail.com
END:VEVENT
BEGIN:VEVENT
DTSTART;TZID=America/New_York:20260222T140000
DTEND;TZID=America/New_York:20260222T160000
DTSTAMP:20260421T183332
CREATED:20260217T054007Z
LAST-MODIFIED:20260217T054007Z
UID:10006729-1771768800-1771776000@www.downtownithaca.com
SUMMARY:A Celebration of Archie Ammons's 100th Birthday
DESCRIPTION:A Celebration of Archie Ammons’s 100th Birthday\nI’m envisioning a gathering of friends\, students\, and admirers of the poet A. R. Ammons on the occasion of his 100th birthday (Feb. 18).  Attendees will be encouraged to bring their favorite Ammons poems to share.  Poems inspired by or addressed to Ammons will also be welcome\, along with reminiscences and reflections.  If time permits\, I can play recordings of Ammons reading his poems\, and share stories from my upcoming biography of the poet.   \nPlease join us on Sunday\, February 22\, from 2 to 4 at Buffalo Street Books for an informal gathering in celebration of Ithaca poet Archie Ammons’s 100th birthday.  Recipient of a host of honors\, from the National Book Award to the Bollingen Prize\, Ammons is widely regarded as one of the great poets of the later 20th century.  Participants are invited to bring a favorite Ammons poem to read (or a poem of their own in tribute to him).  We’ll exchange stories and reminiscences\, and\, time permitting\, Roger Gilbert will share a highlight or two from his almost-completed biography of the poet.
URL:https://www.downtownithaca.com/event/a-celebration-of-archie-ammonss-100th-birthday/
LOCATION:Buffalo Street Books\, 215 N. Cayuga St.\, Ithaca
CATEGORIES:Featured
ATTACH;FMTTYPE=image/png:https://www.downtownithaca.com/wp-content/uploads/Archie-Ammons-Celebration.png
ORGANIZER;CN="Buffalo Street Books":MAILTO:lisa@buffalostreetbooks.com
END:VEVENT
BEGIN:VEVENT
DTSTART;TZID=America/New_York:20260225T160000
DTEND;TZID=America/New_York:20260225T173000
DTSTAMP:20260421T183332
CREATED:20260202T033428Z
LAST-MODIFIED:20260202T033428Z
UID:10006701-1772035200-1772040600@www.downtownithaca.com
SUMMARY:LET’S READ + TALK ABOUT CLIMATE – CLIMATE LIT DISCUSSION GROUP
DESCRIPTION:Community-led conversations about climate change\, as we discuss “Climate Leviathan: A Political Theory of Our Planetary Future and Psalm for the Wild Built.” \nClimate Literature Book Discussions meets the fourth Wednesday of the month. See 2026 titles here. \nShop with us for 10% off these titles!
URL:https://www.downtownithaca.com/event/lets-read-talk-about-climate-climate-lit-discussion-group-3/
LOCATION:Buffalo Street Books\, 215 N. Cayuga St.\, Ithaca
CATEGORIES:Featured
ORGANIZER;CN="Buffalo Street Books":MAILTO:lisa@buffalostreetbooks.com
END:VEVENT
BEGIN:VEVENT
DTSTART;TZID=America/New_York:20260225T170000
DTEND;TZID=America/New_York:20260225T190000
DTSTAMP:20260421T183332
CREATED:20260210T201459Z
LAST-MODIFIED:20260210T201459Z
UID:10006723-1772038800-1772046000@www.downtownithaca.com
SUMMARY:Cafe Do What?
DESCRIPTION:Join So What? Studio + Creative Reuse of Ithaca at Cafe Dewitt for an art social!  Come by yourself or with a friend to imagine\, play\, tap into that inner child\, and see what happens when you give yourself permission to just have fun being creative in the presence of others. All materials will be provided. Zero experience encouraged!
URL:https://www.downtownithaca.com/event/cafe-do-what-2/2026-02-25/
LOCATION:Cafe DeWitt\, 215 N. Cayuga St.\, Ithaca\, N\, 14850\, United States
CATEGORIES:Featured
ATTACH;FMTTYPE=image/png:https://www.downtownithaca.com/wp-content/uploads/CDW_2.png
ORGANIZER;CN="So What? Studio":MAILTO:hello@sowhatsocialclub.com
END:VEVENT
BEGIN:VEVENT
DTSTART;TZID=America/New_York:20260225T190000
DTEND;TZID=America/New_York:20260225T220000
DTSTAMP:20260421T183332
CREATED:20250409T193606Z
LAST-MODIFIED:20250409T193606Z
UID:10004565-1772046000-1772056800@www.downtownithaca.com
SUMMARY:Wednesday Open Mic Night at The Nocturnal Café
DESCRIPTION:The Nocturnal Café (formerly Sacred Root Kava Lounge & Tea Bar) welcomes you to experience our weekly Open Mic Night hosted by a rotating cast of talented local artists. Come on down to share your song or story! Let’s cultivate shared creativity! Showcase your talents and enjoy the experience of creative connection with a welcoming and supportive audience at Ithaca’s only alcohol-free nightlife destination.
URL:https://www.downtownithaca.com/event/wednesday-open-mic-night-at-the-nocturnal-cafe/2026-02-25/
LOCATION:The Nocturnal Café\, 103 S. Geneva St.\, Ithaca\, 14850
CATEGORIES:Featured
ATTACH;FMTTYPE=image/jpeg:https://www.downtownithaca.com/wp-content/uploads/open-mic-SR.jpg
ORGANIZER;CN="The Nocturnal Caf%C3%A9":MAILTO:nocturnalcafeny@gmail.com
END:VEVENT
BEGIN:VEVENT
DTSTART;TZID=America/New_York:20260227T170000
DTEND;TZID=America/New_York:20260227T183000
DTSTAMP:20260421T183332
CREATED:20260122T035032Z
LAST-MODIFIED:20260205T220023Z
UID:10006685-1772211600-1772217000@www.downtownithaca.com
SUMMARY:A Single Excellent Night: Conversation with Lee Carlson
DESCRIPTION:Join us for an in-depth conversation with journalist\, author and Zen practitioner Lee Carlson and his new book A Single Excellent Night at Buffalo Street Books!
URL:https://www.downtownithaca.com/event/a-single-excellent-night-conversation-with-lee-carlson/
LOCATION:Buffalo Street Books\, 215 N. Cayuga St.\, Ithaca
CATEGORIES:Featured
ATTACH;FMTTYPE=image/png:https://www.downtownithaca.com/wp-content/uploads/Lee-Carlson.png
ORGANIZER;CN="Buffalo Street Books":MAILTO:lisa@buffalostreetbooks.com
END:VEVENT
BEGIN:VEVENT
DTSTART;TZID=America/New_York:20260227T180000
DTEND;TZID=America/New_York:20260227T203000
DTSTAMP:20260421T183332
CREATED:20260127T022806Z
LAST-MODIFIED:20260127T022806Z
UID:10006695-1772215200-1772224200@www.downtownithaca.com
SUMMARY:Figure Drawing Friday at CSMA
DESCRIPTION:Drop in for a figure drawing session at CSMA\, generally held on the 2nd and 4th Friday evenings of each month! If you’re an intermediate or advanced-level artist interested in drawing from the nude model\, come join our non-instructed\, open sketch sessions. Just grab your own supplies and enjoy an evening of creativity in the company of other artists.
URL:https://www.downtownithaca.com/event/figure-drawing-friday-at-csma-2/
LOCATION:Community School of Music and Arts\, 330 East State Street\, Ithaca
CATEGORIES:Featured
ATTACH;FMTTYPE=image/png:https://www.downtownithaca.com/wp-content/uploads/figure-drawing-fridays-9.png
ORGANIZER;CN="Community School of Music &amp%3B Arts":MAILTO:info@csma-ithaca.org
END:VEVENT
BEGIN:VEVENT
DTSTART;TZID=America/New_York:20260228T110000
DTEND;TZID=America/New_York:20260228T170000
DTSTAMP:20260421T183332
CREATED:20260223T221013Z
LAST-MODIFIED:20260223T221013Z
UID:10006796-1772276400-1772298000@www.downtownithaca.com
SUMMARY:Fibers Reimagined Reopening Event
DESCRIPTION:Fibers Ithaca is celebrating its Reimagined Reopening with a special event at Dewitt Mall. \nStop by on Saturday\, February 28 from 11:00 AM to 5:00 PM to explore the refreshed shop and discover a curated collection of local artisan designs. Fibers Ithaca is reopening with a slightly smaller footprint while continuing to offer the thoughtfully selected goods the community knows and loves. \nFeatured items include Marimekko jackets\, bags\, home goods\, jewelry\, kids clothing\, stuffed animals\, silk scarves\, pillows\, fun socks\, and versatile pashminas. \nJoin us in welcoming Fibers back to Dewitt Mall and experience the reimagined space.
URL:https://www.downtownithaca.com/event/fibers-reimagined-reopening-event/
LOCATION:Fibers\, 215 N. Cayuga St.\, Ithaca\, NY
CATEGORIES:Featured
ATTACH;FMTTYPE=image/jpeg:https://www.downtownithaca.com/wp-content/uploads/IMG_9395.jpeg
ORGANIZER;CN="LocalFiber":MAILTO:president@localfiber.org
END:VEVENT
BEGIN:VEVENT
DTSTART;TZID=America/New_York:20260228T140000
DTEND;TZID=America/New_York:20260228T160000
DTSTAMP:20260421T183332
CREATED:20260211T034834Z
LAST-MODIFIED:20260211T034834Z
UID:10006724-1772287200-1772294400@www.downtownithaca.com
SUMMARY:3rd Annual Ithaca Experimental Film Festival
DESCRIPTION:Join us for the 3rd Annual Ithaca Experimental Film Festival (ITHEX). ITHEX provides a platform for bold\, unconventional films. From documentaries and animation to non-traditional narratives\, we showcase work that pushes creative boundaries. Our mission is to create a space where filmmakers can screen their films\, share ideas\, and connect with a community that values diversity\, experimentation\, and DIY filmmaking. \nIthaca Experimental Film Festival presents\, Block #2: A Spiritual Awakening [72 minutes]. Exploring the spaces between life\, death\, and belief\, and the transformative experiences that unfold along the way. \nArtists / Films:\n• Casino — Izzy Leung\n• Blue Spruce — Zacry Spears\n• A Telephone for God — Nicky Tavares\n• A Weak & Panicked Animal — Jake Starr\n• Aftertide — Kaiwen Ren\n• Summon a Seer — Alan Medina\n• The Phalanx — Ben Balcom \nAND \nBlock #3: A Desire to Remember [77 minutes]. Through the filmmaker’s lens\, memories\, families\, and fleeting moments are captured. \nArtists / Films:\n• Hold My Hand — Sophie Sherman\n• a film with sound (take three) — Josh Weissbach\n• N/A (Not Available) — Rob Orlowski\, Martha Orlowski\n• Shotgun Baby — Lorraine Sovern\n• imPERMANENCE — Grace DeGeorge\n• Dance Film — Kelly Gallagher\n• Google Search History — Victoria Guillem\n• untld_myselfastheoldercalculator — Leonardo Severino\n• Suave Mar — Sara N. Santos
URL:https://www.downtownithaca.com/event/3rd-annual-ithaca-experimental-film-festival/2026-02-28/1/
LOCATION:Cinemapolis\, 120 W Green St\, Ithaca\, 14850
CATEGORIES:Featured
ATTACH;FMTTYPE=image/png:https://www.downtownithaca.com/wp-content/uploads/5X7-CARD-FRONT-ITHEX.png
ORGANIZER;CN="Ithaca Experimental Film Festival":MAILTO:ithacaexperimentalfilmfestival@gmail.com
END:VEVENT
BEGIN:VEVENT
DTSTART;TZID=America/New_York:20260228T180000
DTEND;TZID=America/New_York:20260228T200000
DTSTAMP:20260421T183332
CREATED:20260211T034834Z
LAST-MODIFIED:20260211T034834Z
UID:10006725-1772301600-1772308800@www.downtownithaca.com
SUMMARY:3rd Annual Ithaca Experimental Film Festival
DESCRIPTION:Join us for the 3rd Annual Ithaca Experimental Film Festival (ITHEX). ITHEX provides a platform for bold\, unconventional films. From documentaries and animation to non-traditional narratives\, we showcase work that pushes creative boundaries. Our mission is to create a space where filmmakers can screen their films\, share ideas\, and connect with a community that values diversity\, experimentation\, and DIY filmmaking. \nIthaca Experimental Film Festival presents\, Block #2: A Spiritual Awakening [72 minutes]. Exploring the spaces between life\, death\, and belief\, and the transformative experiences that unfold along the way. \nArtists / Films:\n• Casino — Izzy Leung\n• Blue Spruce — Zacry Spears\n• A Telephone for God — Nicky Tavares\n• A Weak & Panicked Animal — Jake Starr\n• Aftertide — Kaiwen Ren\n• Summon a Seer — Alan Medina\n• The Phalanx — Ben Balcom \nAND \nBlock #3: A Desire to Remember [77 minutes]. Through the filmmaker’s lens\, memories\, families\, and fleeting moments are captured. \nArtists / Films:\n• Hold My Hand — Sophie Sherman\n• a film with sound (take three) — Josh Weissbach\n• N/A (Not Available) — Rob Orlowski\, Martha Orlowski\n• Shotgun Baby — Lorraine Sovern\n• imPERMANENCE — Grace DeGeorge\n• Dance Film — Kelly Gallagher\n• Google Search History — Victoria Guillem\n• untld_myselfastheoldercalculator — Leonardo Severino\n• Suave Mar — Sara N. Santos
URL:https://www.downtownithaca.com/event/3rd-annual-ithaca-experimental-film-festival/2026-02-28/2/
LOCATION:Cinemapolis\, 120 W Green St\, Ithaca\, 14850
CATEGORIES:Featured
ATTACH;FMTTYPE=image/png:https://www.downtownithaca.com/wp-content/uploads/5X7-CARD-FRONT-ITHEX.png
ORGANIZER;CN="Ithaca Experimental Film Festival":MAILTO:ithacaexperimentalfilmfestival@gmail.com
END:VEVENT
END:VCALENDAR