BEGIN:VCALENDAR
VERSION:2.0
PRODID:-//Downtown Ithaca - ECPv6.15.20//NONSGML v1.0//EN
CALSCALE:GREGORIAN
METHOD:PUBLISH
X-WR-CALNAME:Downtown Ithaca
X-ORIGINAL-URL:https://www.downtownithaca.com
X-WR-CALDESC:Events for Downtown Ithaca
REFRESH-INTERVAL;VALUE=DURATION:PT1H
X-Robots-Tag:noindex
X-PUBLISHED-TTL:PT1H
BEGIN:VTIMEZONE
TZID:America/New_York
BEGIN:DAYLIGHT
TZOFFSETFROM:-0500
TZOFFSETTO:-0400
TZNAME:EDT
DTSTART:20250309T070000
END:DAYLIGHT
BEGIN:STANDARD
TZOFFSETFROM:-0400
TZOFFSETTO:-0500
TZNAME:EST
DTSTART:20251102T060000
END:STANDARD
BEGIN:DAYLIGHT
TZOFFSETFROM:-0500
TZOFFSETTO:-0400
TZNAME:EDT
DTSTART:20260308T070000
END:DAYLIGHT
BEGIN:STANDARD
TZOFFSETFROM:-0400
TZOFFSETTO:-0500
TZNAME:EST
DTSTART:20261101T060000
END:STANDARD
BEGIN:DAYLIGHT
TZOFFSETFROM:-0500
TZOFFSETTO:-0400
TZNAME:EDT
DTSTART:20270314T070000
END:DAYLIGHT
BEGIN:STANDARD
TZOFFSETFROM:-0400
TZOFFSETTO:-0500
TZNAME:EST
DTSTART:20271107T060000
END:STANDARD
END:VTIMEZONE
BEGIN:VEVENT
DTSTART;TZID=America/New_York:20260305T120000
DTEND;TZID=America/New_York:20260329T170000
DTSTAMP:20260421T123409
CREATED:20260217T154545Z
LAST-MODIFIED:20260217T154545Z
UID:10006731-1772712000-1774803600@www.downtownithaca.com
SUMMARY:Gratitude in Detail: Paintings Inspired by Nature. Darcy Binns and Cindy Kaufman
DESCRIPTION:Inspired by her daily walks\, Darcy Binns’s paintings on up-cycled cardboard strive to find a balance between abstraction and realism. \nPainting in an abstract\, illustrative style\, Cindy Kaufman’s paintings capture the colors\, light\, and movement seen in nature.\n The show will run from March 5th through March 29th\, 2026. Opening reception Friday\, March 6th\, 5–8pm.
URL:https://www.downtownithaca.com/event/gratitude-in-detail-paintings-inspired-by-nature-darcy-binns-and-cindy-kaufman/
LOCATION:State of the Art Gallery\, 120 W State St #2\, Ithaca\, 14850\, United Kingdom
CATEGORIES:Featured
ATTACH;FMTTYPE=image/jpeg:https://www.downtownithaca.com/wp-content/uploads/cindy-kaufman-and-darcy-binns-paintings.jpg
ORGANIZER;CN="State of the Art Gallery":MAILTO:gallery@soag.org
END:VEVENT
BEGIN:VEVENT
DTSTART;TZID=America/New_York:20260329T140000
DTEND;TZID=America/New_York:20260329T150000
DTSTAMP:20260421T123409
CREATED:20260322T200201Z
LAST-MODIFIED:20260322T200201Z
UID:10006968-1774792800-1774796400@www.downtownithaca.com
SUMMARY:Readings & Conversation on Art\, Grief\, and Gratitude
DESCRIPTION:Darcy Binns and Patty Brown will read from their art books .
URL:https://www.downtownithaca.com/event/readings-conversation-on-art-grief-and-gratitude/
LOCATION:State of the Art Gallery\, 120 W State St #2\, Ithaca\, 14850\, United Kingdom
CATEGORIES:Featured
ATTACH;FMTTYPE=image/jpeg:https://www.downtownithaca.com/wp-content/uploads/cindy-kaufman-and-darcy-binns-paintings-copy.jpeg
ORGANIZER;CN="State of the Art Gallery":MAILTO:gallery@soag.org
END:VEVENT
BEGIN:VEVENT
DTSTART;TZID=America/New_York:20260329T140000
DTEND;TZID=America/New_York:20260329T173000
DTSTAMP:20260421T123409
CREATED:20260317T194831Z
LAST-MODIFIED:20260317T194831Z
UID:10006883-1774792800-1774805400@www.downtownithaca.com
SUMMARY:Theatre Incognita presents ANGELS IN AMERICA\, PT 1: MILLENNIUM APPROACHES
DESCRIPTION:America in the mid-1980s. In the midst of the AIDS crisis and a conservative Reagan administration\, six New Yorkers with interconnected lives grapple with life and death\, love and sex\, heaven and hell. \nTheatre Incognita is proud to present Tony Kushner’s ANGELS IN AMERICA\, PT. 1: MILLENNIUM APPROACHES in collaboration with Kitchen Theatre Company’s Kitchen Sink Series. \nPerformances are at 7 pm Friday & Saturday\, March 27 & 28\, 2 pm Sunday March 29\, and 7pm Wednesday April 1 – Saturday April 4\, with a closing matinee Sunday April 5 at 2 pm. kitchentheatre.org for tickets \nKushner’s epic two-part drama about AIDS\, queer life\, national politics\, and so much more\, received the 1993 Pulitzer\, as well as the Tony Award for Best Play (as did its 2017 revival). Widely perceived as one of the greatest plays of the later 20th century\, in it’s still young 35 year history\, Angels continues to astonish and reverberate. \nIncognita’s cast is led by Seth Koproski as Prior Walter\, Daniel S. Baruch as Louis\, Eric Hambury as Joe\, Elizabeth Seldin as Harper\, Erik Lucas as Roy Cohn\, McDonald Morris as Belize\, Karen Veaner as Hannah/Ethel Rosenberg\, and Meg Elliott as the Angel and others. Completing the cast are local favorites G-Quan Booker\, Lindsey Cahoon\, Cortney “CJ” Johnson\, and Andrew Hertzberg. \nArtistic Director Ross Haarstad stages the production\, joined by Oliver Canales Greenwood as Scenic and Lighting Designer\, Sarah Marks Bechtel as Costume Designer and Zeke A.B. Lawrence as Sound Designer. Priscilla Hummel serves as Intimacy Director.
URL:https://www.downtownithaca.com/event/theatre-incognita-presents-angels-in-america-pt-1-millennium-approaches/2026-03-29/
LOCATION:Kitchen Theatre Company\, 417 W State Street\, Ithaca\, 14850
CATEGORIES:Featured
ATTACH;FMTTYPE=image/png:https://www.downtownithaca.com/wp-content/uploads/angels-postcard-1.png
ORGANIZER;CN="Theatre Incognita":MAILTO:info@theatreincognita.org
END:VEVENT
BEGIN:VEVENT
DTSTART;TZID=America/New_York:20260329T160000
DTEND;TZID=America/New_York:20260329T190000
DTSTAMP:20260421T123409
CREATED:20260326T134946Z
LAST-MODIFIED:20260326T134946Z
UID:10006972-1774800000-1774810800@www.downtownithaca.com
SUMMARY:Sunday Fungay\, Trivia Edition! Queer Trivia in Room K at K-House with T41 and Tilia Cordata
DESCRIPTION:Dust off your thinking caps for this special Sunday Funday!! Come on down to Room K – Home of QSpace – Where T41’s Gina will be on the mic queery-ing you all on your common knowledge and queer smarts. With performances by Tilia Cordata between each round! \n$10 to play (discounts for QPass Members) \nMarch 29th\, 4:00 – 7:00\nHappy hour social 4:00-5:00 with trivia starting at 5:00
URL:https://www.downtownithaca.com/event/sunday-fungay-trivia-edition-queer-trivia-in-room-k-at-k-house-with-t41-and-tilia-cordata/
LOCATION:K-House Karaoke & Arts Hub\, 121 W Martin Luther King Jr St\, Ithaca\, 14850
CATEGORIES:Featured
ATTACH;FMTTYPE=image/jpeg:https://www.downtownithaca.com/wp-content/uploads/SundayFungay.jpeg
ORGANIZER;CN="QSpace":MAILTO:marketingkhouse@gmail.com
END:VEVENT
BEGIN:VEVENT
DTSTART;VALUE=DATE:20260330
DTEND;VALUE=DATE:20260406
DTSTAMP:20260421T123409
CREATED:20260323T190745Z
LAST-MODIFIED:20260323T190745Z
UID:10006970-1774828800-1775433599@www.downtownithaca.com
SUMMARY:Downtown Ithaca Egg Hunt
DESCRIPTION:Celebrate spring with a self-guided egg hunt across Downtown Ithaca. Explore participating businesses\, discover hidden eggs\, and win prizes along the way! Inside each egg is a treat\, prize\, or raffle ticket. On Monday\, April 6\, the winning raffle ticket number will be posted on our social media @downtownithaca\, so be sure to keep an eye out!
URL:https://www.downtownithaca.com/event/downtown-ithaca-egg-hunt-2/
LOCATION:Downtown Ithaca\, United States
CATEGORIES:Featured
ATTACH;FMTTYPE=image/png:https://www.downtownithaca.com/wp-content/uploads/EggHuntPic.png
ORGANIZER;CN="Downtown Ithaca":MAILTO:Adam@downtownithaca.com
GEO:42.4394279;-76.4969274
END:VEVENT
BEGIN:VEVENT
DTSTART;TZID=America/New_York:20260330T190000
DTEND;TZID=America/New_York:20260330T210000
DTSTAMP:20260421T123409
CREATED:20260312T153908Z
LAST-MODIFIED:20260312T153908Z
UID:10006867-1774897200-1774904400@www.downtownithaca.com
SUMMARY:So What? Studio presents Creative Recess!
DESCRIPTION:Join So What? Studio for its first Creative Recess: Game Night! \nDo you enjoy Pictionary? Quick Draw? Exquisite Corpse? Join So What? Studio for a heated rivalry between oodles of doodles – we’ll be gathering for an evening of art and drawing based games. Materials will be provided and zero experience encouraged!  \nSo What? Studio is a new social arts club dedicated to the transformative power of the creative arts to connect community and heal from the inside out. To learn more\, visit @sowhatartclub on Instagram or www.sowhatsocialclub.com
URL:https://www.downtownithaca.com/event/so-what-studio-presents-creative-recess/
LOCATION:The Nocturnal Café\, 103 S. Geneva St.\, Ithaca\, 14850
CATEGORIES:Featured
ATTACH;FMTTYPE=image/png:https://www.downtownithaca.com/wp-content/uploads/so_What_studio_presents_creative_recess_game_night_a_heated_rivalry_of_oodles_of_doodles.png
ORGANIZER;CN="So What? Studio":MAILTO:hello@sowhatsocialclub.com
END:VEVENT
BEGIN:VEVENT
DTSTART;TZID=America/New_York:20260331T180000
DTEND;TZID=America/New_York:20260331T190000
DTSTAMP:20260421T123409
CREATED:20260220T205839Z
LAST-MODIFIED:20260224T152853Z
UID:10006794-1774980000-1774983600@www.downtownithaca.com
SUMMARY:Breaking the Banyard Barrier
DESCRIPTION:Join author & large animal veterinarian\, Linda Rhodes in conversation with Cornell University graduate & local large animal veterinarian\, Dr. Paul Coen as they discuss Breaking the Banyard Barrier.
URL:https://www.downtownithaca.com/event/breaking-the-banyard-barrier/
LOCATION:Buffalo Street Books\, 215 N. Cayuga St.\, Ithaca
CATEGORIES:Featured
ATTACH;FMTTYPE=image/png:https://www.downtownithaca.com/wp-content/uploads/Linda-Rhodes.png
ORGANIZER;CN="Buffalo Street Books":MAILTO:lisa@buffalostreetbooks.com
END:VEVENT
BEGIN:VEVENT
DTSTART;TZID=America/New_York:20260331T180000
DTEND;TZID=America/New_York:20260331T190000
DTSTAMP:20260421T123409
CREATED:20260315T015629Z
LAST-MODIFIED:20260315T015629Z
UID:10006870-1774980000-1774983600@www.downtownithaca.com
SUMMARY:Breaking the Banyard Barrier
DESCRIPTION:Join author & large animal veterinarian\, Linda Rhodes in conversation with Cornell University graduate & local large animal veterinarian\, Dr. Paul Coen as they discuss Breaking the Banyard Barrier.
URL:https://www.downtownithaca.com/event/breaking-the-banyard-barrier-2/
LOCATION:Buffalo Street Books\, 215 N. Cayuga St.\, Ithaca
CATEGORIES:Featured
ATTACH;FMTTYPE=image/png:https://www.downtownithaca.com/wp-content/uploads/linda-rhodes_0.png
ORGANIZER;CN="Buffalo Street Books":MAILTO:lisa@buffalostreetbooks.com
END:VEVENT
BEGIN:VEVENT
DTSTART;TZID=America/New_York:20260401T170000
DTEND;TZID=America/New_York:20260401T180000
DTSTAMP:20260421T123409
CREATED:20260315T015253Z
LAST-MODIFIED:20260315T015253Z
UID:10006871-1775062800-1775066400@www.downtownithaca.com
SUMMARY:Read-A-long: "I Accidentally Summoned a Demon Boyfriend" by Jessica Cage
DESCRIPTION:Come join us for a read along of I Accidentally Summoned a Demon Boyfriend by Jessica Cage !!!
URL:https://www.downtownithaca.com/event/read-a-long-i-accidentally-summoned-a-demon-boyfriend-by-jessica-cage/
LOCATION:Buffalo Street Books\, 215 N. Cayuga St.\, Ithaca
CATEGORIES:Featured
ATTACH;FMTTYPE=image/png:https://www.downtownithaca.com/wp-content/uploads/Read-A-long.png
ORGANIZER;CN="Buffalo Street Books":MAILTO:lisa@buffalostreetbooks.com
END:VEVENT
BEGIN:VEVENT
DTSTART;TZID=America/New_York:20260401T170000
DTEND;TZID=America/New_York:20260401T210000
DTSTAMP:20260421T123409
CREATED:20251208T172404Z
LAST-MODIFIED:20251208T172404Z
UID:10006518-1775062800-1775077200@www.downtownithaca.com
SUMMARY:Rolling With Pride: LGBTQ game night at Riverwood Gifts
DESCRIPTION:join us at Riverwood gifts for a night of fun and board games! Celebrating our LGBTQ community Riverwood is a safe and inclusive place to come hang out and play! Pizza provided by SAL’s pizzeria
URL:https://www.downtownithaca.com/event/rolling-with-pride-lgbtq-game-night-at-riverwood-gifts-2/2026-04-01/
LOCATION:Riverwood\, 116 E State St\, ITHACA\, N\, 14850\, United States
CATEGORIES:Featured
ATTACH;FMTTYPE=image/jpeg:https://www.downtownithaca.com/wp-content/uploads/Rolling-with-Pride-final.jpeg
ORGANIZER;CN="Riverwood":MAILTO:marking@theriverwoodotter.com
END:VEVENT
BEGIN:VEVENT
DTSTART;TZID=America/New_York:20260401T190000
DTEND;TZID=America/New_York:20260401T223000
DTSTAMP:20260421T123409
CREATED:20260317T194831Z
LAST-MODIFIED:20260317T194831Z
UID:10006884-1775070000-1775082600@www.downtownithaca.com
SUMMARY:Theatre Incognita presents ANGELS IN AMERICA\, PT 1: MILLENNIUM APPROACHES
DESCRIPTION:America in the mid-1980s. In the midst of the AIDS crisis and a conservative Reagan administration\, six New Yorkers with interconnected lives grapple with life and death\, love and sex\, heaven and hell. \nTheatre Incognita is proud to present Tony Kushner’s ANGELS IN AMERICA\, PT. 1: MILLENNIUM APPROACHES in collaboration with Kitchen Theatre Company’s Kitchen Sink Series. \nPerformances are at 7 pm Friday & Saturday\, March 27 & 28\, 2 pm Sunday March 29\, and 7pm Wednesday April 1 – Saturday April 4\, with a closing matinee Sunday April 5 at 2 pm. kitchentheatre.org for tickets \nKushner’s epic two-part drama about AIDS\, queer life\, national politics\, and so much more\, received the 1993 Pulitzer\, as well as the Tony Award for Best Play (as did its 2017 revival). Widely perceived as one of the greatest plays of the later 20th century\, in it’s still young 35 year history\, Angels continues to astonish and reverberate. \nIncognita’s cast is led by Seth Koproski as Prior Walter\, Daniel S. Baruch as Louis\, Eric Hambury as Joe\, Elizabeth Seldin as Harper\, Erik Lucas as Roy Cohn\, McDonald Morris as Belize\, Karen Veaner as Hannah/Ethel Rosenberg\, and Meg Elliott as the Angel and others. Completing the cast are local favorites G-Quan Booker\, Lindsey Cahoon\, Cortney “CJ” Johnson\, and Andrew Hertzberg. \nArtistic Director Ross Haarstad stages the production\, joined by Oliver Canales Greenwood as Scenic and Lighting Designer\, Sarah Marks Bechtel as Costume Designer and Zeke A.B. Lawrence as Sound Designer. Priscilla Hummel serves as Intimacy Director.
URL:https://www.downtownithaca.com/event/theatre-incognita-presents-angels-in-america-pt-1-millennium-approaches/2026-04-01/
LOCATION:Kitchen Theatre Company\, 417 W State Street\, Ithaca\, 14850
CATEGORIES:Featured
ATTACH;FMTTYPE=image/png:https://www.downtownithaca.com/wp-content/uploads/angels-postcard-1.png
ORGANIZER;CN="Theatre Incognita":MAILTO:info@theatreincognita.org
END:VEVENT
BEGIN:VEVENT
DTSTART;TZID=America/New_York:20260402T180000
DTEND;TZID=America/New_York:20260402T200000
DTSTAMP:20260421T123410
CREATED:20260327T151318Z
LAST-MODIFIED:20260327T151318Z
UID:10006977-1775152800-1775160000@www.downtownithaca.com
SUMMARY:Old Greeny Preview Show
DESCRIPTION:Old Greeny Fringe Fest is bubbling up in Ithaca this April. Come see a sneak preview of the events to know what you’re in for!\nThe Fringe Fest is a 7-day variety show with more than 60 events at venues throughout Ithaca NY.\nTo learn more about the festival visit www.oldgreenyfringefest.com\nThe preview show is from 6pm-8pm at Liquid State Brewing and it’s free!\nThe MC for the evening\, Sir Kenneth McLaurin from Comedy on The Commons will introduce the 7 (of the 35) event producers who are participating in this years Fringe! Check out a 10 minute sneak peak of their event\, grab a drink from the bar and get psyched for Old Greeny Fringe Fest!\nEvent previews include:\na secret special guest…and\nComedyFLOPS Presents: Extremely Green\nI’m going to Die (And All They Gave Me Were These Lousy Cup Cakes) by LibLab Productions\nYou Can Do it Show by Red Tie Variety\nSerpents\, Fingers\, Clouds\, Oh My! by Jennifer Amani\nThe Ballad of Old Greeny by Leo Sussman\nTubman’s Shadow by Kenneth McLaurin
URL:https://www.downtownithaca.com/event/old-greeny-preview-show/
LOCATION:Liquid State Brewery\, 620 W. Green St.\, Ithaca
CATEGORIES:Featured
ATTACH;FMTTYPE=image/png:https://www.downtownithaca.com/wp-content/uploads/Old-Greeny-Fringe-Fest.png
ORGANIZER;CN="vie cycle":MAILTO:theweddingshowith@gmail.com
END:VEVENT
BEGIN:VEVENT
DTSTART;TZID=America/New_York:20260402T190000
DTEND;TZID=America/New_York:20260402T223000
DTSTAMP:20260421T123410
CREATED:20260317T194831Z
LAST-MODIFIED:20260317T194831Z
UID:10006885-1775156400-1775169000@www.downtownithaca.com
SUMMARY:Theatre Incognita presents ANGELS IN AMERICA\, PT 1: MILLENNIUM APPROACHES
DESCRIPTION:America in the mid-1980s. In the midst of the AIDS crisis and a conservative Reagan administration\, six New Yorkers with interconnected lives grapple with life and death\, love and sex\, heaven and hell. \nTheatre Incognita is proud to present Tony Kushner’s ANGELS IN AMERICA\, PT. 1: MILLENNIUM APPROACHES in collaboration with Kitchen Theatre Company’s Kitchen Sink Series. \nPerformances are at 7 pm Friday & Saturday\, March 27 & 28\, 2 pm Sunday March 29\, and 7pm Wednesday April 1 – Saturday April 4\, with a closing matinee Sunday April 5 at 2 pm. kitchentheatre.org for tickets \nKushner’s epic two-part drama about AIDS\, queer life\, national politics\, and so much more\, received the 1993 Pulitzer\, as well as the Tony Award for Best Play (as did its 2017 revival). Widely perceived as one of the greatest plays of the later 20th century\, in it’s still young 35 year history\, Angels continues to astonish and reverberate. \nIncognita’s cast is led by Seth Koproski as Prior Walter\, Daniel S. Baruch as Louis\, Eric Hambury as Joe\, Elizabeth Seldin as Harper\, Erik Lucas as Roy Cohn\, McDonald Morris as Belize\, Karen Veaner as Hannah/Ethel Rosenberg\, and Meg Elliott as the Angel and others. Completing the cast are local favorites G-Quan Booker\, Lindsey Cahoon\, Cortney “CJ” Johnson\, and Andrew Hertzberg. \nArtistic Director Ross Haarstad stages the production\, joined by Oliver Canales Greenwood as Scenic and Lighting Designer\, Sarah Marks Bechtel as Costume Designer and Zeke A.B. Lawrence as Sound Designer. Priscilla Hummel serves as Intimacy Director.
URL:https://www.downtownithaca.com/event/theatre-incognita-presents-angels-in-america-pt-1-millennium-approaches/2026-04-02/
LOCATION:Kitchen Theatre Company\, 417 W State Street\, Ithaca\, 14850
CATEGORIES:Featured
ATTACH;FMTTYPE=image/png:https://www.downtownithaca.com/wp-content/uploads/angels-postcard-1.png
ORGANIZER;CN="Theatre Incognita":MAILTO:info@theatreincognita.org
END:VEVENT
BEGIN:VEVENT
DTSTART;TZID=America/New_York:20260403T170000
DTEND;TZID=America/New_York:20260403T200000
DTSTAMP:20260421T123410
CREATED:20260217T205622Z
LAST-MODIFIED:20260217T205622Z
UID:10006732-1775235600-1775246400@www.downtownithaca.com
SUMMARY:Grand Opening of Orozco Gallery (Pop-Up nomadic Gallery)
DESCRIPTION:🗓️ Friday\, April 3rd | ⏰ 5–8 PM\n📍 Orozco Gallery\, 115 S Cayuga St\, Ithaca\, NY\n🎟️ Free | 👨‍👩‍👧‍👦 All ages | 🥤 N/A drinks available \n🎨 In times of uncertainty\, art remains a powerful act of resilience. \nThis April\, Orozco Gallery opens its doors for a month-long pop-up filled with arts & culture in Downtown Ithaca. Featuring artist talks\, live music\, dance\, storytelling\, and hands-on workshops\, this welcoming sober space invites all ages to gather and celebrate the transformative power of art. \nJoin us for the official opening night with food by Jojo Cook and non-alcoholic drinks by Open Spaces. Meet curator Yen Ospina and explore the exhibition that kicks off this community-driven series. \n💵 Most events free or sliding scale (cash or Venmo accepted)\n♿ Handicap accessible\n🚗 Free street parking after 6PM \n🌐 orozcogallery.com / @orozco_gallery
URL:https://www.downtownithaca.com/event/grand-opening-of-orozco-gallery-pop-up-nomadic-gallery/
LOCATION:orozco gallery\, 115 s cayuga st\, ithaca\, 14850
CATEGORIES:Featured
ATTACH;FMTTYPE=image/jpeg:https://www.downtownithaca.com/wp-content/uploads/Grand-Opening-2026.jpg
ORGANIZER;CN="Gallery Orozco Ithaca":MAILTO:ospinayen@gmail.com
END:VEVENT
BEGIN:VEVENT
DTSTART;TZID=America/New_York:20260403T190000
DTEND;TZID=America/New_York:20260403T223000
DTSTAMP:20260421T123410
CREATED:20260317T194831Z
LAST-MODIFIED:20260317T194831Z
UID:10006886-1775242800-1775255400@www.downtownithaca.com
SUMMARY:Theatre Incognita presents ANGELS IN AMERICA\, PT 1: MILLENNIUM APPROACHES
DESCRIPTION:America in the mid-1980s. In the midst of the AIDS crisis and a conservative Reagan administration\, six New Yorkers with interconnected lives grapple with life and death\, love and sex\, heaven and hell. \nTheatre Incognita is proud to present Tony Kushner’s ANGELS IN AMERICA\, PT. 1: MILLENNIUM APPROACHES in collaboration with Kitchen Theatre Company’s Kitchen Sink Series. \nPerformances are at 7 pm Friday & Saturday\, March 27 & 28\, 2 pm Sunday March 29\, and 7pm Wednesday April 1 – Saturday April 4\, with a closing matinee Sunday April 5 at 2 pm. kitchentheatre.org for tickets \nKushner’s epic two-part drama about AIDS\, queer life\, national politics\, and so much more\, received the 1993 Pulitzer\, as well as the Tony Award for Best Play (as did its 2017 revival). Widely perceived as one of the greatest plays of the later 20th century\, in it’s still young 35 year history\, Angels continues to astonish and reverberate. \nIncognita’s cast is led by Seth Koproski as Prior Walter\, Daniel S. Baruch as Louis\, Eric Hambury as Joe\, Elizabeth Seldin as Harper\, Erik Lucas as Roy Cohn\, McDonald Morris as Belize\, Karen Veaner as Hannah/Ethel Rosenberg\, and Meg Elliott as the Angel and others. Completing the cast are local favorites G-Quan Booker\, Lindsey Cahoon\, Cortney “CJ” Johnson\, and Andrew Hertzberg. \nArtistic Director Ross Haarstad stages the production\, joined by Oliver Canales Greenwood as Scenic and Lighting Designer\, Sarah Marks Bechtel as Costume Designer and Zeke A.B. Lawrence as Sound Designer. Priscilla Hummel serves as Intimacy Director.
URL:https://www.downtownithaca.com/event/theatre-incognita-presents-angels-in-america-pt-1-millennium-approaches/2026-04-03/
LOCATION:Kitchen Theatre Company\, 417 W State Street\, Ithaca\, 14850
CATEGORIES:Featured
ATTACH;FMTTYPE=image/png:https://www.downtownithaca.com/wp-content/uploads/angels-postcard-1.png
ORGANIZER;CN="Theatre Incognita":MAILTO:info@theatreincognita.org
END:VEVENT
BEGIN:VEVENT
DTSTART;TZID=America/New_York:20260404T160000
DTEND;TZID=America/New_York:20260404T180000
DTSTAMP:20260421T123410
CREATED:20260218T133649Z
LAST-MODIFIED:20260218T133649Z
UID:10006734-1775318400-1775325600@www.downtownithaca.com
SUMMARY:Easter Egg Painting @ Orozco Gallery
DESCRIPTION:🗓️ Saturday\, April 4th | ⏰ 5–8 PM\n📍 115 S Cayuga St\, Ithaca\, NY\n🎟️ Sliding scale | 👨‍👩‍👧‍👦 All ages \n🎨 This April\, Orozco Gallery opens its doors for a month-long pop-up filled with arts & culture in Downtown Ithaca. Featuring artist talks\, live music\, dance\, storytelling\, and hands-on workshops\, this welcoming sober space invites all ages to gather and celebrate the transformative power of art. \nAs part of Orozco Gallery’s month-long pop-up\, join us for a joyful spring egg painting evening. All supplies provided — just bring your creativity and enjoy a welcoming sober environment designed for connection and celebration. \n💵 Sliding scale (cash or Venmo)\n🥤 N/A drinks available (cash only)\n♿ Accessible \n🌐 orozcogallery.com / @orozco_gallery – RSVP info: https://forms.gle/QbVYMMwfEcuVkXLMA
URL:https://www.downtownithaca.com/event/easter-egg-painting-orozco-gallery/
LOCATION:orozco gallery\, 115 s cayuga st\, ithaca\, 14850
CATEGORIES:Featured
ATTACH;FMTTYPE=image/png:https://www.downtownithaca.com/wp-content/uploads/4_4-Easter-Egg-Painting.png
ORGANIZER;CN="Gallery Orozco Ithaca":MAILTO:ospinayen@gmail.com
END:VEVENT
BEGIN:VEVENT
DTSTART;TZID=America/New_York:20260404T190000
DTEND;TZID=America/New_York:20260404T223000
DTSTAMP:20260421T123410
CREATED:20260317T194831Z
LAST-MODIFIED:20260317T194831Z
UID:10006887-1775329200-1775341800@www.downtownithaca.com
SUMMARY:Theatre Incognita presents ANGELS IN AMERICA\, PT 1: MILLENNIUM APPROACHES
DESCRIPTION:America in the mid-1980s. In the midst of the AIDS crisis and a conservative Reagan administration\, six New Yorkers with interconnected lives grapple with life and death\, love and sex\, heaven and hell. \nTheatre Incognita is proud to present Tony Kushner’s ANGELS IN AMERICA\, PT. 1: MILLENNIUM APPROACHES in collaboration with Kitchen Theatre Company’s Kitchen Sink Series. \nPerformances are at 7 pm Friday & Saturday\, March 27 & 28\, 2 pm Sunday March 29\, and 7pm Wednesday April 1 – Saturday April 4\, with a closing matinee Sunday April 5 at 2 pm. kitchentheatre.org for tickets \nKushner’s epic two-part drama about AIDS\, queer life\, national politics\, and so much more\, received the 1993 Pulitzer\, as well as the Tony Award for Best Play (as did its 2017 revival). Widely perceived as one of the greatest plays of the later 20th century\, in it’s still young 35 year history\, Angels continues to astonish and reverberate. \nIncognita’s cast is led by Seth Koproski as Prior Walter\, Daniel S. Baruch as Louis\, Eric Hambury as Joe\, Elizabeth Seldin as Harper\, Erik Lucas as Roy Cohn\, McDonald Morris as Belize\, Karen Veaner as Hannah/Ethel Rosenberg\, and Meg Elliott as the Angel and others. Completing the cast are local favorites G-Quan Booker\, Lindsey Cahoon\, Cortney “CJ” Johnson\, and Andrew Hertzberg. \nArtistic Director Ross Haarstad stages the production\, joined by Oliver Canales Greenwood as Scenic and Lighting Designer\, Sarah Marks Bechtel as Costume Designer and Zeke A.B. Lawrence as Sound Designer. Priscilla Hummel serves as Intimacy Director.
URL:https://www.downtownithaca.com/event/theatre-incognita-presents-angels-in-america-pt-1-millennium-approaches/2026-04-04/
LOCATION:Kitchen Theatre Company\, 417 W State Street\, Ithaca\, 14850
CATEGORIES:Featured
ATTACH;FMTTYPE=image/png:https://www.downtownithaca.com/wp-content/uploads/angels-postcard-1.png
ORGANIZER;CN="Theatre Incognita":MAILTO:info@theatreincognita.org
END:VEVENT
END:VCALENDAR