BEGIN:VCALENDAR
VERSION:2.0
PRODID:-//Downtown Ithaca - ECPv6.15.20//NONSGML v1.0//EN
CALSCALE:GREGORIAN
METHOD:PUBLISH
X-ORIGINAL-URL:https://www.downtownithaca.com
X-WR-CALDESC:Events for Downtown Ithaca
REFRESH-INTERVAL;VALUE=DURATION:PT1H
X-Robots-Tag:noindex
X-PUBLISHED-TTL:PT1H
BEGIN:VTIMEZONE
TZID:America/New_York
BEGIN:DAYLIGHT
TZOFFSETFROM:-0500
TZOFFSETTO:-0400
TZNAME:EDT
DTSTART:20250309T070000
END:DAYLIGHT
BEGIN:STANDARD
TZOFFSETFROM:-0400
TZOFFSETTO:-0500
TZNAME:EST
DTSTART:20251102T060000
END:STANDARD
BEGIN:DAYLIGHT
TZOFFSETFROM:-0500
TZOFFSETTO:-0400
TZNAME:EDT
DTSTART:20260308T070000
END:DAYLIGHT
BEGIN:STANDARD
TZOFFSETFROM:-0400
TZOFFSETTO:-0500
TZNAME:EST
DTSTART:20261101T060000
END:STANDARD
BEGIN:DAYLIGHT
TZOFFSETFROM:-0500
TZOFFSETTO:-0400
TZNAME:EDT
DTSTART:20270314T070000
END:DAYLIGHT
BEGIN:STANDARD
TZOFFSETFROM:-0400
TZOFFSETTO:-0500
TZNAME:EST
DTSTART:20271107T060000
END:STANDARD
END:VTIMEZONE
BEGIN:VEVENT
DTSTART;TZID=America/New_York:20260623T153000
DTEND;TZID=America/New_York:20260623T170000
DTSTAMP:20260421T212102
CREATED:20260218T133721Z
LAST-MODIFIED:20260218T133721Z
UID:10006746-1782228600-1782234000@www.downtownithaca.com
SUMMARY:Work & Tea & Lofi @ Orozco Gallery
DESCRIPTION:🗓️ Tuesday\, April 7\, 14\, 21\, 28 | ⏰ 3:30–5 PM\n📍 115 S Cayuga St\, Ithaca\, NY\n🎟️ Free | 👨‍👩‍👧‍👦 All ages \n🎨 This April\, Orozco Gallery opens its doors for a month-long pop-up filled with arts & culture in Downtown Ithaca. Featuring artist talks\, live music\, dance\, storytelling\, and hands-on workshops\, this welcoming sober space invites all ages to gather and celebrate the transformative power of art. \nDuring Orozco Gallery’s month-long arts & culture pop-up\, enjoy a cozy co-working session with lo-fi beats and tea. Bring your laptop\, sketchbook\, or homework and settle into a calm\, creative atmosphere. \n🍵 Tea by fee\n🥤 N/A drinks available\n♿ Accessible \n🌐 orozcogallery.com / @orozco_gallery – RSVP info: https://forms.gle/QbVYMMwfEcuVkXLMA
URL:https://www.downtownithaca.com/event/work-tea-lofi-orozco-gallery/2026-06-23/
LOCATION:orozco gallery\, 115 s cayuga st\, ithaca\, 14850
CATEGORIES:Featured
ATTACH;FMTTYPE=image/png:https://www.downtownithaca.com/wp-content/uploads/Screenshot-2026-02-18-at-8.34.56-AM.png
ORGANIZER;CN="Gallery Orozco Ithaca":MAILTO:ospinayen@gmail.com
END:VEVENT
BEGIN:VEVENT
DTSTART;TZID=America/New_York:20260624T080000
DTEND;TZID=America/New_York:20260624T170000
DTSTAMP:20260421T212102
CREATED:20260318T194149Z
LAST-MODIFIED:20260318T194149Z
UID:10006951-1782288000-1782320400@www.downtownithaca.com
SUMMARY:Yappy Hour at The Strand Cafe
DESCRIPTION:Welcome back to YAPPY HOUR at The Strand Cafe! \nJoin us every 4th Wednesday from March–October | 4–7PM for drinks\, dog-friendly vibes\, and pup social time! \nBring your furry friends to mix\, mingle\, and make new besties 🐕 \nEven better? 50% of proceeds benefit Stay Wild Rescue — every sip supports animals in need. \nDrinks for you. Social hour for them. A great cause for all. 🐶
URL:https://www.downtownithaca.com/event/yappy-hour-at-the-strand-cafe/2026-06-24/
LOCATION:the strand cafe\, 324 E. State St.\, Ithaca\, NY\, 14850\, United States
CATEGORIES:Featured
ATTACH;FMTTYPE=image/png:https://www.downtownithaca.com/wp-content/uploads/yappyhour.png
ORGANIZER;CN="Strand Cafe":MAILTO:hello@thestrandithaca.com
END:VEVENT
BEGIN:VEVENT
DTSTART;TZID=America/New_York:20260624T160000
DTEND;TZID=America/New_York:20260624T190000
DTSTAMP:20260421T212102
CREATED:20260318T190302Z
LAST-MODIFIED:20260318T190302Z
UID:10006892-1782316800-1782327600@www.downtownithaca.com
SUMMARY:Yappy Hour
DESCRIPTION:Sip\, socialize\, get to know some adoptable pets from Stay Wild Resue.  We will have drink specials\, pet games\, treats and more.  All well-behaved pets are welcome to join.  Help us support Stay Wild Resue with 50% of all Strands proceeds go to Stay Wild Rescue.
URL:https://www.downtownithaca.com/event/yappy-hour/2026-06-24/
LOCATION:Canopy By Hilton\, 324 E. State St.\, Ithaca
CATEGORIES:Featured
ORGANIZER;CN="canopy":MAILTO:kathy.taylor@baywoodhotels.com
END:VEVENT
BEGIN:VEVENT
DTSTART;TZID=America/New_York:20260624T170000
DTEND;TZID=America/New_York:20260624T210000
DTSTAMP:20260421T212102
CREATED:20251208T172404Z
LAST-MODIFIED:20251208T172404Z
UID:10006524-1782320400-1782334800@www.downtownithaca.com
SUMMARY:Rolling With Pride: LGBTQ game night at Riverwood Gifts
DESCRIPTION:join us at Riverwood gifts for a night of fun and board games! Celebrating our LGBTQ community Riverwood is a safe and inclusive place to come hang out and play! Pizza provided by SAL’s pizzeria
URL:https://www.downtownithaca.com/event/rolling-with-pride-lgbtq-game-night-at-riverwood-gifts-2/2026-06-24/
LOCATION:Riverwood\, 116 E State St\, ITHACA\, N\, 14850\, United States
CATEGORIES:Featured
ATTACH;FMTTYPE=image/jpeg:https://www.downtownithaca.com/wp-content/uploads/Rolling-with-Pride-final.jpeg
ORGANIZER;CN="Riverwood":MAILTO:marking@theriverwoodotter.com
END:VEVENT
END:VCALENDAR