BEGIN:VCALENDAR
VERSION:2.0
PRODID:-//Downtown Ithaca - ECPv6.15.20//NONSGML v1.0//EN
CALSCALE:GREGORIAN
METHOD:PUBLISH
X-WR-CALNAME:Downtown Ithaca
X-ORIGINAL-URL:https://www.downtownithaca.com
X-WR-CALDESC:Events for Downtown Ithaca
REFRESH-INTERVAL;VALUE=DURATION:PT1H
X-Robots-Tag:noindex
X-PUBLISHED-TTL:PT1H
BEGIN:VTIMEZONE
TZID:America/New_York
BEGIN:DAYLIGHT
TZOFFSETFROM:-0500
TZOFFSETTO:-0400
TZNAME:EDT
DTSTART:20260308T070000
END:DAYLIGHT
BEGIN:STANDARD
TZOFFSETFROM:-0400
TZOFFSETTO:-0500
TZNAME:EST
DTSTART:20261101T060000
END:STANDARD
BEGIN:DAYLIGHT
TZOFFSETFROM:-0500
TZOFFSETTO:-0400
TZNAME:EDT
DTSTART:20270314T070000
END:DAYLIGHT
BEGIN:STANDARD
TZOFFSETFROM:-0400
TZOFFSETTO:-0500
TZNAME:EST
DTSTART:20271107T060000
END:STANDARD
BEGIN:DAYLIGHT
TZOFFSETFROM:-0500
TZOFFSETTO:-0400
TZNAME:EDT
DTSTART:20280312T070000
END:DAYLIGHT
BEGIN:STANDARD
TZOFFSETFROM:-0400
TZOFFSETTO:-0500
TZNAME:EST
DTSTART:20281105T060000
END:STANDARD
END:VTIMEZONE
BEGIN:VEVENT
DTSTART;TZID=America/New_York:20270623T080000
DTEND;TZID=America/New_York:20270623T170000
DTSTAMP:20260425T082850
CREATED:20260318T194149Z
LAST-MODIFIED:20260318T194149Z
UID:10006963-1813737600-1813770000@www.downtownithaca.com
SUMMARY:Yappy Hour at The Strand Cafe
DESCRIPTION:Welcome back to YAPPY HOUR at The Strand Cafe! \nJoin us every 4th Wednesday from March–October | 4–7PM for drinks\, dog-friendly vibes\, and pup social time! \nBring your furry friends to mix\, mingle\, and make new besties 🐕 \nEven better? 50% of proceeds benefit Stay Wild Rescue — every sip supports animals in need. \nDrinks for you. Social hour for them. A great cause for all. 🐶
URL:https://www.downtownithaca.com/event/yappy-hour-at-the-strand-cafe/2027-06-23/
LOCATION:the strand cafe\, 324 E. State St.\, Ithaca\, NY\, 14850\, United States
CATEGORIES:Featured
ATTACH;FMTTYPE=image/png:https://www.downtownithaca.com/wp-content/uploads/yappyhour.png
ORGANIZER;CN="Strand Cafe":MAILTO:hello@thestrandithaca.com
END:VEVENT
BEGIN:VEVENT
DTSTART;TZID=America/New_York:20270623T160000
DTEND;TZID=America/New_York:20270623T190000
DTSTAMP:20260425T082850
CREATED:20260318T190302Z
LAST-MODIFIED:20260318T190302Z
UID:10006902-1813766400-1813777200@www.downtownithaca.com
SUMMARY:Yappy Hour
DESCRIPTION:Sip\, socialize\, get to know some adoptable pets from Stay Wild Resue.  We will have drink specials\, pet games\, treats and more.  All well-behaved pets are welcome to join.  Help us support Stay Wild Resue with 50% of all Strands proceeds go to Stay Wild Rescue.
URL:https://www.downtownithaca.com/event/yappy-hour/2027-06-23/
LOCATION:Canopy By Hilton\, 324 E. State St.\, Ithaca
CATEGORIES:Featured
ORGANIZER;CN="canopy":MAILTO:kathy.taylor@baywoodhotels.com
END:VEVENT
BEGIN:VEVENT
DTSTART;TZID=America/New_York:20270623T170000
DTEND;TZID=America/New_York:20270623T210000
DTSTAMP:20260425T082850
CREATED:20251208T172404Z
LAST-MODIFIED:20251208T172404Z
UID:10006550-1813770000-1813784400@www.downtownithaca.com
SUMMARY:Rolling With Pride: LGBTQ game night at Riverwood Gifts
DESCRIPTION:join us at Riverwood gifts for a night of fun and board games! Celebrating our LGBTQ community Riverwood is a safe and inclusive place to come hang out and play! Pizza provided by SAL’s pizzeria
URL:https://www.downtownithaca.com/event/rolling-with-pride-lgbtq-game-night-at-riverwood-gifts-2/2027-06-23/
LOCATION:Riverwood\, 116 E State St\, ITHACA\, N\, 14850\, United States
CATEGORIES:Featured
ATTACH;FMTTYPE=image/jpeg:https://www.downtownithaca.com/wp-content/uploads/Rolling-with-Pride-final.jpeg
ORGANIZER;CN="Riverwood":MAILTO:marking@theriverwoodotter.com
END:VEVENT
END:VCALENDAR