BEGIN:VCALENDAR
VERSION:2.0
PRODID:-//Downtown Ithaca - ECPv6.15.20//NONSGML v1.0//EN
CALSCALE:GREGORIAN
METHOD:PUBLISH
X-ORIGINAL-URL:https://www.downtownithaca.com
X-WR-CALDESC:Events for Downtown Ithaca
REFRESH-INTERVAL;VALUE=DURATION:PT1H
X-Robots-Tag:noindex
X-PUBLISHED-TTL:PT1H
BEGIN:VTIMEZONE
TZID:America/New_York
BEGIN:DAYLIGHT
TZOFFSETFROM:-0500
TZOFFSETTO:-0400
TZNAME:EDT
DTSTART:20250309T070000
END:DAYLIGHT
BEGIN:STANDARD
TZOFFSETFROM:-0400
TZOFFSETTO:-0500
TZNAME:EST
DTSTART:20251102T060000
END:STANDARD
BEGIN:DAYLIGHT
TZOFFSETFROM:-0500
TZOFFSETTO:-0400
TZNAME:EDT
DTSTART:20260308T070000
END:DAYLIGHT
BEGIN:STANDARD
TZOFFSETFROM:-0400
TZOFFSETTO:-0500
TZNAME:EST
DTSTART:20261101T060000
END:STANDARD
BEGIN:DAYLIGHT
TZOFFSETFROM:-0500
TZOFFSETTO:-0400
TZNAME:EDT
DTSTART:20270314T070000
END:DAYLIGHT
BEGIN:STANDARD
TZOFFSETFROM:-0400
TZOFFSETTO:-0500
TZNAME:EST
DTSTART:20271107T060000
END:STANDARD
END:VTIMEZONE
BEGIN:VEVENT
DTSTART;TZID=America/New_York:20260430T120000
DTEND;TZID=America/New_York:20260524T170000
DTSTAMP:20260421T183914
CREATED:20260419T204141Z
LAST-MODIFIED:20260419T204141Z
UID:10007084-1777550400-1779642000@www.downtownithaca.com
SUMMARY:Black and White and…
DESCRIPTION:In their show\, Black and White and…\, painter Ileen Kaplan and Photographer David Watkins explore the use of black and white and touches of color to create abstract\, graphic and representational pieces.\n The show will run from April 30 through May 24\, 2026.  Opening reception Friday\, May 1 from\n5–8pm.
URL:https://www.downtownithaca.com/event/black-and-white-and/
LOCATION:State of the Art Gallery\, 120 W State St #2\, Ithaca\, 14850\, United Kingdom
CATEGORIES:Featured
ATTACH;FMTTYPE=image/jpeg:https://www.downtownithaca.com/wp-content/uploads/2026-05-Kaplan-ILEEN-Open-Sky-1.jpeg
ORGANIZER;CN="State of the Art Gallery":MAILTO:gallery@soag.org
END:VEVENT
BEGIN:VEVENT
DTSTART;TZID=America/New_York:20260507T130000
DTEND;TZID=America/New_York:20260614T200000
DTSTAMP:20260421T183914
CREATED:20260415T132801Z
LAST-MODIFIED:20260415T132801Z
UID:10007080-1778158800-1781467200@www.downtownithaca.com
SUMMARY:28th annual Spring Writes Literary Festival. May - Sept\, Live and Zoom
DESCRIPTION:The Community Arts Partnership of Tompkins County (CAP) is proud to announce our 18th annual Spring Writes Literary Festival with over 40 literary events: reading s\, panels\, multi – genre performances\, workshops\, a Book & Zine Fair\, and a Survivor style literary showdown.  \nThere’s something for everyone! From seasoned authors\, to the loving public. Check out the amazing slate of free events at SpringWrites.org and find event descriptions\, registration links\, and participating artist bios.  \nThe Festival starts with an opening weekend of in-person events from Thursday evening\, May 7th through Sunday\, May 10th. Events continue on May 16th and May 31st. Locations are Buffalo Street Books\, the Ithaca Downtown Conference Center (mostly)\, Tompkins County Public Library\, Lot 10 Ithaca\, Liquid State Brewing\, and The Cherry Arts.  \nZoom events follow from May 14th – May 28th \, and June 14th-perfect for literary lovers tuning in from afar.  \nFrom July through September\, there are eight additional in-person events at Buffalo Street Books.  \nVisit SpringWrites.org for schedules\, event details\, registration links\, artist bios\, and more.  \nDon’t miss this chance to connect\, create\, and celebrate the power of words together!  \nWe thank our Sponsors For Their Support. Ithaca College\, Beginnings Credit Union\, M&T Bank\, the Odyssey Bookstore\, Wegmans\, and the Ithaca Downtown Conference Center\, along with media partners WSKG\, WITH The Route\, What’s Hot Magazine\, and Cinemapolis.  \nAdditional support is provided by Poets & Writers\, a Fair Game Grant\, and the Tompkins County Tourism Program
URL:https://www.downtownithaca.com/event/28th-annual-spring-writes-literary-festival-may-sept-live-and-zoom/
LOCATION:Downtown Ithaca\, United States
CATEGORIES:Featured
ATTACH;FMTTYPE=image/png:https://www.downtownithaca.com/wp-content/uploads/SW-Square-1.png
ORGANIZER;CN="Community Arts Partnership":MAILTO:info@artspartner.org
GEO:42.4394279;-76.4969274
END:VEVENT
BEGIN:VEVENT
DTSTART;TZID=America/New_York:20260518T190000
DTEND;TZID=America/New_York:20260518T210000
DTSTAMP:20260421T183914
CREATED:20260309T142404Z
LAST-MODIFIED:20260309T142404Z
UID:10006835-1779130800-1779138000@www.downtownithaca.com
SUMMARY:Abolition of White Democracy Reading Group
DESCRIPTION:Description written by host\, Ashley Cake:  I’ve been threatening to do a community read of Abolition of White Democracy for some years now\, and the time is finally nigh. Georgia at Ithaca Writing Studio is gonna host\, and I’m asking $30 for six meetups\, $20 for the Writing Studio and $10 for me. I’m capping it at 10 participants for space and “let’s take it easy” reasons and I’m asking for folks who are local\, can commit to reading the book and coming to all 6 Monday evening meetings\, and ideally are living that white democracy life. What do i mean? You check a majority of these boxes: \n– you are a person of pallor (and not defensive or penitential about it) \n– You have a liberal arts education with at least a BA \n– You have a vehicle (maybe two\, lease ok) \n– You own your home (maybe two\, with mortgage ok) \n– you have investment accounts (IRA\, 401k\, mutual funds\, CDs\, etc) \n– you have life insurance  \n– you are registered to vote as either a Democrat or a Republican \n– You serve(d) on boards and/or commissions (foundations\, PTAs\, not for profits\, city/county/state appointments\, etc. mutual aid doesn’t count) \n– Relatively high earning (80k – 200k/year) \n– Manager or C-suite for most of your career \n– Broadly familiar with North Atlantic political and social histories and thinkers of race & class (especially W.E.B. Dubois\, Karl Marx\, Michel Foucault\, James Baldwin\, Thomas Jefferson\, Alexis de Tocqueville\, Malcolm X\, et. al.) \nI won’t turn away anyone who wants to commit to the reading group (up to ten participants)\, but you will get the most out of this conversation if you’re navigating racial capitalism without too much trouble. I can make a PDF of the book available for free and everyone should read it\, and participants should be able to order copies through our independent bookstores and pay full price. \nI believe white democracy is white people’s problem because we built it with our ambitions and maintain it with our participation. I believe it’s possible for white folks to unravel these genocidal structures\, and there’s no better time than now. \nBio: Ashley Cake was born and raised in Ithaca\, NY and has been a lifelong service worker in the hospitality industry\, most recently owning and operating The Watershed & The Downstairs. She is an award-winning labor and public safety advocate\, serving on the boards of organizations from Ithaca Underground to Alternatives Federal Credit Union. In her academic career\, Ashley has written and taught extensively on Enwhitenment European philosophy — particularly Soren Kierkegaard and Lacanian psychoanalysis — as well as comparative religion — particularly American social justice and liberationist histories. Her current praxis seeks to work the critical junctures of abolition\, emergent strategies of care and transformative justice\, which is to say: Land Back & Reparations.
URL:https://www.downtownithaca.com/event/abolition-of-white-democracy-reading-group/2026-05-18/
LOCATION:ithaca writing studio\, 1729 Slaterville rd\, Ithaca\, NY\, 14850\, United States
CATEGORIES:Featured
ATTACH;FMTTYPE=image/jpeg:https://www.downtownithaca.com/wp-content/uploads/Abolition-of-White-Democracy-2.jpg
ORGANIZER;CN="Ithaca Writing Studio":MAILTO:ithacawritingstudio@gmail.com
END:VEVENT
BEGIN:VEVENT
DTSTART;TZID=America/New_York:20260519T153000
DTEND;TZID=America/New_York:20260519T170000
DTSTAMP:20260421T183914
CREATED:20260218T133721Z
LAST-MODIFIED:20260218T133721Z
UID:10006741-1779204600-1779210000@www.downtownithaca.com
SUMMARY:Work & Tea & Lofi @ Orozco Gallery
DESCRIPTION:🗓️ Tuesday\, April 7\, 14\, 21\, 28 | ⏰ 3:30–5 PM\n📍 115 S Cayuga St\, Ithaca\, NY\n🎟️ Free | 👨‍👩‍👧‍👦 All ages \n🎨 This April\, Orozco Gallery opens its doors for a month-long pop-up filled with arts & culture in Downtown Ithaca. Featuring artist talks\, live music\, dance\, storytelling\, and hands-on workshops\, this welcoming sober space invites all ages to gather and celebrate the transformative power of art. \nDuring Orozco Gallery’s month-long arts & culture pop-up\, enjoy a cozy co-working session with lo-fi beats and tea. Bring your laptop\, sketchbook\, or homework and settle into a calm\, creative atmosphere. \n🍵 Tea by fee\n🥤 N/A drinks available\n♿ Accessible \n🌐 orozcogallery.com / @orozco_gallery – RSVP info: https://forms.gle/QbVYMMwfEcuVkXLMA
URL:https://www.downtownithaca.com/event/work-tea-lofi-orozco-gallery/2026-05-19/
LOCATION:orozco gallery\, 115 s cayuga st\, ithaca\, 14850
CATEGORIES:Featured
ATTACH;FMTTYPE=image/png:https://www.downtownithaca.com/wp-content/uploads/Screenshot-2026-02-18-at-8.34.56-AM.png
ORGANIZER;CN="Gallery Orozco Ithaca":MAILTO:ospinayen@gmail.com
END:VEVENT
BEGIN:VEVENT
DTSTART;TZID=America/New_York:20260525T190000
DTEND;TZID=America/New_York:20260525T210000
DTSTAMP:20260421T183914
CREATED:20260317T024836Z
LAST-MODIFIED:20260317T024836Z
UID:10006879-1779735600-1779742800@www.downtownithaca.com
SUMMARY:One Night With You: Elvis Dinner Show Comes to K-HOUSE Karaoke & Arts Hub
DESCRIPTION:K-HOUSE Karaoke & Arts Hub invites oldies lovers to spend an evening with Elvis. One Night With You is a dinner show featuring the comedy and vocal stylings of The King himself\, a three-course meal and guest performances\, all in the intimate setting of Room K (formerly The Downstairs). \nElvis\, who has been touring small-town venues since his supposed death in 1977\, tells hilarious stories about his life\, interspersed with classic songs\, underrated tracks and beloved covers\, during the 90-minute show. Duets throughout the evening will feature stars from the rock & roll era\, including Neil Diamond and guest interaction and accompaniment are encouraged. Blending live performance with dinner theatre and the dietary restrictions of the aging The King\, guests will enjoy a healthy meal with gluten-free and vegetarian options\, as well as some of Elvis’ favorite treats.   \n“If you’ve got a suspicious mind and want the full story\, you’ll just have to come hear it from The King himself.” -Sylvie Froncek\, producer of One Night With You \nThe show takes place on the fourth Monday of each month at K-HOUSE this spring. Tickets include dinner and the show. Beverages will be available to purchase from the bar.  \nUpcoming performances include:\n• Monday\, March 23 — 7:00 PM – 9:00 PM\n• Monday\, April 27 — 6:00 PM – 8:00 PM and 8:00 PM – 10:00 PM (during Old Greeny Fringe Fest)\n• Monday\, May 25 — 7:00 PM – 9:00 PM \nTickets are $35 per person or $120 for a table of four\, and reservations are required. \nGuests can expect an evening of classic songs\, theatrical storytelling\, and opportunities to interact with Elvis and sing-along.  \nReservations:\nhttps://www.viecycle.com/elvis-dinner-show.html
URL:https://www.downtownithaca.com/event/one-night-with-you-elvis-dinner-show-comes-to-k-house-karaoke-arts-hub/2026-05-25/
LOCATION:K-House Karaoke & Arts Hub\, 121 W Martin Luther King Jr St\, Ithaca\, 14850
CATEGORIES:Featured
ATTACH;FMTTYPE=image/png:https://www.downtownithaca.com/wp-content/uploads/1000034211-scaled.png
END:VEVENT
BEGIN:VEVENT
DTSTART;TZID=America/New_York:20260527T080000
DTEND;TZID=America/New_York:20260527T170000
DTSTAMP:20260421T183914
CREATED:20260318T194149Z
LAST-MODIFIED:20260318T194149Z
UID:10006950-1779868800-1779901200@www.downtownithaca.com
SUMMARY:Yappy Hour at The Strand Cafe
DESCRIPTION:Welcome back to YAPPY HOUR at The Strand Cafe! \nJoin us every 4th Wednesday from March–October | 4–7PM for drinks\, dog-friendly vibes\, and pup social time! \nBring your furry friends to mix\, mingle\, and make new besties 🐕 \nEven better? 50% of proceeds benefit Stay Wild Rescue — every sip supports animals in need. \nDrinks for you. Social hour for them. A great cause for all. 🐶
URL:https://www.downtownithaca.com/event/yappy-hour-at-the-strand-cafe/2026-05-27/
LOCATION:the strand cafe\, 324 E. State St.\, Ithaca\, NY\, 14850\, United States
CATEGORIES:Featured
ATTACH;FMTTYPE=image/png:https://www.downtownithaca.com/wp-content/uploads/yappyhour.png
ORGANIZER;CN="Strand Cafe":MAILTO:hello@thestrandithaca.com
END:VEVENT
BEGIN:VEVENT
DTSTART;TZID=America/New_York:20260527T160000
DTEND;TZID=America/New_York:20260527T190000
DTSTAMP:20260421T183914
CREATED:20260318T190302Z
LAST-MODIFIED:20260318T190302Z
UID:10006891-1779897600-1779908400@www.downtownithaca.com
SUMMARY:Yappy Hour
DESCRIPTION:Sip\, socialize\, get to know some adoptable pets from Stay Wild Resue.  We will have drink specials\, pet games\, treats and more.  All well-behaved pets are welcome to join.  Help us support Stay Wild Resue with 50% of all Strands proceeds go to Stay Wild Rescue.
URL:https://www.downtownithaca.com/event/yappy-hour/2026-05-27/
LOCATION:Canopy By Hilton\, 324 E. State St.\, Ithaca
CATEGORIES:Featured
ORGANIZER;CN="canopy":MAILTO:kathy.taylor@baywoodhotels.com
END:VEVENT
BEGIN:VEVENT
DTSTART;TZID=America/New_York:20260527T170000
DTEND;TZID=America/New_York:20260527T210000
DTSTAMP:20260421T183914
CREATED:20251208T172404Z
LAST-MODIFIED:20251208T172404Z
UID:10006522-1779901200-1779915600@www.downtownithaca.com
SUMMARY:Rolling With Pride: LGBTQ game night at Riverwood Gifts
DESCRIPTION:join us at Riverwood gifts for a night of fun and board games! Celebrating our LGBTQ community Riverwood is a safe and inclusive place to come hang out and play! Pizza provided by SAL’s pizzeria
URL:https://www.downtownithaca.com/event/rolling-with-pride-lgbtq-game-night-at-riverwood-gifts-2/2026-05-27/
LOCATION:Riverwood\, 116 E State St\, ITHACA\, N\, 14850\, United States
CATEGORIES:Featured
ATTACH;FMTTYPE=image/jpeg:https://www.downtownithaca.com/wp-content/uploads/Rolling-with-Pride-final.jpeg
ORGANIZER;CN="Riverwood":MAILTO:marking@theriverwoodotter.com
END:VEVENT
BEGIN:VEVENT
DTSTART;TZID=America/New_York:20260529T193000
DTEND;TZID=America/New_York:20260529T220000
DTSTAMP:20260421T183914
CREATED:20260408T182015Z
LAST-MODIFIED:20260408T182015Z
UID:10007069-1780083000-1780092000@www.downtownithaca.com
SUMMARY:EUROPA: Celebrating the Music of Carlos Santana
DESCRIPTION:Hangar Theatre’s In Flight Entertainment Series Presents EUROPA: Celebrating the Music of Carlos Santana. EUROPA is a high-energy 7-piece group celebrating the iconic music and spirit of Carlos Santana. With powerful Latin percussion\, soaring guitar melodies and dynamic improvisation the group brings Santana’s greatest hits to life. With songs spanning Carlos’ career from “Oye Como Va”\, “Black Magic Woman”\, and “Evil Ways” to the wildly successful “Smooth” and “Maria\, Maria”\, Europa’s musicians\, from the Latin\, Rock\, R&B\, Jazz\, and Jam Band genres\, play them all with authenticity\, fire and passion!
URL:https://www.downtownithaca.com/event/europa-celebrating-the-music-of-carlos-santana/
LOCATION:Hangar Theatre\, 801 Taughannock Blvd.\, Ithaca\, 14850
CATEGORIES:Featured
ATTACH;FMTTYPE=image/jpeg:https://www.downtownithaca.com/wp-content/uploads/Europa2-1.jpg
ORGANIZER;CN="Hangar Theatre":MAILTO:Boxoffice@hangartheatre.org
END:VEVENT
BEGIN:VEVENT
DTSTART;TZID=America/New_York:20260602T190000
DTEND;TZID=America/New_York:20260602T210000
DTSTAMP:20260421T183914
CREATED:20260406T144513Z
LAST-MODIFIED:20260406T144558Z
UID:10007055-1780426800-1780434000@www.downtownithaca.com
SUMMARY:ComedyHOF Open Mic Night in Room K - K-HOUSE Karaoke & Arts Hub
DESCRIPTION:ComedyHOF Open Mic at K-HOUSE\nA focused room for the craft of comedy. \nComedy HOF presents a monthly stand-up open mic in Room K @ K-HOUSE Karaoke & Arts Hub\, hosted by Ben Mumford-Zisk\nThis is a high-energy night for comedians and audiences who care about timing\, material\, and the work of stand-up. \nEach comic gets five minutes in an intimate\, attentive room designed for connection. Whether you’re testing new jokes\, sharpening a set\, or just here to laugh\, Room K is a space where comedy is taken seriously — and still fun.\nThis is where momentum starts! Come early\, get on the list\, and be part of a growing comedy scene. \n📍 K-HOUSE Karaoke & Arts Hub\, 121 W State St\, Room K (Downstairs)\, Ithaca\, NY\n🔁 1st Tuesday of every month\n🎙 Hosted by Ben Mumford-Zisk\n🎭 Presented by Comedy HOF\n🕖 Show: 7:00 to 9:00 PM | Sign-ups begin @ 6:45 PM
URL:https://www.downtownithaca.com/event/comedyhof-open-mic-night-in-room-k-k-house-karaoke-arts-hub/2026-06-02/
LOCATION:K-House Karaoke & Arts Hub\, 121 W Martin Luther King Jr St\, Ithaca\, 14850
CATEGORIES:Featured
ATTACH;FMTTYPE=image/jpeg:https://www.downtownithaca.com/wp-content/uploads/standupcomedyhof-1.jpg
END:VEVENT
BEGIN:VEVENT
DTSTART;TZID=America/New_York:20260605T170000
DTEND;TZID=America/New_York:20260605T200000
DTSTAMP:20260421T183914
CREATED:20260201T160037Z
LAST-MODIFIED:20260202T063342Z
UID:10003591-1780678800-1780689600@www.downtownithaca.com
SUMMARY:Ithaca Gallery Night - First Friday of Every Month
DESCRIPTION:ITHACA GALLERY NIGHT \nFRIDAY\, FEBRUARY 6\, 2026\n5:00–8:00 PM\nDOWNTOWN ITHACA \nIthaca Gallery Night is a walkable evening of art openings and cultural experiences throughout Downtown Ithaca. On the first Friday\, galleries\, studios\, and creative spaces open their doors for the public to explore exhibitions\, meet artists\, and experience the city’s arts community in one cohesive night. \nThis event is part of First Friday Ithaca Gallery Night openings.\nPlease visit www.ithacagallerynight.com\nto see all participating locations and current event details. \nFollow along and share your experience using:\n#ithacagallerynight1 #downtownithaca #visitithaca \nFacebook Event Link
URL:https://www.downtownithaca.com/event/gallery-night-ithaca-first-friday-of-every-month/2026-06-05/
ATTACH;FMTTYPE=image/png:https://www.downtownithaca.com/wp-content/uploads/Google-form-GRAPHIC_IthacaGalleryNight-1.png
END:VEVENT
BEGIN:VEVENT
DTSTART;TZID=America/New_York:20260613T150000
DTEND;TZID=America/New_York:20260613T220000
DTSTAMP:20260421T183914
CREATED:20260330T153300Z
LAST-MODIFIED:20260330T153300Z
UID:10006978-1781362800-1781388000@www.downtownithaca.com
SUMMARY:Ithaca Pride Festival - Opening Events
DESCRIPTION:Join the Ithaca Pride Alliance on the Commons as we kick off Pride Weekend with our Opening Events on Friday\, June 13th from 3-10pm!  Live music from 3-6pm\, Opening Ceremonies from 6-7pm then dance the night away at our All-Ages Pride Dance Party from 7-10pm at the Bernie Milton Pavilion. Local resources and organizations will be tabling throughout the event. Stop by our Affirmation Station to get all decked out in Pride Gear\, grab your Pride Tees from the Sunny Days booth\, and get information about all of the Ithaca Pride Events happening all weekend long at the IPA booth! Accessibility FAQs and up-to-date information available at https://www.ithacapridealliance.org/ithaca-pride
URL:https://www.downtownithaca.com/event/ithaca-pride-festival-opening-events/
LOCATION:Bernie Milton Pavilion\, 100 N. Tioga Street\, Ithaca\, NY\, 14845
CATEGORIES:Featured
ATTACH;FMTTYPE=image/jpeg:https://www.downtownithaca.com/wp-content/uploads/2_Opening-Events-2026.jpg
END:VEVENT
BEGIN:VEVENT
DTSTART;TZID=America/New_York:20260614T100000
DTEND;TZID=America/New_York:20260614T200000
DTSTAMP:20260421T183914
CREATED:20260330T153316Z
LAST-MODIFIED:20260330T153316Z
UID:10006979-1781431200-1781467200@www.downtownithaca.com
SUMMARY:Ithaca Pride Festival - Pride In The Park
DESCRIPTION:Join the Ithaca Pride Alliance for Pride In the Park on Saturday\, June 14.  Our signature\, full day celebration of community\, visibility and joy!   \nExplore local vendors\, delicious food\, community resources\, family-friendly activities and a full day of stage performances (we have two stages this year).   The festival spans Dewitt Park and extends along the 300\, 200 & 100 blocks of N Cayuga Street as well as the Bernie Milton Pavilion.   We look forward to celebrating with you! \nEvent Hours:\nAccess Hours: 10:00 – 12:00 (No amplified music)\nGeneral Park Hours & Dewitt Stage: 12:00 – 6:00 pm\nBernie Milton Stage 3:00 – 8:00 PM\nAccessibility FAQs and up-to-date information available at https://www.ithacapridealliance.org/ithaca-pride
URL:https://www.downtownithaca.com/event/ithaca-pride-festival-pride-in-the-park/
LOCATION:Dewitt Park\, 102 E Court Street\, Ithaca\, 14850\, United States
ATTACH;FMTTYPE=image/jpeg:https://www.downtownithaca.com/wp-content/uploads/4_Pride-in-the-Park-2026.jpg
END:VEVENT
END:VCALENDAR