BEGIN:VCALENDAR
VERSION:2.0
PRODID:-//Downtown Ithaca - ECPv6.15.20//NONSGML v1.0//EN
CALSCALE:GREGORIAN
METHOD:PUBLISH
X-WR-CALNAME:Downtown Ithaca
X-ORIGINAL-URL:https://www.downtownithaca.com
X-WR-CALDESC:Events for Downtown Ithaca
REFRESH-INTERVAL;VALUE=DURATION:PT1H
X-Robots-Tag:noindex
X-PUBLISHED-TTL:PT1H
BEGIN:VTIMEZONE
TZID:America/New_York
BEGIN:DAYLIGHT
TZOFFSETFROM:-0500
TZOFFSETTO:-0400
TZNAME:EDT
DTSTART:20230312T070000
END:DAYLIGHT
BEGIN:STANDARD
TZOFFSETFROM:-0400
TZOFFSETTO:-0500
TZNAME:EST
DTSTART:20231105T060000
END:STANDARD
BEGIN:DAYLIGHT
TZOFFSETFROM:-0500
TZOFFSETTO:-0400
TZNAME:EDT
DTSTART:20240310T070000
END:DAYLIGHT
BEGIN:STANDARD
TZOFFSETFROM:-0400
TZOFFSETTO:-0500
TZNAME:EST
DTSTART:20241103T060000
END:STANDARD
BEGIN:DAYLIGHT
TZOFFSETFROM:-0500
TZOFFSETTO:-0400
TZNAME:EDT
DTSTART:20250309T070000
END:DAYLIGHT
BEGIN:STANDARD
TZOFFSETFROM:-0400
TZOFFSETTO:-0500
TZNAME:EST
DTSTART:20251102T060000
END:STANDARD
END:VTIMEZONE
BEGIN:VEVENT
DTSTART;VALUE=DATE:20240801
DTEND;VALUE=DATE:20240901
DTSTAMP:20260421T221235
CREATED:20240521T144700Z
LAST-MODIFIED:20240528T044849Z
UID:10003940-1722470400-1725148799@www.downtownithaca.com
SUMMARY:Seeing Ithaca:  through the eyes of artists
DESCRIPTION:This year State of the Art Gallery Ithaca will again be sponsoring Seeing Ithaca Through the Eyes of Artists. It will take place during the month of August 2024. \nLast year’s event included nine galleries\, each gallery exhibiting art on the broad theme “Seeing Ithaca”. This year we are expanding the scope to include galleries\, artists with studios\, and businesses and other venues that show art. For an updated list of venues\, Click here to head to our website \nArtists will have their studios open August 10\, 12–5. Galleries and other venues will celebrate Gallery Night on August 2\, 5–8.
URL:https://www.downtownithaca.com/event/seeing-ithaca-through-the-eyes-of-artists/
LOCATION:State of the Art Gallery\, 120 W State St #2\, Ithaca\, 14850\, United Kingdom
CATEGORIES:Featured
ATTACH;FMTTYPE=image/png:https://www.downtownithaca.com/wp-content/uploads/Screen-Shot-2024-05-21-at-10.14.53-AM.png
ORGANIZER;CN="State of the Art Gallery":MAILTO:gallery@soag.org
END:VEVENT
BEGIN:VEVENT
DTSTART;TZID=America/New_York:20240815T080000
DTEND;TZID=America/New_York:20240828T170000
DTSTAMP:20260421T221235
CREATED:20240815T161932Z
LAST-MODIFIED:20240815T161932Z
UID:10004098-1723708800-1724864400@www.downtownithaca.com
SUMMARY:Handwork's Summer Seconds Sale
DESCRIPTION:Don’t miss out on Handwork Co-op’s Summer Seconds Sale! Save on handmade art and decor with discounts ranging from 10% to 75% off. Sale includes artist’s seconds and overstock: Locally made pottery\, fiber arts\, jewelry\, woodwork\, glass\, wall art\, and so much more. \nWhat’s on Sale:\n☀️ Artist’s Seconds that are slightly imperfect\, still full of charm\, and totally unique\, beautiful items.\n☀️ Overstock items that are priced to sell. Including work from our local artists\, from New York State artists and beyond.\n📧 Our seconds sale is in-store only but we offer more than one way to shop: E-mail our staff at HandworkOnlineShop@gmail.com to request photos of our shelves and shop the sale from afar.
URL:https://www.downtownithaca.com/event/handworks-summer-seconds-sale/
LOCATION:Handwork\, 102 West State Street\, Ithaca\, N\, 14850\, United States
CATEGORIES:Featured
ATTACH;FMTTYPE=image/jpeg:https://www.downtownithaca.com/wp-content/uploads/453477611_880007227488538_8946195408286539771_n.jpg
ORGANIZER;CN="Handwork":MAILTO:HandworkMPC@gmail.com
END:VEVENT
BEGIN:VEVENT
DTSTART;TZID=America/New_York:20240825T120000
DTEND;TZID=America/New_York:20240825T170000
DTSTAMP:20260421T221235
CREATED:20240722T031056Z
LAST-MODIFIED:20240722T031056Z
UID:10004060-1724587200-1724605200@www.downtownithaca.com
SUMMARY:Seeing Ithaca Through the Eyes of Artists
DESCRIPTION:This year State of the Art Gallery will again be sponsoring Seeing Ithaca Through the Eyes of Artists. It will take place during the month of August 2024\, with gallery members and invited guests exhibiting work on the theme “Seeing Ithaca”.\nIn addition\, exhibits will be hosted at various galleries and other venues that show art around town. All exhibits will celebrate Gallery Night on August 2\, 5–8. PLUS at least 25 artists will have their studios open on August 10 from 12–5. Check out https://seeingithaca.org/ for more information.\nAugust 1 – September 1\, 2024. Opening reception Friday\, August 2\, 5-8 pm.. \nRegular hours Thursday-Sunday 12-5 pm. 120 W State St. Curbside parking and ADA accessibility. 607-277-1626. Made possible in part with funds from the NYS Council on the Arts\, administered by the Community Arts Partnership. \nImages: \nBarbara Behrmann\nIn Our Backyard\nAcrylic on Wood Panel\n15” x 30″
URL:https://www.downtownithaca.com/event/seeing-ithaca-through-the-eyes-of-artists-2/2024-08-25/
LOCATION:State of the Art Gallery\, 120 W State St #2\, Ithaca\, 14850\, United Kingdom
CATEGORIES:Featured
ATTACH;FMTTYPE=image/jpeg:https://www.downtownithaca.com/wp-content/uploads/2024-08-Behrmann-BARBARA-In-Our-Backyard.jpg
ORGANIZER;CN="State of the Art Gallery":MAILTO:gallery@soag.org
END:VEVENT
BEGIN:VEVENT
DTSTART;TZID=America/New_York:20240827T110000
DTEND;TZID=America/New_York:20240827T140000
DTSTAMP:20260421T221235
CREATED:20240715T163309Z
LAST-MODIFIED:20240715T163310Z
UID:10003913-1724756400-1724767200@www.downtownithaca.com
SUMMARY:Ithaca DOWNTOWN Farmers Market
DESCRIPTION:Ithaca Farmers Market returns to DeWitt Park on Tuesday afternoons this summer! \nCome to the shady oasis of DeWitt Park (corners of Cayuga and Buffalo St) on Tuesdays from 11 AM to 2P PM to grab lunch and shop for your weekly groceries including seasonal produce\, locally raised meat\, dairy\, cheese\, and other fresh or prepared grocery items. We welcome use of SNAP/EBT benefits. You can shop for local art and gifts and enjoy a hot meal during this short summer season that will include live music\, a Tompkins County Public Library story time and other activities. \nThe Ithaca Farmers Market emphasizes a direct connection between producer and consumer and promotes and strengthens local agriculture. Our Market features sustainable practices and a diverse array of farm and artisan products\, as well as prepared foods\, all produced within 30 miles.
URL:https://www.downtownithaca.com/event/ithaca-downtown-farmers-market-2/2024-08-27/
LOCATION:Dewitt Park\, 102 E Court Street\, Ithaca\, 14850\, United States
CATEGORIES:Featured
ATTACH;FMTTYPE=image/png:https://www.downtownithaca.com/wp-content/uploads/tuesdaymarket.png
ORGANIZER;CN="Ithaca Farmers Market":MAILTO:info@ithacamarket.com
END:VEVENT
BEGIN:VEVENT
DTSTART;TZID=America/New_York:20240827T190000
DTEND;TZID=America/New_York:20240827T220000
DTSTAMP:20260421T221235
CREATED:20240816T182453Z
LAST-MODIFIED:20240816T182453Z
UID:10004105-1724785200-1724796000@www.downtownithaca.com
SUMMARY:Fat Tuesday New Orleans piano with Professor Keys
DESCRIPTION:A fun night of New Orleans piano with some special guests. Music by Dr John\, James Booker\, Professor Longhair\, and Swing music.
URL:https://www.downtownithaca.com/event/fat-tuesday-new-orleans-piano-with-professor-keys/
LOCATION:Bike Bar Ithaca\, 314 E State St\, Ithaca\, 14850
CATEGORIES:Featured
ATTACH;FMTTYPE=image/jpeg:https://www.downtownithaca.com/wp-content/uploads/‎prof-keys-fat-tuesday-flier-social.‎1.jpeg
ORGANIZER;CN="Andrew Westphal":MAILTO:profkeyspiano@gmail.com
END:VEVENT
BEGIN:VEVENT
DTSTART;TZID=America/New_York:20240828T180000
DTEND;TZID=America/New_York:20240828T200000
DTSTAMP:20260421T221235
CREATED:20240718T155114Z
LAST-MODIFIED:20240718T155114Z
UID:10004043-1724868000-1724875200@www.downtownithaca.com
SUMMARY:Beyond Policing - Book Talk
DESCRIPTION:In this talk\, Philip V. McHarris invites us to critically examine the role of policing within society and explore transformative alternatives. Drawing from his book\, “Beyond Policing\,” McHarris delves into community-based safety models that challenge traditional policing methods and offer sustainable\, inclusive approaches to public safety. Through a combination of rigorous research and compelling narratives\, the talk will explore how we can foster a society where safety is a collective\, community-driven responsibility. \nPhilip V. McHarris is an assistant professor in the Frederick Douglass Institute and Department of Black Studies at the University of Rochester. He earned his PhD in sociology and African American studies at Yale University. He was named one of the Root 100s Most Influential African Americans in 2020\, and has appeared on MSNBC\, CNN\, and PBS and in the New York Times\, the Washington Post\, the Guardian\, and more. \nSadé Lindsay is a sociologist by training whose research interests lie at the intersection of criminal justice\, punishment\, racial inequality\, and public policy. Professor Lindsay’s work examines racism and the criminalization of deviance\, incarceration\, prison reentry\, collateral consequences of criminal justice contact\, and drug policy and use. Professor Lindsay’s scholarship has been published in outlets such as Criminology and Social Problems and received numerous awards from the American Society of Criminology\, the American Sociological Association\, and the Society for the Study of Social Problems. Professor Lindsay’s work has been funded and supported by the National Science Foundation\, the National Institute of Justice\, and the Horowitz Foundation for Social Policy\, among other organizations. Professor Lindsay received her undergraduate and master’s degrees and her Ph.D. from The Ohio State University.
URL:https://www.downtownithaca.com/event/beyond-policing-book-talk/
LOCATION:Buffalo Street Books\, 215 N. Cayuga St.\, Ithaca
CATEGORIES:Featured
ATTACH;FMTTYPE=image/png:https://www.downtownithaca.com/wp-content/uploads/Beyond-Policing-Event-Page-1.png
ORGANIZER;CN="Buffalo Street Books":MAILTO:lisa@buffalostreetbooks.com
END:VEVENT
BEGIN:VEVENT
DTSTART;TZID=America/New_York:20240829T120000
DTEND;TZID=America/New_York:20240829T170000
DTSTAMP:20260421T221235
CREATED:20240722T031056Z
LAST-MODIFIED:20240722T031056Z
UID:10004061-1724932800-1724950800@www.downtownithaca.com
SUMMARY:Seeing Ithaca Through the Eyes of Artists
DESCRIPTION:This year State of the Art Gallery will again be sponsoring Seeing Ithaca Through the Eyes of Artists. It will take place during the month of August 2024\, with gallery members and invited guests exhibiting work on the theme “Seeing Ithaca”.\nIn addition\, exhibits will be hosted at various galleries and other venues that show art around town. All exhibits will celebrate Gallery Night on August 2\, 5–8. PLUS at least 25 artists will have their studios open on August 10 from 12–5. Check out https://seeingithaca.org/ for more information.\nAugust 1 – September 1\, 2024. Opening reception Friday\, August 2\, 5-8 pm.. \nRegular hours Thursday-Sunday 12-5 pm. 120 W State St. Curbside parking and ADA accessibility. 607-277-1626. Made possible in part with funds from the NYS Council on the Arts\, administered by the Community Arts Partnership. \nImages: \nBarbara Behrmann\nIn Our Backyard\nAcrylic on Wood Panel\n15” x 30″
URL:https://www.downtownithaca.com/event/seeing-ithaca-through-the-eyes-of-artists-2/2024-08-29/
LOCATION:State of the Art Gallery\, 120 W State St #2\, Ithaca\, 14850\, United Kingdom
CATEGORIES:Featured
ATTACH;FMTTYPE=image/jpeg:https://www.downtownithaca.com/wp-content/uploads/2024-08-Behrmann-BARBARA-In-Our-Backyard.jpg
ORGANIZER;CN="State of the Art Gallery":MAILTO:gallery@soag.org
END:VEVENT
BEGIN:VEVENT
DTSTART;TZID=America/New_York:20240829T180000
DTEND;TZID=America/New_York:20240829T200000
DTSTAMP:20260421T221235
CREATED:20240718T155053Z
LAST-MODIFIED:20240718T155053Z
UID:10004042-1724954400-1724961600@www.downtownithaca.com
SUMMARY:Jamaica Baldwin and Nancy Miller Gomez in conversation
DESCRIPTION:Jamaica Baldwin and Nancy Miller Gomez will read poems from their newest collections followed by a conversation and a Q&A. \nAbout the Authors \nJamaica (she/her) is a poet and educator originally from Santa Cruz\, CA. Her first book\, Bone Language\, was published by YesYes Books in June 2023. Her work has appeared in Guernica\, World Literature Today\, The Adroit Journal\, Prairie Schooner\, Poetry Northwest\, and The Missouri Review\, among others. Her accolades include a 2023 Pushcart Prize\, a National Endowment for the Arts Fellowship\, a RHINO Poetry editor’s prize\, a Glenna Luschei Prairie Schooner Award\, as well as the San Miguel de Allende Writer’s Conference Contest Poetry Award. Her writing has been supported by Aspen Words\, Storyknife\, Hedgebrook\, Furious Flower\, and the Jack Straw Writers program. Jamaica has a PhD from the University of Nebraska -Lincoln in English with a focus on poetry and Women’s and Gender Studies and she is currently an Assistant Professor in the Department of Writing at Ithaca College in New York. \nNancy Miller Gomez’s is the author of Inconsolable Objects (YesYes Books) and the chapbook\, Punishment (Rattle chapbook series)\, a collection of poems and essays about her experience teaching in prisons and jails. Her work has appeared in Best American Poetry\, Best New Poets\, Prairie Schooner\, The Adroit Journal\, TriQuarterly\, New Ohio Review\, Shenandoah\, River Styx\, Waxwing\, Plume\, The Rumpus\, Rattle\, Massachusetts Review\, American Life in Poetry\, Verse Daily\, and elsewhere. She received a special mention in the 2023 Pushcart Prize Anthology. She co-founded with Ellen Bass an organization that provides writing workshops to incarcerated women and men and has taught poetry in Salinas Valley State Prison\, the Santa Cruz County Jails\, and Juvenile Hall. She lives with her family in Santa Cruz\, California. More at: nancymillergomez.com.
URL:https://www.downtownithaca.com/event/jamaica-baldwin-and-nancy-miller-gomez-in-conversation/
LOCATION:Buffalo Street Books\, 215 N. Cayuga St.\, Ithaca
CATEGORIES:Featured
ATTACH;FMTTYPE=image/png:https://www.downtownithaca.com/wp-content/uploads/Jamaica-Baldwin-and-Nancy-Miller-Gomez.png
ORGANIZER;CN="Buffalo Street Books":MAILTO:lisa@buffalostreetbooks.com
END:VEVENT
BEGIN:VEVENT
DTSTART;VALUE=DATE:20240830
DTEND;VALUE=DATE:20240903
DTSTAMP:20260421T221235
CREATED:20240816T155212Z
LAST-MODIFIED:20240816T155212Z
UID:10004104-1724976000-1725321599@www.downtownithaca.com
SUMMARY:Hupstate Circus Festival
DESCRIPTION:The Hupstate Circus Festival returns to Ithaca this Labor Day Weekend! With over 25 events over 4 days\, there’s something for everyone – free and ticketed shows\, indoor and outdoor performances\, family-friendly and late-night offerings\, and even chances to try out circus yourself!
URL:https://www.downtownithaca.com/event/hupstate-circus-festival-2/
LOCATION:Circus Culture\, 116 W Green St\, Ithaca\, NY\, 14850\, United States
CATEGORIES:Featured
ATTACH;FMTTYPE=image/jpeg:https://www.downtownithaca.com/wp-content/uploads/troika_Photo-Credit_Camille_La_Verde-scaled.jpg
ORGANIZER;CN="Hupstate Circus":MAILTO:natasha@hupstatecircus.org
END:VEVENT
BEGIN:VEVENT
DTSTART;TZID=America/New_York:20240830T120000
DTEND;TZID=America/New_York:20240830T170000
DTSTAMP:20260421T221235
CREATED:20240722T031056Z
LAST-MODIFIED:20240722T031056Z
UID:10004062-1725019200-1725037200@www.downtownithaca.com
SUMMARY:Seeing Ithaca Through the Eyes of Artists
DESCRIPTION:This year State of the Art Gallery will again be sponsoring Seeing Ithaca Through the Eyes of Artists. It will take place during the month of August 2024\, with gallery members and invited guests exhibiting work on the theme “Seeing Ithaca”.\nIn addition\, exhibits will be hosted at various galleries and other venues that show art around town. All exhibits will celebrate Gallery Night on August 2\, 5–8. PLUS at least 25 artists will have their studios open on August 10 from 12–5. Check out https://seeingithaca.org/ for more information.\nAugust 1 – September 1\, 2024. Opening reception Friday\, August 2\, 5-8 pm.. \nRegular hours Thursday-Sunday 12-5 pm. 120 W State St. Curbside parking and ADA accessibility. 607-277-1626. Made possible in part with funds from the NYS Council on the Arts\, administered by the Community Arts Partnership. \nImages: \nBarbara Behrmann\nIn Our Backyard\nAcrylic on Wood Panel\n15” x 30″
URL:https://www.downtownithaca.com/event/seeing-ithaca-through-the-eyes-of-artists-2/2024-08-30/
LOCATION:State of the Art Gallery\, 120 W State St #2\, Ithaca\, 14850\, United Kingdom
CATEGORIES:Featured
ATTACH;FMTTYPE=image/jpeg:https://www.downtownithaca.com/wp-content/uploads/2024-08-Behrmann-BARBARA-In-Our-Backyard.jpg
ORGANIZER;CN="State of the Art Gallery":MAILTO:gallery@soag.org
END:VEVENT
BEGIN:VEVENT
DTSTART;TZID=America/New_York:20240831T120000
DTEND;TZID=America/New_York:20240831T170000
DTSTAMP:20260421T221235
CREATED:20240722T031056Z
LAST-MODIFIED:20240722T031056Z
UID:10004063-1725105600-1725123600@www.downtownithaca.com
SUMMARY:Seeing Ithaca Through the Eyes of Artists
DESCRIPTION:This year State of the Art Gallery will again be sponsoring Seeing Ithaca Through the Eyes of Artists. It will take place during the month of August 2024\, with gallery members and invited guests exhibiting work on the theme “Seeing Ithaca”.\nIn addition\, exhibits will be hosted at various galleries and other venues that show art around town. All exhibits will celebrate Gallery Night on August 2\, 5–8. PLUS at least 25 artists will have their studios open on August 10 from 12–5. Check out https://seeingithaca.org/ for more information.\nAugust 1 – September 1\, 2024. Opening reception Friday\, August 2\, 5-8 pm.. \nRegular hours Thursday-Sunday 12-5 pm. 120 W State St. Curbside parking and ADA accessibility. 607-277-1626. Made possible in part with funds from the NYS Council on the Arts\, administered by the Community Arts Partnership. \nImages: \nBarbara Behrmann\nIn Our Backyard\nAcrylic on Wood Panel\n15” x 30″
URL:https://www.downtownithaca.com/event/seeing-ithaca-through-the-eyes-of-artists-2/2024-08-31/
LOCATION:State of the Art Gallery\, 120 W State St #2\, Ithaca\, 14850\, United Kingdom
CATEGORIES:Featured
ATTACH;FMTTYPE=image/jpeg:https://www.downtownithaca.com/wp-content/uploads/2024-08-Behrmann-BARBARA-In-Our-Backyard.jpg
ORGANIZER;CN="State of the Art Gallery":MAILTO:gallery@soag.org
END:VEVENT
END:VCALENDAR