BEGIN:VCALENDAR
VERSION:2.0
PRODID:-//Downtown Ithaca - ECPv6.15.20//NONSGML v1.0//EN
CALSCALE:GREGORIAN
METHOD:PUBLISH
X-ORIGINAL-URL:https://www.downtownithaca.com
X-WR-CALDESC:Events for Downtown Ithaca
REFRESH-INTERVAL;VALUE=DURATION:PT1H
X-Robots-Tag:noindex
X-PUBLISHED-TTL:PT1H
BEGIN:VTIMEZONE
TZID:America/New_York
BEGIN:DAYLIGHT
TZOFFSETFROM:-0500
TZOFFSETTO:-0400
TZNAME:EDT
DTSTART:20230312T070000
END:DAYLIGHT
BEGIN:STANDARD
TZOFFSETFROM:-0400
TZOFFSETTO:-0500
TZNAME:EST
DTSTART:20231105T060000
END:STANDARD
BEGIN:DAYLIGHT
TZOFFSETFROM:-0500
TZOFFSETTO:-0400
TZNAME:EDT
DTSTART:20240310T070000
END:DAYLIGHT
BEGIN:STANDARD
TZOFFSETFROM:-0400
TZOFFSETTO:-0500
TZNAME:EST
DTSTART:20241103T060000
END:STANDARD
BEGIN:DAYLIGHT
TZOFFSETFROM:-0500
TZOFFSETTO:-0400
TZNAME:EDT
DTSTART:20250309T070000
END:DAYLIGHT
BEGIN:STANDARD
TZOFFSETFROM:-0400
TZOFFSETTO:-0500
TZNAME:EST
DTSTART:20251102T060000
END:STANDARD
END:VTIMEZONE
BEGIN:VEVENT
DTSTART;VALUE=DATE:20240830
DTEND;VALUE=DATE:20240903
DTSTAMP:20260422T042636
CREATED:20240816T155212Z
LAST-MODIFIED:20240816T155212Z
UID:10004104-1724976000-1725321599@www.downtownithaca.com
SUMMARY:Hupstate Circus Festival
DESCRIPTION:The Hupstate Circus Festival returns to Ithaca this Labor Day Weekend! With over 25 events over 4 days\, there’s something for everyone – free and ticketed shows\, indoor and outdoor performances\, family-friendly and late-night offerings\, and even chances to try out circus yourself!
URL:https://www.downtownithaca.com/event/hupstate-circus-festival-2/
LOCATION:Circus Culture\, 116 W Green St\, Ithaca\, NY\, 14850\, United States
CATEGORIES:Featured
ATTACH;FMTTYPE=image/jpeg:https://www.downtownithaca.com/wp-content/uploads/troika_Photo-Credit_Camille_La_Verde-scaled.jpg
ORGANIZER;CN="Hupstate Circus":MAILTO:natasha@hupstatecircus.org
END:VEVENT
BEGIN:VEVENT
DTSTART;TZID=America/New_York:20240901T120000
DTEND;TZID=America/New_York:20240901T170000
DTSTAMP:20260422T042636
CREATED:20240722T031056Z
LAST-MODIFIED:20240722T031056Z
UID:10004064-1725192000-1725210000@www.downtownithaca.com
SUMMARY:Seeing Ithaca Through the Eyes of Artists
DESCRIPTION:This year State of the Art Gallery will again be sponsoring Seeing Ithaca Through the Eyes of Artists. It will take place during the month of August 2024\, with gallery members and invited guests exhibiting work on the theme “Seeing Ithaca”.\nIn addition\, exhibits will be hosted at various galleries and other venues that show art around town. All exhibits will celebrate Gallery Night on August 2\, 5–8. PLUS at least 25 artists will have their studios open on August 10 from 12–5. Check out https://seeingithaca.org/ for more information.\nAugust 1 – September 1\, 2024. Opening reception Friday\, August 2\, 5-8 pm.. \nRegular hours Thursday-Sunday 12-5 pm. 120 W State St. Curbside parking and ADA accessibility. 607-277-1626. Made possible in part with funds from the NYS Council on the Arts\, administered by the Community Arts Partnership. \nImages: \nBarbara Behrmann\nIn Our Backyard\nAcrylic on Wood Panel\n15” x 30″
URL:https://www.downtownithaca.com/event/seeing-ithaca-through-the-eyes-of-artists-2/2024-09-01/
LOCATION:State of the Art Gallery\, 120 W State St #2\, Ithaca\, 14850\, United Kingdom
CATEGORIES:Featured
ATTACH;FMTTYPE=image/jpeg:https://www.downtownithaca.com/wp-content/uploads/2024-08-Behrmann-BARBARA-In-Our-Backyard.jpg
ORGANIZER;CN="State of the Art Gallery":MAILTO:gallery@soag.org
END:VEVENT
BEGIN:VEVENT
DTSTART;TZID=America/New_York:20240903T110000
DTEND;TZID=America/New_York:20240903T140000
DTSTAMP:20260422T042636
CREATED:20240715T163309Z
LAST-MODIFIED:20240715T163310Z
UID:10003915-1725361200-1725372000@www.downtownithaca.com
SUMMARY:Ithaca DOWNTOWN Farmers Market
DESCRIPTION:Ithaca Farmers Market returns to DeWitt Park on Tuesday afternoons this summer! \nCome to the shady oasis of DeWitt Park (corners of Cayuga and Buffalo St) on Tuesdays from 11 AM to 2P PM to grab lunch and shop for your weekly groceries including seasonal produce\, locally raised meat\, dairy\, cheese\, and other fresh or prepared grocery items. We welcome use of SNAP/EBT benefits. You can shop for local art and gifts and enjoy a hot meal during this short summer season that will include live music\, a Tompkins County Public Library story time and other activities. \nThe Ithaca Farmers Market emphasizes a direct connection between producer and consumer and promotes and strengthens local agriculture. Our Market features sustainable practices and a diverse array of farm and artisan products\, as well as prepared foods\, all produced within 30 miles.
URL:https://www.downtownithaca.com/event/ithaca-downtown-farmers-market-2/2024-09-03/
LOCATION:Dewitt Park\, 102 E Court Street\, Ithaca\, 14850\, United States
CATEGORIES:Featured
ATTACH;FMTTYPE=image/png:https://www.downtownithaca.com/wp-content/uploads/tuesdaymarket.png
ORGANIZER;CN="Ithaca Farmers Market":MAILTO:info@ithacamarket.com
END:VEVENT
BEGIN:VEVENT
DTSTART;TZID=America/New_York:20240904T180000
DTEND;TZID=America/New_York:20240904T200000
DTSTAMP:20260422T042636
CREATED:20240830T183253Z
LAST-MODIFIED:20240830T183253Z
UID:10004113-1725472800-1725480000@www.downtownithaca.com
SUMMARY:Telenovela Night
DESCRIPTION:At Kitchen Theatre Company\, get in the spirit of Laughs in Spanish with a lively pre-show celebration! You’ll enjoy a free screening of classic telenovela episodes\, grab a drink from the bar\, and immerse yourself in the drama and humor that set the stage for the show.
URL:https://www.downtownithaca.com/event/telenovela-night/
LOCATION:Kitchen Theatre Company\, 417 W State Street\, Ithaca\, 14850
CATEGORIES:Featured
ATTACH;FMTTYPE=image/png:https://www.downtownithaca.com/wp-content/uploads/Telenovela-event.png
ORGANIZER;CN="Kitchen Theatre Company":MAILTO:info@kitchentheatre.org
END:VEVENT
BEGIN:VEVENT
DTSTART;TZID=America/New_York:20240905T120000
DTEND;TZID=America/New_York:20240905T170000
DTSTAMP:20260422T042636
CREATED:20240812T141420Z
LAST-MODIFIED:20240812T142149Z
UID:10004081-1725537600-1725555600@www.downtownithaca.com
SUMMARY:Variations
DESCRIPTION:In Variations\, artists Patricia Brown and Patricia Hunsinger celebrate subtle and broad differences in light\, color and texture in painting and printmaking. \nSeptember 5-29. Opening reception Friday\, September 6\, 5-8 pm. \nRegular hours Thursday-Sunday 12-5 pm. 120 W State St. Curbside parking and ADA accessibility. 607-277-1626. Made possible in part with funds from the NYS Council on the Arts\, administered by the Community Arts Partnership. \nImage: \nPatricia Brown\nUntitled\, 24_04_17\nAcrylic on Wood panel\n18” x 18”
URL:https://www.downtownithaca.com/event/variations/2024-09-05/
LOCATION:State of the Art Gallery\, 120 W State St #2\, Ithaca\, 14850\, United Kingdom
CATEGORIES:Featured
ATTACH;FMTTYPE=image/jpeg:https://www.downtownithaca.com/wp-content/uploads/2024-09-Brown-Patricia-Variations-26A-24_04_17.jpg
ORGANIZER;CN="State of the Art Gallery":MAILTO:gallery@soag.org
END:VEVENT
BEGIN:VEVENT
DTSTART;TZID=America/New_York:20240905T170000
DTEND;TZID=America/New_York:20240905T190000
DTSTAMP:20260422T042636
CREATED:20240815T172351Z
LAST-MODIFIED:20240815T172622Z
UID:10004100-1725555600-1725562800@www.downtownithaca.com
SUMMARY:"On Strike Against God" with Alec Pollak
DESCRIPTION:Join preeminent Joanna Russ scholar Alec Pollak in celebrating the publication of a new critical edition of ON STRIKE AGAINST GOD\, out now from Feminist Press. Pollak will be joined in conversation by Jeffry Iovannone to discuss Russ’s legacy and delve into her experience in republishing this “curious and powerful revolutionary work.” (—Alison Bechdel) \nALEC POLLAK is a writer\, academic\, and organizer. She is the winner of the 2023 Hazel Rowley Prize and the 2018 Ursula Le Guin Feminist Science Fiction Fellowship for her work on a biography of Joanna Russ. Her writing appears in the LA Review of Books\, the Yale Review\, and various academic publications. She is a PhD candidate in the Department of Literatures in English at Cornell University. \nJOANNA RUSS (1937–2011) was a Hugo and Nebula Award–winning author of feminist science fiction\, fantasy\, and literary criticism. Born in New York City\, Russ graduated from Cornell University in 1957 and held teaching appointments in English and creative writing across the country until settling at the University of Washington in 1977. A historic\, groundbreaking writer of feminist science fiction\, she is best known for her novel The Female Man and now for her darkly funny survey of literary sexism\, How to Suppress Women’s Writing.
URL:https://www.downtownithaca.com/event/on-strike-against-god-with-alec-pollak/
LOCATION:Buffalo Street Books\, 215 N. Cayuga St.\, Ithaca
CATEGORIES:Featured
ATTACH;FMTTYPE=image/png:https://www.downtownithaca.com/wp-content/uploads/On-Strike-Against-God-1.png
ORGANIZER;CN="Buffalo Street Books":MAILTO:lisa@buffalostreetbooks.com
END:VEVENT
BEGIN:VEVENT
DTSTART;TZID=America/New_York:20240906T120000
DTEND;TZID=America/New_York:20240906T170000
DTSTAMP:20260422T042636
CREATED:20240812T141420Z
LAST-MODIFIED:20240812T142149Z
UID:10004082-1725624000-1725642000@www.downtownithaca.com
SUMMARY:Variations
DESCRIPTION:In Variations\, artists Patricia Brown and Patricia Hunsinger celebrate subtle and broad differences in light\, color and texture in painting and printmaking. \nSeptember 5-29. Opening reception Friday\, September 6\, 5-8 pm. \nRegular hours Thursday-Sunday 12-5 pm. 120 W State St. Curbside parking and ADA accessibility. 607-277-1626. Made possible in part with funds from the NYS Council on the Arts\, administered by the Community Arts Partnership. \nImage: \nPatricia Brown\nUntitled\, 24_04_17\nAcrylic on Wood panel\n18” x 18”
URL:https://www.downtownithaca.com/event/variations/2024-09-06/
LOCATION:State of the Art Gallery\, 120 W State St #2\, Ithaca\, 14850\, United Kingdom
CATEGORIES:Featured
ATTACH;FMTTYPE=image/jpeg:https://www.downtownithaca.com/wp-content/uploads/2024-09-Brown-Patricia-Variations-26A-24_04_17.jpg
ORGANIZER;CN="State of the Art Gallery":MAILTO:gallery@soag.org
END:VEVENT
BEGIN:VEVENT
DTSTART;TZID=America/New_York:20240906T170000
DTEND;TZID=America/New_York:20240906T200000
DTSTAMP:20260422T042636
CREATED:20240905T135833Z
LAST-MODIFIED:20240905T135833Z
UID:10004117-1725642000-1725652800@www.downtownithaca.com
SUMMARY:MIX Art Gallery presents Elizabeth McMahon's "The Moon Tipped Her Hat" Opening Sept. 6th\, 5-8pm
DESCRIPTION:Elizabeth McMahon\, “shape maker\,” is an artist whose love of color and happenstance has inspired her work from painting to songwriting\, puppetry to collage. She uses a collage process to build her large assemblages and smaller compositions with painted paper cut-outs\, colored tape\, and yarn. \nMcMahon studied Fashion at Parsons School of Design and Painting at Syracuse University. While raising a family\, she shifted her focus to puppetry and songwriting\, winning a Parent Choice Award for her recording\, Waltzing with Fireflies in 1994. Recent work has returned to the visual format\, showing with the Var Gallery\, Milwaukee 2020\, 64Arts\, Illinois 2021\, and a virtual solo exhibition facilitated by Roaring Artist Gallery 2022. \nThis September\, she will take over Mix Art Gallery with her latest work\, The Moon Tipped Her Hat\, OPENING on September 6th from 5-8 pm\, and running through September 28th.
URL:https://www.downtownithaca.com/event/mix-art-gallery-presents-elizabeth-mcmahons-the-moon-tipped-her-hat-opening-sept-6th-5-8pm/
LOCATION:MIX Art Gallery\, 156 E. State Street\, Ithaca\, 14850
CATEGORIES:Featured
ATTACH;FMTTYPE=image/jpeg:https://www.downtownithaca.com/wp-content/uploads/The-Moon-Tipper-Her-Hat.jpg
ORGANIZER;CN="MIX Art Gallery":MAILTO:contact@mixartgallery.com
END:VEVENT
BEGIN:VEVENT
DTSTART;TZID=America/New_York:20240906T170000
DTEND;TZID=America/New_York:20240906T200000
DTSTAMP:20260422T042636
CREATED:20260201T160037Z
LAST-MODIFIED:20260202T063342Z
UID:10000021-1725642000-1725652800@www.downtownithaca.com
SUMMARY:Ithaca Gallery Night - First Friday of Every Month
DESCRIPTION:ITHACA GALLERY NIGHT \nFRIDAY\, FEBRUARY 6\, 2026\n5:00–8:00 PM\nDOWNTOWN ITHACA \nIthaca Gallery Night is a walkable evening of art openings and cultural experiences throughout Downtown Ithaca. On the first Friday\, galleries\, studios\, and creative spaces open their doors for the public to explore exhibitions\, meet artists\, and experience the city’s arts community in one cohesive night. \nThis event is part of First Friday Ithaca Gallery Night openings.\nPlease visit www.ithacagallerynight.com\nto see all participating locations and current event details. \nFollow along and share your experience using:\n#ithacagallerynight1 #downtownithaca #visitithaca \nFacebook Event Link
URL:https://www.downtownithaca.com/event/gallery-night-ithaca-first-friday-of-every-month/2024-09-06/
ATTACH;FMTTYPE=image/png:https://www.downtownithaca.com/wp-content/uploads/Google-form-GRAPHIC_IthacaGalleryNight-1.png
END:VEVENT
BEGIN:VEVENT
DTSTART;TZID=America/New_York:20240906T180000
DTEND;TZID=America/New_York:20240906T200000
DTSTAMP:20260422T042636
CREATED:20240815T172312Z
LAST-MODIFIED:20240815T172312Z
UID:10004099-1725645600-1725652800@www.downtownithaca.com
SUMMARY:"The World She Edited" - Amy Reading in Conversation with Emily Hopkins
DESCRIPTION:About the Event: Join author Amy Reading and former New Yorker staffer Emily Hopkins to discuss Katharine Sergeant White and the literary world she curated in her 36-year editorship of The New Yorker. White was the invisible hand behind an impressive cohort of writers and was especially sympathetic to women writers just getting their start. The discussion will include how the book world looks different when read over her shoulder\, her long\, productive marriage to E.B. White\, what happens when an editor decides to become a writer\, and other tales from a rich literary life. \nAbout the Author: Amy Reading is the author of The World She Edited: Katharine S. White Edits The New Yorker and The Mark Inside: A Perfect Swindle\, a Cunning Revenge\, and a Small History of the Big Con. Her recent book has been supported by fellowships from the National Endowment of the Humanities and the New York Public Library\, among others. She is the president of the Executive Board of Buffalo Street Books\, on which she has served since 2018.
URL:https://www.downtownithaca.com/event/the-world-she-edited-amy-reading-in-conversation-with-emily-hopkins/
LOCATION:Buffalo Street Books\, 215 N. Cayuga St.\, Ithaca
CATEGORIES:Featured
ATTACH;FMTTYPE=image/png:https://www.downtownithaca.com/wp-content/uploads/Amy-Reading-Event-1.png
ORGANIZER;CN="Buffalo Street Books":MAILTO:lisa@buffalostreetbooks.com
END:VEVENT
BEGIN:VEVENT
DTSTART;TZID=America/New_York:20240907T120000
DTEND;TZID=America/New_York:20240907T170000
DTSTAMP:20260422T042636
CREATED:20240812T141420Z
LAST-MODIFIED:20240812T142149Z
UID:10004083-1725710400-1725728400@www.downtownithaca.com
SUMMARY:Variations
DESCRIPTION:In Variations\, artists Patricia Brown and Patricia Hunsinger celebrate subtle and broad differences in light\, color and texture in painting and printmaking. \nSeptember 5-29. Opening reception Friday\, September 6\, 5-8 pm. \nRegular hours Thursday-Sunday 12-5 pm. 120 W State St. Curbside parking and ADA accessibility. 607-277-1626. Made possible in part with funds from the NYS Council on the Arts\, administered by the Community Arts Partnership. \nImage: \nPatricia Brown\nUntitled\, 24_04_17\nAcrylic on Wood panel\n18” x 18”
URL:https://www.downtownithaca.com/event/variations/2024-09-07/
LOCATION:State of the Art Gallery\, 120 W State St #2\, Ithaca\, 14850\, United Kingdom
CATEGORIES:Featured
ATTACH;FMTTYPE=image/jpeg:https://www.downtownithaca.com/wp-content/uploads/2024-09-Brown-Patricia-Variations-26A-24_04_17.jpg
ORGANIZER;CN="State of the Art Gallery":MAILTO:gallery@soag.org
END:VEVENT
BEGIN:VEVENT
DTSTART;TZID=America/New_York:20240907T140000
DTEND;TZID=America/New_York:20240907T150000
DTSTAMP:20260422T042636
CREATED:20240904T205234Z
LAST-MODIFIED:20240904T205234Z
UID:10004121-1725717600-1725721200@www.downtownithaca.com
SUMMARY:Reading: The Odar Trilogy with Denice Karamardian
DESCRIPTION:Denice’s persistence in research and her skill in turning family mythos and historical documents into gripping narratives is awe-inspiring. Now\, not only are her family histories saved for her own descendants\, but they are also are available to the public as a unique example of local history storytelling. \nYou can find more info here: https://www.thehistorycenter.net/event-5854457?CalendarViewType=1&SelectedDate=9/4/2024 \nJoin Denice at the History Center on Sept. 7\, 2 p.m. – 3 p.m.\, for a reading of her books.
URL:https://www.downtownithaca.com/event/reading-the-odar-trilogy-with-denice-karamardian/
LOCATION:The Tompkins Center for History & Culture\, 110 N Tioga st\, Ithaca\, NY\, 14850\, United States
CATEGORIES:Featured
ORGANIZER;CN="The History Center in Tompkins County":MAILTO:community@thehistorycenter.net
END:VEVENT
BEGIN:VEVENT
DTSTART;TZID=America/New_York:20240907T150000
DTEND;TZID=America/New_York:20240907T170000
DTSTAMP:20260422T042636
CREATED:20240815T172645Z
LAST-MODIFIED:20240815T172645Z
UID:10004101-1725721200-1725728400@www.downtownithaca.com
SUMMARY:"And Some Other Third Thing" - Discussion with Authors Ivy Stevens and Tessa Permar
DESCRIPTION:About the Event: Authors Ivy Stevens and Tessa Permar will be in-store to read selections from their book\, and some other third thing\, as well as discuss their creative practice and the philosophy of their group. \nAbout the Book: These three authors met at the National Theater Institute in 2013. They started a writing group at the beginning of Covid as a way to cope/stay engaged/be creative/etc. They generated prompts from conversations\, books of writing prompts\, writing prompt generator websites\, or whatever was inspiring them that week. “Like a lot of folks\, we all started many projects in 2020\, but this is one of the few we all actually kept up with. We never focused on having any kind of final product. Even this book is not the culmination of all our work; it came out of wanting to celebrate what we’d done so far.”
URL:https://www.downtownithaca.com/event/and-some-other-third-thing-discussion-with-authors-ivy-stevens-and-tessa-permar/
LOCATION:Buffalo Street Books\, 215 N. Cayuga St.\, Ithaca
CATEGORIES:Featured
ATTACH;FMTTYPE=image/png:https://www.downtownithaca.com/wp-content/uploads/And-Some-Other-Third-Thing.png
ORGANIZER;CN="Buffalo Street Books":MAILTO:lisa@buffalostreetbooks.com
END:VEVENT
END:VCALENDAR