BEGIN:VCALENDAR
VERSION:2.0
PRODID:-//Downtown Ithaca - ECPv6.15.20//NONSGML v1.0//EN
CALSCALE:GREGORIAN
METHOD:PUBLISH
X-ORIGINAL-URL:https://www.downtownithaca.com
X-WR-CALDESC:Events for Downtown Ithaca
REFRESH-INTERVAL;VALUE=DURATION:PT1H
X-Robots-Tag:noindex
X-PUBLISHED-TTL:PT1H
BEGIN:VTIMEZONE
TZID:America/New_York
BEGIN:DAYLIGHT
TZOFFSETFROM:-0500
TZOFFSETTO:-0400
TZNAME:EDT
DTSTART:20230312T070000
END:DAYLIGHT
BEGIN:STANDARD
TZOFFSETFROM:-0400
TZOFFSETTO:-0500
TZNAME:EST
DTSTART:20231105T060000
END:STANDARD
BEGIN:DAYLIGHT
TZOFFSETFROM:-0500
TZOFFSETTO:-0400
TZNAME:EDT
DTSTART:20240310T070000
END:DAYLIGHT
BEGIN:STANDARD
TZOFFSETFROM:-0400
TZOFFSETTO:-0500
TZNAME:EST
DTSTART:20241103T060000
END:STANDARD
BEGIN:DAYLIGHT
TZOFFSETFROM:-0500
TZOFFSETTO:-0400
TZNAME:EDT
DTSTART:20250309T070000
END:DAYLIGHT
BEGIN:STANDARD
TZOFFSETFROM:-0400
TZOFFSETTO:-0500
TZNAME:EST
DTSTART:20251102T060000
END:STANDARD
END:VTIMEZONE
BEGIN:VEVENT
DTSTART;TZID=America/New_York:20240911T110000
DTEND;TZID=America/New_York:20240922T120000
DTSTAMP:20260424T071012
CREATED:20240820T173756Z
LAST-MODIFIED:20240820T173756Z
UID:10004107-1726052400-1727006400@www.downtownithaca.com
SUMMARY:LCA & Kitchen Theatre Company Presents "Laughs in Spanish"
DESCRIPTION:Get ready to brighten up your September with “Laughs in Spanish\,” a delightful production at the Kitchen Theatre Company from September 11-22! Laughs in Spanish is a fast-paced\, cafecíto-induced comedy about art and success – and mothers and daughters.. As a special gesture\, the Kitchen Theatre Company will donate 10% of ticket sales to the LCA. Use the code “LCALAUGHS” when purchasing tickets online or mention your community membership to ensure your contribution is counted. For tickets and more information\, visit LCATOMPKINS.ORG. Don’t miss this chance to laugh\, support\, and make a difference! Times vary.
URL:https://www.downtownithaca.com/event/lca-kitchen-theatre-company-presents-laughs-in-spanish/
LOCATION:Kitchen Theatre Company\, 417 W State Street\, Ithaca\, 14850
CATEGORIES:Featured
ATTACH;FMTTYPE=image/jpeg:https://www.downtownithaca.com/wp-content/uploads/For-every-ticket-purchased-using-this-code-Kitchen-Theatre-Company-will-donate-10-of-the-ticket-sales-to-LCA.-This-arrangement-will-not-only-support-LCA-financially-but-also-encourage-your-netwo.png-1.jpg
ORGANIZER;CN="Latino Civic Assocation of Tompkins County":MAILTO:OSPINAYEN@GMAIL.COM
END:VEVENT
BEGIN:VEVENT
DTSTART;TZID=America/New_York:20240911T190000
DTEND;TZID=America/New_York:20240922T203000
DTSTAMP:20260424T071012
CREATED:20240830T184949Z
LAST-MODIFIED:20240830T184949Z
UID:10004114-1726081200-1727037000@www.downtownithaca.com
SUMMARY:Laughs In Spanish
DESCRIPTION:It’s Art Basel\, and the stakes are high for the gallery that Mariana runs in the Wynwood Arts District in Miami. And when Mariana’s movie-star mother tries to help out\, things get even more complicado. Laughs in Spanish is a fast-paced\, cafecíto-induced comedy about art and success – and mothers and daughters.
URL:https://www.downtownithaca.com/event/laughs-in-spanish-2/
LOCATION:Kitchen Theatre Company\, 417 W State Street\, Ithaca\, 14850
CATEGORIES:Featured
ATTACH;FMTTYPE=image/png:https://www.downtownithaca.com/wp-content/uploads/LIS-Square-Dates-1.png
ORGANIZER;CN="Kitchen Theatre Company":MAILTO:info@kitchentheatre.org
END:VEVENT
BEGIN:VEVENT
DTSTART;TZID=America/New_York:20240922T120000
DTEND;TZID=America/New_York:20240922T170000
DTSTAMP:20260424T071012
CREATED:20240812T141420Z
LAST-MODIFIED:20240812T142149Z
UID:10004092-1727006400-1727024400@www.downtownithaca.com
SUMMARY:Variations
DESCRIPTION:In Variations\, artists Patricia Brown and Patricia Hunsinger celebrate subtle and broad differences in light\, color and texture in painting and printmaking. \nSeptember 5-29. Opening reception Friday\, September 6\, 5-8 pm. \nRegular hours Thursday-Sunday 12-5 pm. 120 W State St. Curbside parking and ADA accessibility. 607-277-1626. Made possible in part with funds from the NYS Council on the Arts\, administered by the Community Arts Partnership. \nImage: \nPatricia Brown\nUntitled\, 24_04_17\nAcrylic on Wood panel\n18” x 18”
URL:https://www.downtownithaca.com/event/variations/2024-09-22/
LOCATION:State of the Art Gallery\, 120 W State St #2\, Ithaca\, 14850\, United Kingdom
CATEGORIES:Featured
ATTACH;FMTTYPE=image/jpeg:https://www.downtownithaca.com/wp-content/uploads/2024-09-Brown-Patricia-Variations-26A-24_04_17.jpg
ORGANIZER;CN="State of the Art Gallery":MAILTO:gallery@soag.org
END:VEVENT
BEGIN:VEVENT
DTSTART;TZID=America/New_York:20240922T150000
DTEND;TZID=America/New_York:20240922T170000
DTSTAMP:20260424T071012
CREATED:20240805T135217Z
LAST-MODIFIED:20240805T135217Z
UID:10004078-1727017200-1727024400@www.downtownithaca.com
SUMMARY:Reproductive Rights Film Festival
DESCRIPTION:New York state’s only Reproductive Rights Film Festival will be held September 19 through 22\, at Cinemapolis\, 120 E. Green Street\, Ithaca NY. In direct response to the end of the rights and security of Roe v. Wade and the upcoming election\, End Abortion Stigma (EAS)\, together with Grandmothers For Reproductive Rights (GRR!) and other sponsors are bringing together a selection of films and virtual programs that highlight the need to advance rights and access to abortion\, in the United States and beyond. The festival is free and open to the public. \nThis year’s film festival is expanded to include five films and three virtual panels. Virtual panels will take place during the week of September 9. The film schedule is Thursday\, September 19\, 7 p.m.; Friday\, September 20\, 7 p.m.; Saturday September 21\, 3 p.m. and 7 p.m.; and Sunday September 22\, 3 p.m. \nFor more information: www.ReproductiveRightsFilmFest.com
URL:https://www.downtownithaca.com/event/reproductive-rights-film-festival/2024-09-22/
LOCATION:Cinemapolis\, 120 W Green St\, Ithaca\, 14850
CATEGORIES:Featured
ATTACH;FMTTYPE=image/png:https://www.downtownithaca.com/wp-content/uploads/RRFF_Logo_Black-450x374-1.png
ORGANIZER;CN="close to home productions":MAILTO:sperlgut@gmail.com
END:VEVENT
BEGIN:VEVENT
DTSTART;TZID=America/New_York:20240923T190000
DTEND;TZID=America/New_York:20240923T204500
DTSTAMP:20260424T071012
CREATED:20240903T151849Z
LAST-MODIFIED:20240903T151849Z
UID:10004120-1727118000-1727124300@www.downtownithaca.com
SUMMARY:Join VOICES Multicultural Chorus to "Sing of Celebration"
DESCRIPTION:VOICES is gearing up for our fall semester with a fun mix of pieces for our theme “Songs of Celebration.” We would love to have you join us. We are a non-audition group of singers based in Ithaca\, NY interested in learning\, sharing\, and singing songs from diverse choral traditions. All singers are welcome from beginners to pros. You may participate in the first three sessions without obligation. We meet Monday nights 7:00-8:45 pm on the second floor of the Annex of the First Unitarian Society of Ithaca\, 208 E. Buffalo Street starting September 9. Our closing concert is scheduled for early December. Please register so we can be sure to have music and seating for all: https://acithaca.org/groups/voices/join/ Walkins are welcome also. Come sing with us!
URL:https://www.downtownithaca.com/event/join-voices-multicultural-chorus-to-sing-of-celebration/2024-09-23/
LOCATION:First Unitarian Society of Ithaca\, 306 N. Aurora St.\, Ithaca\, 13077
CATEGORIES:Featured
ATTACH;FMTTYPE=image/jpeg:https://www.downtownithaca.com/wp-content/uploads/Join-VOICES.jpg
ORGANIZER;CN="VOICES Multicultural Chorus":MAILTO:mduttweiler@gmail.com
END:VEVENT
BEGIN:VEVENT
DTSTART;TZID=America/New_York:20240924T110000
DTEND;TZID=America/New_York:20240924T140000
DTSTAMP:20260424T071012
CREATED:20240715T163309Z
LAST-MODIFIED:20240715T163310Z
UID:10003921-1727175600-1727186400@www.downtownithaca.com
SUMMARY:Ithaca DOWNTOWN Farmers Market
DESCRIPTION:Ithaca Farmers Market returns to DeWitt Park on Tuesday afternoons this summer! \nCome to the shady oasis of DeWitt Park (corners of Cayuga and Buffalo St) on Tuesdays from 11 AM to 2P PM to grab lunch and shop for your weekly groceries including seasonal produce\, locally raised meat\, dairy\, cheese\, and other fresh or prepared grocery items. We welcome use of SNAP/EBT benefits. You can shop for local art and gifts and enjoy a hot meal during this short summer season that will include live music\, a Tompkins County Public Library story time and other activities. \nThe Ithaca Farmers Market emphasizes a direct connection between producer and consumer and promotes and strengthens local agriculture. Our Market features sustainable practices and a diverse array of farm and artisan products\, as well as prepared foods\, all produced within 30 miles.
URL:https://www.downtownithaca.com/event/ithaca-downtown-farmers-market-2/2024-09-24/
LOCATION:Dewitt Park\, 102 E Court Street\, Ithaca\, 14850\, United States
CATEGORIES:Featured
ATTACH;FMTTYPE=image/png:https://www.downtownithaca.com/wp-content/uploads/tuesdaymarket.png
ORGANIZER;CN="Ithaca Farmers Market":MAILTO:info@ithacamarket.com
END:VEVENT
BEGIN:VEVENT
DTSTART;TZID=America/New_York:20240926T120000
DTEND;TZID=America/New_York:20240926T170000
DTSTAMP:20260424T071012
CREATED:20240812T141420Z
LAST-MODIFIED:20240812T142149Z
UID:10004093-1727352000-1727370000@www.downtownithaca.com
SUMMARY:Variations
DESCRIPTION:In Variations\, artists Patricia Brown and Patricia Hunsinger celebrate subtle and broad differences in light\, color and texture in painting and printmaking. \nSeptember 5-29. Opening reception Friday\, September 6\, 5-8 pm. \nRegular hours Thursday-Sunday 12-5 pm. 120 W State St. Curbside parking and ADA accessibility. 607-277-1626. Made possible in part with funds from the NYS Council on the Arts\, administered by the Community Arts Partnership. \nImage: \nPatricia Brown\nUntitled\, 24_04_17\nAcrylic on Wood panel\n18” x 18”
URL:https://www.downtownithaca.com/event/variations/2024-09-26/
LOCATION:State of the Art Gallery\, 120 W State St #2\, Ithaca\, 14850\, United Kingdom
CATEGORIES:Featured
ATTACH;FMTTYPE=image/jpeg:https://www.downtownithaca.com/wp-content/uploads/2024-09-Brown-Patricia-Variations-26A-24_04_17.jpg
ORGANIZER;CN="State of the Art Gallery":MAILTO:gallery@soag.org
END:VEVENT
BEGIN:VEVENT
DTSTART;TZID=America/New_York:20240926T170000
DTEND;TZID=America/New_York:20240926T190000
DTSTAMP:20260424T071012
CREATED:20240913T155701Z
LAST-MODIFIED:20240913T155701Z
UID:10004125-1727370000-1727377200@www.downtownithaca.com
SUMMARY:Coltivare Community Wine Course
DESCRIPTION:This course has been designed for members of our extended community who want to learn more about wine in a way that fits into your schedule and your budget. Each week\, we will dive deep into a different internationally-recognized grape varietal\, learning about its classic characteristics\, place of origin\, as well as other regions throughout the world in which it thrives. As you taste the different wines from quality producers\, you will learn how to identify the structural and aromatic elements of the wine and how they are expressed within each of the presented regions. Learning materials will include a list of classic producers for each varietal and region. \nAfter each class\, you will have the option to join Laura in the Coltivare restaurant for small plates paired with the regional examples of the featured varietal explored in the class. \nThursday will become your favorite day of the week as you expand your wine knowledge and enjoy exquisite world cuisine with regional expression! Sign up for one or sign up for them all\, the classes you choose are up to you! \nPrice: $60-$70 per person (depending on the featured varietal) \nMinimum number of students: 8 / Maximum: 20.\nThursday evenings from 5pm – 7pm in the Coltivare Amphitheater \nSept 26 – Chardonnay (Burgundy – Sonoma Coast – Margaret River – Finger Lakes) – $68\nOct 3 – Pinot Noir (Burgundy – Willamette – New Zealand – Finger Lakes ) – $70\nOct 10 – Sauvignon Blanc (Loire Valley – New Zealand – California – Finger Lakes)- $60\nOct 17 – Cabernet Sauvignon (Left Bank Bordeaux –Napa – Chile – Finger Lakes) – $62\nOct 24 – Chenin Blanc and Cabernet Franc (Loire Valley – South Africa – Finger Lakes) – $65\nOct 31 – no class\nNov 7 – Merlot (Right Bank Bordeaux – California – Washington State – Finger Lakes) – $68\nNov 14 – Riesling (Mosel – Alsace – Clare Valley – Kamptal – Finger Lakes) – $60\nNov 21 – Gamay and Malbec (Beaujolais – Finger Lakes – Cohors – Mendoza) – $62\nNov 28 — no class\nDec 5– Gewurztraminer (Pfalz – Alsace – Alto-Adige – Finger Lakes)- $60\nDec 12 – Blaufrankisch/Lemberger (Burgenland – Württemberg – Finger Lakes) -$62
URL:https://www.downtownithaca.com/event/coltivare-community-wine-course/
LOCATION:Coltivare\, 235 S. Cayuga St.\, Ithaca\, NY\, 14850
CATEGORIES:Featured
ORGANIZER;CN="Winter Falk Sommelier":MAILTO:laura@winterfalksomm.com
END:VEVENT
BEGIN:VEVENT
DTSTART;TZID=America/New_York:20240927T120000
DTEND;TZID=America/New_York:20240927T170000
DTSTAMP:20260424T071012
CREATED:20240812T141420Z
LAST-MODIFIED:20240812T142149Z
UID:10004094-1727438400-1727456400@www.downtownithaca.com
SUMMARY:Variations
DESCRIPTION:In Variations\, artists Patricia Brown and Patricia Hunsinger celebrate subtle and broad differences in light\, color and texture in painting and printmaking. \nSeptember 5-29. Opening reception Friday\, September 6\, 5-8 pm. \nRegular hours Thursday-Sunday 12-5 pm. 120 W State St. Curbside parking and ADA accessibility. 607-277-1626. Made possible in part with funds from the NYS Council on the Arts\, administered by the Community Arts Partnership. \nImage: \nPatricia Brown\nUntitled\, 24_04_17\nAcrylic on Wood panel\n18” x 18”
URL:https://www.downtownithaca.com/event/variations/2024-09-27/
LOCATION:State of the Art Gallery\, 120 W State St #2\, Ithaca\, 14850\, United Kingdom
CATEGORIES:Featured
ATTACH;FMTTYPE=image/jpeg:https://www.downtownithaca.com/wp-content/uploads/2024-09-Brown-Patricia-Variations-26A-24_04_17.jpg
ORGANIZER;CN="State of the Art Gallery":MAILTO:gallery@soag.org
END:VEVENT
BEGIN:VEVENT
DTSTART;TZID=America/New_York:20240927T120000
DTEND;TZID=America/New_York:20240929T180000
DTSTAMP:20260424T071012
CREATED:20240923T175945Z
LAST-MODIFIED:20240923T175946Z
UID:10004154-1727438400-1727632800@www.downtownithaca.com
SUMMARY:The Downtown Ithaca Alliance presents the 42nd annual Apple Harvest Festival
DESCRIPTION:Join us for a celebration of fall at the Apple Harvest Festival! Experience the vibrant atmosphere of Downtown Ithaca as you explore local vendors offering delicious apple treats\, handmade crafts\, and unique gifts. Enjoy live music\, family-friendly activities\, and the crisp autumn air while savoring everything apple—from fresh cider to sweet and savory apple-inspired dishes. It’s the perfect way to welcome the season with friends and family!
URL:https://www.downtownithaca.com/event/the-downtown-ithaca-alliance-presents-the-42nd-annual-apple-harvest-festival/
LOCATION:Downtown Ithaca\, United States
CATEGORIES:Featured
ATTACH;FMTTYPE=image/jpeg:https://www.downtownithaca.com/wp-content/uploads/Apple-Harvest-2024-Design-Assests-Complete_1080-x-1080-scaled.jpg
ORGANIZER;CN="Downtown Ithaca":MAILTO:Adam@downtownithaca.com
GEO:42.4394279;-76.4969274
END:VEVENT
BEGIN:VEVENT
DTSTART;TZID=America/New_York:20240927T180000
DTEND;TZID=America/New_York:20240927T203000
DTSTAMP:20260424T071012
CREATED:20240917T182826Z
LAST-MODIFIED:20240917T182826Z
UID:10004148-1727460000-1727469000@www.downtownithaca.com
SUMMARY:Figure Drawing Fridays at CSMA
DESCRIPTION:Drop in for figure drawing sessions at CSMA\, generally held on the 2nd and 4th Friday evenings of each month. If you’re an intermediate or advanced-level artist interested in drawing from the nude model\, come join our non-instructed\, open sketch sessions. Just grab your own supplies and enjoy an evening of creativity in the company of other artists.
URL:https://www.downtownithaca.com/event/figure-drawing-fridays-at-csma/
LOCATION:Community School of Music and Arts\, 330 East State Street\, Ithaca
CATEGORIES:Featured
ATTACH;FMTTYPE=image/png:https://www.downtownithaca.com/wp-content/uploads/figure-drawing-fridays.png
ORGANIZER;CN="Community School of Music &amp%3B Arts":MAILTO:info@csma-ithaca.org
END:VEVENT
BEGIN:VEVENT
DTSTART;TZID=America/New_York:20240928T120000
DTEND;TZID=America/New_York:20240928T170000
DTSTAMP:20260424T071012
CREATED:20240812T141420Z
LAST-MODIFIED:20240812T142149Z
UID:10004095-1727524800-1727542800@www.downtownithaca.com
SUMMARY:Variations
DESCRIPTION:In Variations\, artists Patricia Brown and Patricia Hunsinger celebrate subtle and broad differences in light\, color and texture in painting and printmaking. \nSeptember 5-29. Opening reception Friday\, September 6\, 5-8 pm. \nRegular hours Thursday-Sunday 12-5 pm. 120 W State St. Curbside parking and ADA accessibility. 607-277-1626. Made possible in part with funds from the NYS Council on the Arts\, administered by the Community Arts Partnership. \nImage: \nPatricia Brown\nUntitled\, 24_04_17\nAcrylic on Wood panel\n18” x 18”
URL:https://www.downtownithaca.com/event/variations/2024-09-28/
LOCATION:State of the Art Gallery\, 120 W State St #2\, Ithaca\, 14850\, United Kingdom
CATEGORIES:Featured
ATTACH;FMTTYPE=image/jpeg:https://www.downtownithaca.com/wp-content/uploads/2024-09-Brown-Patricia-Variations-26A-24_04_17.jpg
ORGANIZER;CN="State of the Art Gallery":MAILTO:gallery@soag.org
END:VEVENT
END:VCALENDAR