BEGIN:VCALENDAR
VERSION:2.0
PRODID:-//Downtown Ithaca - ECPv6.15.20//NONSGML v1.0//EN
CALSCALE:GREGORIAN
METHOD:PUBLISH
X-WR-CALNAME:Downtown Ithaca
X-ORIGINAL-URL:https://www.downtownithaca.com
X-WR-CALDESC:Events for Downtown Ithaca
REFRESH-INTERVAL;VALUE=DURATION:PT1H
X-Robots-Tag:noindex
X-PUBLISHED-TTL:PT1H
BEGIN:VTIMEZONE
TZID:America/New_York
BEGIN:DAYLIGHT
TZOFFSETFROM:-0500
TZOFFSETTO:-0400
TZNAME:EDT
DTSTART:20230312T070000
END:DAYLIGHT
BEGIN:STANDARD
TZOFFSETFROM:-0400
TZOFFSETTO:-0500
TZNAME:EST
DTSTART:20231105T060000
END:STANDARD
BEGIN:DAYLIGHT
TZOFFSETFROM:-0500
TZOFFSETTO:-0400
TZNAME:EDT
DTSTART:20240310T070000
END:DAYLIGHT
BEGIN:STANDARD
TZOFFSETFROM:-0400
TZOFFSETTO:-0500
TZNAME:EST
DTSTART:20241103T060000
END:STANDARD
BEGIN:DAYLIGHT
TZOFFSETFROM:-0500
TZOFFSETTO:-0400
TZNAME:EDT
DTSTART:20250309T070000
END:DAYLIGHT
BEGIN:STANDARD
TZOFFSETFROM:-0400
TZOFFSETTO:-0500
TZNAME:EST
DTSTART:20251102T060000
END:STANDARD
END:VTIMEZONE
BEGIN:VEVENT
DTSTART;TZID=America/New_York:20241004T170000
DTEND;TZID=America/New_York:20241126T200000
DTSTAMP:20260425T082713
CREATED:20240820T173819Z
LAST-MODIFIED:20240820T173819Z
UID:10004108-1728061200-1732651200@www.downtownithaca.com
SUMMARY:LCA Presents "Showcasing Talent of Hispanic & Latine Artists in The Fingerlakes" Group Exhibit
DESCRIPTION:Experience the vibrant world of Hispanic and Latiné art at our exciting group exhibition running from October 2 to November 26! Curated by Yen Ospina and Loreto Molina\, this showcase promises a captivating array of artwork. Join us for the opening receptions on October 4 and November 1\, from 5 to 8 PM\, where you can meet the artists\, explore unique pieces\, and support the Latino Civic Association. Don’t miss this opportunity to connect with the artists. For more details and to plan your visit\, go to LCATOMPKINS.ORG.
URL:https://www.downtownithaca.com/event/lca-presents-showcasing-talent-of-hispanic-latine-artists-in-the-fingerlakes-group-exhibit/
LOCATION:Community School of Music and Arts\, 330 East State Street\, Ithaca
CATEGORIES:Featured
ATTACH;FMTTYPE=image/jpeg:https://www.downtownithaca.com/wp-content/uploads/Brown-Green-Artistic-Colorful-Illustration-Art-Workshop-Flyer-1.jpg
ORGANIZER;CN="Latino Civic Assocation of Tompkins County":MAILTO:OSPINAYEN@GMAIL.COM
END:VEVENT
BEGIN:VEVENT
DTSTART;TZID=America/New_York:20241026T143000
DTEND;TZID=America/New_York:20241027T103000
DTSTAMP:20260425T082713
CREATED:20240820T194019Z
LAST-MODIFIED:20240820T194019Z
UID:10004110-1729953000-1730025000@www.downtownithaca.com
SUMMARY:LCA Presents Puppeteer Performance
DESCRIPTION:Don’t miss a magical experience as the Latino Civic Association presents “Pedro y la Odisea del Paraná\,” a captivating puppet show by acclaimed Argentinian puppeteer Leonor Lipszyc. Hosted in collaboration with The Kitchen Theatre Company\, this enchanting performance will take place on October 26 at 2:30 PM and October 27 at 10:30 AM. The show\, performed in Spanish\, is a delightful journey you won’t want to miss. Tickets are available on a pay-what-you-can basis at the door\, with options to pay by cash or Venmo. With only 98 seats available\, reservations are encouraged to secure your spot. For more information and to reserve your place\, visit LCATOMPKINS.ORG. \n¡No te pierdas una experiencia mágica con la presentación de “Pedro y la Odisea del Paraná”\, un cautivador espectáculo de títeres por la aclamada titiritera argentina Leonor Lipszyc! Este evento\, realizado en colaboración con The Kitchen Theatre Company\, se llevará a cabo el 26 de octubre a las 2:30 PM y el 27 de octubre a las 10:30 AM. La función\, en español\, es un viaje encantador que no querrás perderte. Las entradas están disponibles en la modalidad “paga lo que puedas” en la puerta\, con opciones de pago en efectivo o Venmo. Con solo 98 asientos disponibles\, se recomienda hacer reservaciones para asegurar tu lugar. Para más información y para reservar tu espacio\, visita LCATOMPKINS.ORG.
URL:https://www.downtownithaca.com/event/lca-presents-puppeteer-performance/
LOCATION:Kitchen Theatre Company\, 417 W State Street\, Ithaca\, 14850
CATEGORIES:Featured
ATTACH;FMTTYPE=image/jpeg:https://www.downtownithaca.com/wp-content/uploads/Pedro-y-La-Odisea-del-Parana-Pedro-and-The-Odyssey-of-the-Parana-1.jpg
ORGANIZER;CN="Latino Civic Assocation of Tompkins County":MAILTO:OSPINAYEN@GMAIL.COM
END:VEVENT
BEGIN:VEVENT
DTSTART;TZID=America/New_York:20241027T103000
DTEND;TZID=America/New_York:20241027T113000
DTSTAMP:20260425T082713
CREATED:20241027T172424Z
LAST-MODIFIED:20241027T172424Z
UID:10004228-1730025000-1730028600@www.downtownithaca.com
SUMMARY:Tips and Tools for Attracting Feeder Birds
DESCRIPTION:Join staff from the Cornell Lab of Ornithology and Wild Birds Unlimited to discover how to attract birds to your outdoor space. Learn practical tips on bird feeding\, including the best foods\, feeders\, and native plants to support local bird populations. Receive guidance on how to create a safe environment for your feathered visitors. Wild Birds Unlimited will showcase a range of products and help you design the perfect feeder setup. This free program requires registration. With any feeder purchase\, Wild Birds Unlimited will include complimentary bird food.
URL:https://www.downtownithaca.com/event/tips-and-tools-for-attracting-feeder-birds/
CATEGORIES:Featured
ATTACH;FMTTYPE=image/jpeg:https://www.downtownithaca.com/wp-content/uploads/Red-breastedNH_MattMisewicz_ML292271951-scaled.jpg
ORGANIZER;CN="Cornell Lab of Ornithology":MAILTO:cornellbirds@cornell.edu
END:VEVENT
BEGIN:VEVENT
DTSTART;TZID=America/New_York:20241027T120000
DTEND;TZID=America/New_York:20241027T170000
DTSTAMP:20260425T082713
CREATED:20240913T192040Z
LAST-MODIFIED:20240913T192203Z
UID:10004141-1730030400-1730048400@www.downtownithaca.com
SUMMARY:Harry Littell and Jane Dennis
DESCRIPTION:SOAG’s October exhibit features photographs by Harry Littell and mixed media work by Jane Dennis. Littell’s series\, “Parts and Service\,” depicts the stillness and mystery of urban landscapes at twilight\, including scenes in Ithaca\, Cortland\, and Binghamton. Dennis’s sculpture and paintings explore “A Cold War Childhood.” Space race\, rockets\, and duck and cover drills; what effect did it have on us? \nOctober 3-27. Opening reception Friday\, October 4\, 5-8 pm. \nRegular hours Thursday-Sunday 12-5 pm. 120 W State St. Curbside parking and ADA accessibility. 607-277-1626. Made possible in part with funds from the NYS Council on the Arts\, administered by the Community Arts Partnership. \nImage: \nLift Off by Jane Dennis
URL:https://www.downtownithaca.com/event/harry-littell-and-jane-dennis/2024-10-27/
LOCATION:State of the Art Gallery\, 120 W State St #2\, Ithaca\, 14850\, United Kingdom
CATEGORIES:Featured
ATTACH;FMTTYPE=image/jpeg:https://www.downtownithaca.com/wp-content/uploads/Lift-Off-by-Jane-Dennis.jpg
ORGANIZER;CN="State of the Art Gallery":MAILTO:gallery@soag.org
END:VEVENT
BEGIN:VEVENT
DTSTART;TZID=America/New_York:20241027T140000
DTEND;TZID=America/New_York:20241027T153000
DTSTAMP:20260425T082713
CREATED:20241007T134852Z
LAST-MODIFIED:20241007T134852Z
UID:10004187-1730037600-1730043000@www.downtownithaca.com
SUMMARY:"Yield Everything\, Force Nothing" Generative Creative Writing Workshop
DESCRIPTION:About the Workshop Series: \nYield Everything\, Force Nothing is the title of a Jean Valentine poem and hopefully a blessing over this workshop series. In these three classes\, we will yield to our intuition\, write expansively\, and try to forgo the everyday pressures of linear thinking. I will gently guide you through fun\, multi-step interactive prompts and we’ll engage in playful\, radical revision techniques. You will surprise yourself. The most common feedback I get about my teaching style is “I’ve never taken a class like this before” and “I can’t believe I just wrote this!” \nThese classes are meant for adult writers and humans of all skill levels. \nTo register: https://forms.gle/jTL548EPmMpWL8HXA. You are welcome to join 1\, 2\, or all 3 classes. Sliding scale\, if payment is a barrier for you\, please email nicolevbasta@gmail.com. 50% of all proceeds will go to a family in Gaza.
URL:https://www.downtownithaca.com/event/yield-everything-force-nothing-generative-creative-writing-workshop/2024-10-27/
LOCATION:Buffalo Street Books\, 215 N. Cayuga St.\, Ithaca
CATEGORIES:Featured
ATTACH;FMTTYPE=image/png:https://www.downtownithaca.com/wp-content/uploads/download-7.png
ORGANIZER;CN="Buffalo Street Books":MAILTO:lisa@buffalostreetbooks.com
END:VEVENT
BEGIN:VEVENT
DTSTART;TZID=America/New_York:20241029T110000
DTEND;TZID=America/New_York:20241029T140000
DTSTAMP:20260425T082713
CREATED:20240715T163309Z
LAST-MODIFIED:20240715T163310Z
UID:10003931-1730199600-1730210400@www.downtownithaca.com
SUMMARY:Ithaca DOWNTOWN Farmers Market
DESCRIPTION:Ithaca Farmers Market returns to DeWitt Park on Tuesday afternoons this summer! \nCome to the shady oasis of DeWitt Park (corners of Cayuga and Buffalo St) on Tuesdays from 11 AM to 2P PM to grab lunch and shop for your weekly groceries including seasonal produce\, locally raised meat\, dairy\, cheese\, and other fresh or prepared grocery items. We welcome use of SNAP/EBT benefits. You can shop for local art and gifts and enjoy a hot meal during this short summer season that will include live music\, a Tompkins County Public Library story time and other activities. \nThe Ithaca Farmers Market emphasizes a direct connection between producer and consumer and promotes and strengthens local agriculture. Our Market features sustainable practices and a diverse array of farm and artisan products\, as well as prepared foods\, all produced within 30 miles.
URL:https://www.downtownithaca.com/event/ithaca-downtown-farmers-market-2/2024-10-29/
LOCATION:Dewitt Park\, 102 E Court Street\, Ithaca\, 14850\, United States
CATEGORIES:Featured
ATTACH;FMTTYPE=image/png:https://www.downtownithaca.com/wp-content/uploads/tuesdaymarket.png
ORGANIZER;CN="Ithaca Farmers Market":MAILTO:info@ithacamarket.com
END:VEVENT
BEGIN:VEVENT
DTSTART;TZID=America/New_York:20241030T090000
DTEND;TZID=America/New_York:20241030T120000
DTSTAMP:20260425T082713
CREATED:20240926T143347Z
LAST-MODIFIED:20240926T143347Z
UID:10004167-1730278800-1730289600@www.downtownithaca.com
SUMMARY:28th Annual World of Skills Job Fair
DESCRIPTION:Job seekers are invited to join us for the 28th annual World of Skills job fair on October 30th at 9am to noon. The event will take place at the Hotel Ithaca\, where over 30 employers will be available to discuss job and career opportunities. The first 20 job seekers will receive door prizes\, and there will also be a raffle to win a refurbished laptop! Attending employers include: Lakeview Health Services\, Stafkings\, TCAT\, Therm\, Walmart\, William George Agency\, Unity House\, Tompkins County Human Resources\, Cornell University\, Express Employment Professionals\, Finger Lakes Independence Center\, Hospicare & Palliative Care Services\, TST BOCES\, Wegmans\, Finger Lakes Residential Center\, Cayuga Health\, Classen Home Health\, Laborers Union 785\, Painters Union\, Hotel Ithaca\, Springbrook\, Guthrie\, CFCU Community Credit Union.
URL:https://www.downtownithaca.com/event/28th-annual-world-of-skills-job-fair/
LOCATION:Hotel Ithaca\, 222 S. Cayuga St.\, Ithaca\, NY\, 14850
CATEGORIES:Featured
ATTACH;FMTTYPE=image/png:https://www.downtownithaca.com/wp-content/uploads/World-of-Skills-Job-Fair.pdf-Instagram-Post.png
ORGANIZER;CN="Finger Lakes Independence Center":MAILTO:info@fliconline.org
END:VEVENT
BEGIN:VEVENT
DTSTART;TZID=America/New_York:20241030T190000
DTEND;TZID=America/New_York:20241030T210000
DTSTAMP:20260425T082713
CREATED:20241008T183419Z
LAST-MODIFIED:20241008T183419Z
UID:10004193-1730314800-1730322000@www.downtownithaca.com
SUMMARY:Halloween Ball at Bike Bar Ithaca with Taksim & Belly Dance
DESCRIPTION:A Halloween themed live Middle Eastern music and belly dance show like you’ve never seen before! Taksim Ithaca with amazing dancers Pixie\, Anya Hamer\, Alicia Free\, (and hopefully Ellen George!). No cover. Tips welcome.
URL:https://www.downtownithaca.com/event/halloween-ball-at-bike-bar-ithaca-with-taksim-belly-dance/
LOCATION:Bike Bar Ithaca\, 314 E State St\, Ithaca\, 14850
CATEGORIES:Featured
ATTACH;FMTTYPE=image/jpeg:https://www.downtownithaca.com/wp-content/uploads/Wanah-Halloween-Ball-2024-Poster-Instagram-and-FB-Post.jpg
ORGANIZER;CN="Taksim Ithaca":MAILTO:cumememusic@gmail.com
END:VEVENT
BEGIN:VEVENT
DTSTART;TZID=America/New_York:20241030T193000
DTEND;TZID=America/New_York:20241030T220000
DTSTAMP:20260425T082713
CREATED:20241027T172511Z
LAST-MODIFIED:20241027T172511Z
UID:10004229-1730316600-1730325600@www.downtownithaca.com
SUMMARY:Dracula: A Concert Reading
DESCRIPTION:Celebrate the Halloween season as ten actors bring Bram Stoker’s thrilling narrative of the world’s greatest vampire to life in a one-night only presentation of DRACULA or The Un-Dead! A spoken word event with sound effects\, drawn from the novel.
URL:https://www.downtownithaca.com/event/dracula-a-concert-reading/
LOCATION:Community School of Music and Arts\, 330 East State Street\, Ithaca
CATEGORIES:Featured
ATTACH;FMTTYPE=image/jpeg:https://www.downtownithaca.com/wp-content/uploads/dracula-square.jpg
ORGANIZER;CN="Theatre Incognita":MAILTO:info@theatreincognita.org
END:VEVENT
BEGIN:VEVENT
DTSTART;TZID=America/New_York:20241101T140000
DTEND;TZID=America/New_York:20241104T160000
DTSTAMP:20260425T082713
CREATED:20240812T152214Z
LAST-MODIFIED:20240813T154139Z
UID:10004096-1730469600-1730736000@www.downtownithaca.com
SUMMARY:Puppet Homecoming 2024: Puppets are Gorges
DESCRIPTION:The Northeast & Mid-Atlantic regions of Puppeteers of America\, proudly present “Puppet Homecoming 2024” our next biannual regional puppetry festival to be held for the first time in the commons section of Ithaca\, NY. Are you a fan of the art of puppetry\, or maybe you’re not sure yet. Our festival will have something for all puppet interest\, from the puppet-curios to the professionals. We will have some family friendly shows and workshops as well as more advanced ones as well. This festival will feature 7 unique shows\, 21 different workshops\, street performances\, a Puppet SLAM (short form curated adult themed puppetry performances)\, a Potpourri (an open mic for puppeteers)\, a public puppetry store\, and a parade. The official festival will run from Friday November 1st through Sunday November 3rd\, and will have a separate professional day on Monday November 4th for PIET (Puppeteers in Education & Therapy). This festival is open to everyone\, however if you are a member of Puppeteers of America (PofA) you will get a discount (pro-tip\, the discount is the same price of a PofA membership). Registration for the full event is set to open on August 1st at: (https://www.puppeteers.org/puppet-homecoming). Tickets for individual shows and workshops will be sold at the event depending on remaining seating. I hope that everyone will come and join us!
URL:https://www.downtownithaca.com/event/puppet-homecoming-2024-puppets-are-gorges/
LOCATION:Community School of Music and Arts\, 330 East State Street\, Ithaca
CATEGORIES:Featured
ATTACH;FMTTYPE=image/png:https://www.downtownithaca.com/wp-content/uploads/Puppet-ad.png
END:VEVENT
BEGIN:VEVENT
DTSTART;TZID=America/New_York:20241101T170000
DTEND;TZID=America/New_York:20241101T200000
DTSTAMP:20260425T082713
CREATED:20241010T135454Z
LAST-MODIFIED:20241010T135454Z
UID:10004195-1730480400-1730491200@www.downtownithaca.com
SUMMARY:Present Conversations II - Group BIPOC Exhibition & Artists Talks
DESCRIPTION:Join us for the opening of Present Conversations II\, a dynamic group exhibition showcasing the works of BIPOC artists\, curated by Yen Ospina through Orozco Gallery Ithaca. The exhibition opens on Friday\, November 1st\, from 5-8 PM at CAP ArtSpace\, located in The History Center at 110 N Tioga St\, right in the heart of the Ithaca Commons.\nThis exhibit provides a platform for artists of color to share their unique perspectives and creative expressions\, exploring themes that resonate within their communities and beyond.\nThroughout the month of November\, we invite you to engage deeper with these artists during our artist talks located at CAP Artspace (100 N TIOGA ST\, ITHACA NY. Located in The History Center in the middle of the commons.) These will be held on\nWednesday\, November 6th\n5:30PM – AL TEJERA\n6:00PM – REDI PALMER\n6:30PM – JADA HAYNES\n7:00PM – EMILY DE LIMA\nWednesday\, November 13th\n5:30PM – RICHARD COLON\n6:00PM – LAMBS WING\n6:30PM – ZACH SCOTTON\n7:00PM – GESELLE DOMINIGUEZ\nThursday\, November 14th\n5:30PM – DANIEL RIVERA\n6:00PM – SARAH LOPEZ\n6:30PM – YEN OSPINA\n7:00PM – MARIKA CHEW\nWednesday\, November 20th\n5:30PM – SHIYI LI\n6:00PM – ANNIE SHENG\n6:30PM – PYUS CHAN\nEach talk is an opportunity to learn more about the inspirations behind the artwork\, with interactive icebreaker questions fostering a connection between the artists and the audience.\nA few of the participating artists will have prints available for sale during their talks\, offering you a chance to take a piece of the exhibition home with you. Whether you’re an art enthusiast\, a supporter of BIPOC voices\, or simply curious\, this exhibition and the accompanying talks promise to be enriching and inspiring experiences.\nTo learn more go to @orozcogalleryithaca for updates!\nFor any questions\, please reach out to Yen Ospina at ospinayen@gmail.com.\nMade possible in full by Community Arts Partnership Grants & Yen Ospina
URL:https://www.downtownithaca.com/event/present-conversations-ii-group-bipoc-exhibition-artists-talks/
LOCATION:Community Arts Partnership of Tompkins County\, 110 N. Tioga Street\, Ithaca
CATEGORIES:Featured
ATTACH;FMTTYPE=image/jpeg:https://www.downtownithaca.com/wp-content/uploads/PRESENTCONVOFLYER.jpeg
ORGANIZER;CN="Gallery Orozco Ithaca":MAILTO:ospinayen@gmail.com
END:VEVENT
BEGIN:VEVENT
DTSTART;TZID=America/New_York:20241101T170000
DTEND;TZID=America/New_York:20241101T200000
DTSTAMP:20260425T082713
CREATED:20260201T160037Z
LAST-MODIFIED:20260202T063342Z
UID:10000023-1730480400-1730491200@www.downtownithaca.com
SUMMARY:Ithaca Gallery Night - First Friday of Every Month
DESCRIPTION:ITHACA GALLERY NIGHT \nFRIDAY\, FEBRUARY 6\, 2026\n5:00–8:00 PM\nDOWNTOWN ITHACA \nIthaca Gallery Night is a walkable evening of art openings and cultural experiences throughout Downtown Ithaca. On the first Friday\, galleries\, studios\, and creative spaces open their doors for the public to explore exhibitions\, meet artists\, and experience the city’s arts community in one cohesive night. \nThis event is part of First Friday Ithaca Gallery Night openings.\nPlease visit www.ithacagallerynight.com\nto see all participating locations and current event details. \nFollow along and share your experience using:\n#ithacagallerynight1 #downtownithaca #visitithaca \nFacebook Event Link
URL:https://www.downtownithaca.com/event/gallery-night-ithaca-first-friday-of-every-month/2024-11-01/
ATTACH;FMTTYPE=image/png:https://www.downtownithaca.com/wp-content/uploads/Google-form-GRAPHIC_IthacaGalleryNight-1.png
END:VEVENT
BEGIN:VEVENT
DTSTART;TZID=America/New_York:20241102T140000
DTEND;TZID=America/New_York:20241102T160000
DTSTAMP:20260425T082713
CREATED:20241101T142614Z
LAST-MODIFIED:20241101T142614Z
UID:10004232-1730556000-1730563200@www.downtownithaca.com
SUMMARY:"The Eighth Moon" with Jennifer Kabat and Chris Holmes
DESCRIPTION:Join Buffalo Street Books for a conversation with Jennifer Kabat and Chris Holmes. They will be discussing Kabat’s debut memoir for a special live recording of the Burned By Books podcast.
URL:https://www.downtownithaca.com/event/the-eighth-moon-with-jennifer-kabat-and-chris-holmes/
LOCATION:Buffalo Street Books\, 215 N. Cayuga St.\, Ithaca
CATEGORIES:Featured
ATTACH;FMTTYPE=image/png:https://www.downtownithaca.com/wp-content/uploads/Eighth-Moon-Event-Post.png
ORGANIZER;CN="Buffalo Street Books":MAILTO:lisa@buffalostreetbooks.com
END:VEVENT
END:VCALENDAR