BEGIN:VCALENDAR
VERSION:2.0
PRODID:-//Downtown Ithaca - ECPv6.15.20//NONSGML v1.0//EN
CALSCALE:GREGORIAN
METHOD:PUBLISH
X-ORIGINAL-URL:https://www.downtownithaca.com
X-WR-CALDESC:Events for Downtown Ithaca
REFRESH-INTERVAL;VALUE=DURATION:PT1H
X-Robots-Tag:noindex
X-PUBLISHED-TTL:PT1H
BEGIN:VTIMEZONE
TZID:America/New_York
BEGIN:DAYLIGHT
TZOFFSETFROM:-0500
TZOFFSETTO:-0400
TZNAME:EDT
DTSTART:20230312T070000
END:DAYLIGHT
BEGIN:STANDARD
TZOFFSETFROM:-0400
TZOFFSETTO:-0500
TZNAME:EST
DTSTART:20231105T060000
END:STANDARD
BEGIN:DAYLIGHT
TZOFFSETFROM:-0500
TZOFFSETTO:-0400
TZNAME:EDT
DTSTART:20240310T070000
END:DAYLIGHT
BEGIN:STANDARD
TZOFFSETFROM:-0400
TZOFFSETTO:-0500
TZNAME:EST
DTSTART:20241103T060000
END:STANDARD
BEGIN:DAYLIGHT
TZOFFSETFROM:-0500
TZOFFSETTO:-0400
TZNAME:EDT
DTSTART:20250309T070000
END:DAYLIGHT
BEGIN:STANDARD
TZOFFSETFROM:-0400
TZOFFSETTO:-0500
TZNAME:EST
DTSTART:20251102T060000
END:STANDARD
END:VTIMEZONE
BEGIN:VEVENT
DTSTART;TZID=America/New_York:20241004T170000
DTEND;TZID=America/New_York:20241126T200000
DTSTAMP:20260425T112426
CREATED:20240820T173819Z
LAST-MODIFIED:20240820T173819Z
UID:10004108-1728061200-1732651200@www.downtownithaca.com
SUMMARY:LCA Presents "Showcasing Talent of Hispanic & Latine Artists in The Fingerlakes" Group Exhibit
DESCRIPTION:Experience the vibrant world of Hispanic and Latiné art at our exciting group exhibition running from October 2 to November 26! Curated by Yen Ospina and Loreto Molina\, this showcase promises a captivating array of artwork. Join us for the opening receptions on October 4 and November 1\, from 5 to 8 PM\, where you can meet the artists\, explore unique pieces\, and support the Latino Civic Association. Don’t miss this opportunity to connect with the artists. For more details and to plan your visit\, go to LCATOMPKINS.ORG.
URL:https://www.downtownithaca.com/event/lca-presents-showcasing-talent-of-hispanic-latine-artists-in-the-fingerlakes-group-exhibit/
LOCATION:Community School of Music and Arts\, 330 East State Street\, Ithaca
CATEGORIES:Featured
ATTACH;FMTTYPE=image/jpeg:https://www.downtownithaca.com/wp-content/uploads/Brown-Green-Artistic-Colorful-Illustration-Art-Workshop-Flyer-1.jpg
ORGANIZER;CN="Latino Civic Assocation of Tompkins County":MAILTO:OSPINAYEN@GMAIL.COM
END:VEVENT
BEGIN:VEVENT
DTSTART;TZID=America/New_York:20241101T140000
DTEND;TZID=America/New_York:20241104T160000
DTSTAMP:20260425T112426
CREATED:20240812T152214Z
LAST-MODIFIED:20240813T154139Z
UID:10004096-1730469600-1730736000@www.downtownithaca.com
SUMMARY:Puppet Homecoming 2024: Puppets are Gorges
DESCRIPTION:The Northeast & Mid-Atlantic regions of Puppeteers of America\, proudly present “Puppet Homecoming 2024” our next biannual regional puppetry festival to be held for the first time in the commons section of Ithaca\, NY. Are you a fan of the art of puppetry\, or maybe you’re not sure yet. Our festival will have something for all puppet interest\, from the puppet-curios to the professionals. We will have some family friendly shows and workshops as well as more advanced ones as well. This festival will feature 7 unique shows\, 21 different workshops\, street performances\, a Puppet SLAM (short form curated adult themed puppetry performances)\, a Potpourri (an open mic for puppeteers)\, a public puppetry store\, and a parade. The official festival will run from Friday November 1st through Sunday November 3rd\, and will have a separate professional day on Monday November 4th for PIET (Puppeteers in Education & Therapy). This festival is open to everyone\, however if you are a member of Puppeteers of America (PofA) you will get a discount (pro-tip\, the discount is the same price of a PofA membership). Registration for the full event is set to open on August 1st at: (https://www.puppeteers.org/puppet-homecoming). Tickets for individual shows and workshops will be sold at the event depending on remaining seating. I hope that everyone will come and join us!
URL:https://www.downtownithaca.com/event/puppet-homecoming-2024-puppets-are-gorges/
LOCATION:Community School of Music and Arts\, 330 East State Street\, Ithaca
CATEGORIES:Featured
ATTACH;FMTTYPE=image/png:https://www.downtownithaca.com/wp-content/uploads/Puppet-ad.png
END:VEVENT
BEGIN:VEVENT
DTSTART;TZID=America/New_York:20241103T130000
DTEND;TZID=America/New_York:20241103T170000
DTSTAMP:20260425T112426
CREATED:20241015T190555Z
LAST-MODIFIED:20241015T190555Z
UID:10004200-1730638800-1730653200@www.downtownithaca.com
SUMMARY:Nice Racks Market
DESCRIPTION:Fall fits for all! 12 vintage vendors and local product creators bringing Ithaca the very best mens and womens clothing\, accessories\, footwear and handbags. Plus chicken and beer made on site!
URL:https://www.downtownithaca.com/event/nice-racks-market/
LOCATION:Liquid State Brewery\, 620 W. Green St.\, Ithaca
CATEGORIES:Featured
ATTACH;FMTTYPE=image/png:https://www.downtownithaca.com/wp-content/uploads/NICERACKS6.IG_.png
ORGANIZER;CN="Liquid State Brewery":MAILTO:art@liquidstatebeer.com
END:VEVENT
BEGIN:VEVENT
DTSTART;TZID=America/New_York:20241108T120000
DTEND;TZID=America/New_York:20241108T160000
DTSTAMP:20260425T112426
CREATED:20241027T172540Z
LAST-MODIFIED:20241027T172540Z
UID:10004230-1731067200-1731081600@www.downtownithaca.com
SUMMARY:Lifelong Fall Artisan Craft Sale
DESCRIPTION:Artisan pieces\, crafts\, collectibles and baked goods with plenty of vendors\, all in the lovely Library Place Community Room space! Come shop for something special for yourself\, or get a jump on your holiday gifting. Free to attend!
URL:https://www.downtownithaca.com/event/lifelong-fall-artisan-craft-sale/
LOCATION:Library Place\, 105 West Court St Ithaca\, NY 14850\, Ithaca\, 14850
CATEGORIES:Featured
ATTACH;FMTTYPE=image/png:https://www.downtownithaca.com/wp-content/uploads/FREE-Facebook-Post.png
ORGANIZER;CN="Lifelong":MAILTO:kcollins@tclifelong.org
END:VEVENT
BEGIN:VEVENT
DTSTART;TZID=America/New_York:20241108T180000
DTEND;TZID=America/New_York:20241108T203000
DTSTAMP:20260425T112426
CREATED:20241016T204510Z
LAST-MODIFIED:20241016T204510Z
UID:10004203-1731088800-1731097800@www.downtownithaca.com
SUMMARY:Figure Drawing Fridays at CSMA
DESCRIPTION:Drop in for figure drawing sessions at CSMA\, generally held on the 2nd and 4th Friday evenings of each month. If you’re an intermediate or advanced-level artist interested in drawing from the nude model\, come join our non-instructed\, open sketch sessions. Just grab your own supplies and enjoy an evening of creativity in the company of other artists.
URL:https://www.downtownithaca.com/event/figure-drawing-fridays-at-csma-2/
LOCATION:Community School of Music and Arts\, 330 East State Street\, Ithaca
CATEGORIES:Featured
ATTACH;FMTTYPE=image/png:https://www.downtownithaca.com/wp-content/uploads/figure-drawing-fridays-2.png
ORGANIZER;CN="Community School of Music &amp%3B Arts":MAILTO:info@csma-ithaca.org
END:VEVENT
BEGIN:VEVENT
DTSTART;TZID=America/New_York:20241108T200000
DTEND;TZID=America/New_York:20241108T220000
DTSTAMP:20260425T112426
CREATED:20240930T163316Z
LAST-MODIFIED:20240930T163316Z
UID:10004177-1731096000-1731103200@www.downtownithaca.com
SUMMARY:Ben Folds
DESCRIPTION:Ben Folds\, the acclaimed singer-songwriter and pianist\, will be bringing his signature blend of indie rock\, pop\, and classical influences to Ithaca on November 8\, 2024. Known for his witty lyrics\, powerful piano melodies\, and engaging stage presence\, Folds has captured the hearts of fans worldwide with hits like “Brick\,” “Rockin’ the Suburbs\,” and “The Luckiest.” Over the years\, he has earned numerous accolades\, including collaborations with symphony orchestras and a stint as a judge on NBC’s The Sing-Off. \nThis stop on his tour will feature a mix of fan favorites alongside new tracks from his latest album\, What Matters Most. Audiences can expect an evening filled with humor\, heartfelt stories\, and impeccable musicianship as Folds delivers another unforgettable live performance. Whether you’re a longtime fan or new to his music\, this is a show not to be missed!
URL:https://www.downtownithaca.com/event/ben-folds/
LOCATION:State Theatre of Ithaca\, 107 W. State Street\, Ithaca\, NY\, 14850\, United States
CATEGORIES:Featured
ORGANIZER;CN="State Theatre of Ithaca":MAILTO:Info@stateofithaca.org
END:VEVENT
BEGIN:VEVENT
DTSTART;TZID=America/New_York:20241109T140000
DTEND;TZID=America/New_York:20241109T153000
DTSTAMP:20260425T112426
CREATED:20241101T142809Z
LAST-MODIFIED:20241101T142809Z
UID:10004231-1731160800-1731166200@www.downtownithaca.com
SUMMARY:James Baldwin: A Celebration & Community Conversation
DESCRIPTION:Celebrate James Baldwin with us and take home a free copy of a Baldwin book\, donated by Beacon Press! Funds raised support Buffalo Street Books as it transitions to a nonprofit model. \nOur conversation will be led by: \nMwalimu Kofi Acree\, Director for the John Henrik Clarke Africana Library and Curator of Africana Collections for the Division of Rare and Manuscript Collections \nAnne V. Adams\, Professor Emerita of Africana\, Women’s\, and Afro-German studies \nKenneth A. McClane\, W.E.B. Dubois Professor of Literature Emeritus
URL:https://www.downtownithaca.com/event/james-baldwin-a-celebration-community-conversation/
LOCATION:Buffalo Street Books\, 215 N. Cayuga St.\, Ithaca
CATEGORIES:Featured
ATTACH;FMTTYPE=image/png:https://www.downtownithaca.com/wp-content/uploads/celebration-baldwin.png
ORGANIZER;CN="Buffalo Street Books":MAILTO:lisa@buffalostreetbooks.com
END:VEVENT
BEGIN:VEVENT
DTSTART;TZID=America/New_York:20241109T140000
DTEND;TZID=America/New_York:20241109T160000
DTSTAMP:20260425T112426
CREATED:20241105T061346Z
LAST-MODIFIED:20241105T061346Z
UID:10004233-1731160800-1731168000@www.downtownithaca.com
SUMMARY:Corn Husk Dolls with Penny Miner
DESCRIPTION:Do you know the story of No Face Doll? \nJoin us\, Saturday\, November 9th\, at 2 p.m.\, to learn a piece of Haudenosaunee culture from Penny Miner. From the Allegany Territory and the Seneca Nation\, Penelope is a traditional Seneca Artist who has been practicing her art since her youth. Her art forms include black ash basketry\, corn husk dolls and beadwork\, and are all influenced by her family who inspired her to continue the traditions. At this event she’ll tell the story of a corn husk doll and lead the group in creating their own dolls to bring home. \nThere are limited spots available and tickets are required for each participant who would like to make and bring home a doll. \nSupplies are provided\, and admission to the History Center in Tompkins County is complimentary. This craft is best completed by children (or grown-ups) who have learned how to tie knots\, and children under the age of 16 must be accompanied at all times. \nFind more information on Penny Miner here: www.penelopeminner.com \nFind more information on The History Center in Tompkins County here: thehistorycenter.net
URL:https://www.downtownithaca.com/event/corn-husk-dolls-with-penny-miner/
LOCATION:The Tompkins Center for History & Culture\, 110 N Tioga st\, Ithaca\, NY\, 14850\, United States
CATEGORIES:Featured
ATTACH;FMTTYPE=image/png:https://www.downtownithaca.com/wp-content/uploads/1-2.png
ORGANIZER;CN="The History Center in Tompkins County":MAILTO:community@thehistorycenter.net
END:VEVENT
BEGIN:VEVENT
DTSTART;TZID=America/New_York:20241109T143000
DTEND;TZID=America/New_York:20241109T163000
DTSTAMP:20260425T112426
CREATED:20241007T135429Z
LAST-MODIFIED:20241007T135429Z
UID:10004179-1731162600-1731169800@www.downtownithaca.com
SUMMARY:Writing Workshop: Get Inside Your Character's Head
DESCRIPTION:In this fiction writing workshop learn how to develop a character using a ‘character tree\,’ psychology\, personality typing\, and putting them in situations of stress and novelty. Led by local speculative fiction author\, Naomi Daniluk. Registration required through Community School of Music and Arts.
URL:https://www.downtownithaca.com/event/writing-workshop-get-inside-your-characters-head/
LOCATION:Community School of Music and Arts\, 330 East State Street\, Ithaca
CATEGORIES:Featured
ATTACH;FMTTYPE=image/png:https://www.downtownithaca.com/wp-content/uploads/Character-Workshop-Fb-Event-Cover.png
ORGANIZER;CN="Community School of Music &amp%3B Arts":MAILTO:info@csma-ithaca.org
END:VEVENT
BEGIN:VEVENT
DTSTART;TZID=America/New_York:20241109T170000
DTEND;TZID=America/New_York:20241109T190000
DTSTAMP:20260425T112426
CREATED:20241108T210349Z
LAST-MODIFIED:20241108T210349Z
UID:10004236-1731171600-1731178800@www.downtownithaca.com
SUMMARY:"Window of Tolerance" with Susanna Cupido
DESCRIPTION:Susanna Cupido is excited to celebrate the launch of her debut novel\, Window of Tolerance. Please join her at Buffalo Street Books for a short reading and Q&A period.
URL:https://www.downtownithaca.com/event/window-of-tolerance-with-susanna-cupido/
LOCATION:Buffalo Street Books\, 215 N. Cayuga St.\, Ithaca
CATEGORIES:Featured
ATTACH;FMTTYPE=image/png:https://www.downtownithaca.com/wp-content/uploads/Susanna-Cupido-Window-of-Tolerance.png
ORGANIZER;CN="Buffalo Street Books":MAILTO:lisa@buffalostreetbooks.com
END:VEVENT
END:VCALENDAR