BEGIN:VCALENDAR
VERSION:2.0
PRODID:-//Downtown Ithaca - ECPv6.15.20//NONSGML v1.0//EN
CALSCALE:GREGORIAN
METHOD:PUBLISH
X-ORIGINAL-URL:https://www.downtownithaca.com
X-WR-CALDESC:Events for Downtown Ithaca
REFRESH-INTERVAL;VALUE=DURATION:PT1H
X-Robots-Tag:noindex
X-PUBLISHED-TTL:PT1H
BEGIN:VTIMEZONE
TZID:America/New_York
BEGIN:DAYLIGHT
TZOFFSETFROM:-0500
TZOFFSETTO:-0400
TZNAME:EDT
DTSTART:20240310T070000
END:DAYLIGHT
BEGIN:STANDARD
TZOFFSETFROM:-0400
TZOFFSETTO:-0500
TZNAME:EST
DTSTART:20241103T060000
END:STANDARD
BEGIN:DAYLIGHT
TZOFFSETFROM:-0500
TZOFFSETTO:-0400
TZNAME:EDT
DTSTART:20250309T070000
END:DAYLIGHT
BEGIN:STANDARD
TZOFFSETFROM:-0400
TZOFFSETTO:-0500
TZNAME:EST
DTSTART:20251102T060000
END:STANDARD
BEGIN:DAYLIGHT
TZOFFSETFROM:-0500
TZOFFSETTO:-0400
TZNAME:EDT
DTSTART:20260308T070000
END:DAYLIGHT
BEGIN:STANDARD
TZOFFSETFROM:-0400
TZOFFSETTO:-0500
TZNAME:EST
DTSTART:20261101T060000
END:STANDARD
END:VTIMEZONE
BEGIN:VEVENT
DTSTART;TZID=America/New_York:20250116T120000
DTEND;TZID=America/New_York:20250216T170000
DTSTAMP:20260425T142444
CREATED:20241216T144321Z
LAST-MODIFIED:20241216T144321Z
UID:10004346-1737028800-1739725200@www.downtownithaca.com
SUMMARY:Tapestry
DESCRIPTION:A tapestry is defined as a heavy cloth or canvas with designs or pictures woven into it. The January exhibit will weave together images from thirteen of our artist members. The result promises to be a colorful and diverse sampling of paintings\, photos\, sculpture\, and fiber arts. \nThe show will run from January 2nd through February 2nd\, 2025. Opening reception Friday\, January 3rd\, 5–8pm. \nRegular hours Thursday-Sunday 12-5 pm. 120 W State St. Curbside parking and ADA accessibility. 607-277-1626. Made possible in part with funds from the NYS Council on the Arts\, administered by the Community Arts Partnership. \nImages: \nEd Brothers\, Hagwilget Peak\, Oil pastel\, 16”x13” framed\nKatrina Morse\, “Waiting”\, Acrylic on canvas\, 36” x 24”
URL:https://www.downtownithaca.com/event/tapestry/2025-01-16/
LOCATION:State of the Art Gallery\, 120 W State St #2\, Ithaca\, 14850\, United Kingdom
CATEGORIES:Featured
ATTACH;FMTTYPE=image/jpeg:https://www.downtownithaca.com/wp-content/uploads/2025-01-Brothers-ED-Hagwilget-Peak.jpeg
ORGANIZER;CN="State of the Art Gallery":MAILTO:gallery@soag.org
END:VEVENT
BEGIN:VEVENT
DTSTART;TZID=America/New_York:20250117T120000
DTEND;TZID=America/New_York:20250217T170000
DTSTAMP:20260425T142444
CREATED:20241216T144321Z
LAST-MODIFIED:20241216T144321Z
UID:10004347-1737115200-1739811600@www.downtownithaca.com
SUMMARY:Tapestry
DESCRIPTION:A tapestry is defined as a heavy cloth or canvas with designs or pictures woven into it. The January exhibit will weave together images from thirteen of our artist members. The result promises to be a colorful and diverse sampling of paintings\, photos\, sculpture\, and fiber arts. \nThe show will run from January 2nd through February 2nd\, 2025. Opening reception Friday\, January 3rd\, 5–8pm. \nRegular hours Thursday-Sunday 12-5 pm. 120 W State St. Curbside parking and ADA accessibility. 607-277-1626. Made possible in part with funds from the NYS Council on the Arts\, administered by the Community Arts Partnership. \nImages: \nEd Brothers\, Hagwilget Peak\, Oil pastel\, 16”x13” framed\nKatrina Morse\, “Waiting”\, Acrylic on canvas\, 36” x 24”
URL:https://www.downtownithaca.com/event/tapestry/2025-01-17/
LOCATION:State of the Art Gallery\, 120 W State St #2\, Ithaca\, 14850\, United Kingdom
CATEGORIES:Featured
ATTACH;FMTTYPE=image/jpeg:https://www.downtownithaca.com/wp-content/uploads/2025-01-Brothers-ED-Hagwilget-Peak.jpeg
ORGANIZER;CN="State of the Art Gallery":MAILTO:gallery@soag.org
END:VEVENT
BEGIN:VEVENT
DTSTART;TZID=America/New_York:20250118T120000
DTEND;TZID=America/New_York:20250218T170000
DTSTAMP:20260425T142444
CREATED:20241216T144321Z
LAST-MODIFIED:20241216T144321Z
UID:10004348-1737201600-1739898000@www.downtownithaca.com
SUMMARY:Tapestry
DESCRIPTION:A tapestry is defined as a heavy cloth or canvas with designs or pictures woven into it. The January exhibit will weave together images from thirteen of our artist members. The result promises to be a colorful and diverse sampling of paintings\, photos\, sculpture\, and fiber arts. \nThe show will run from January 2nd through February 2nd\, 2025. Opening reception Friday\, January 3rd\, 5–8pm. \nRegular hours Thursday-Sunday 12-5 pm. 120 W State St. Curbside parking and ADA accessibility. 607-277-1626. Made possible in part with funds from the NYS Council on the Arts\, administered by the Community Arts Partnership. \nImages: \nEd Brothers\, Hagwilget Peak\, Oil pastel\, 16”x13” framed\nKatrina Morse\, “Waiting”\, Acrylic on canvas\, 36” x 24”
URL:https://www.downtownithaca.com/event/tapestry/2025-01-18/
LOCATION:State of the Art Gallery\, 120 W State St #2\, Ithaca\, 14850\, United Kingdom
CATEGORIES:Featured
ATTACH;FMTTYPE=image/jpeg:https://www.downtownithaca.com/wp-content/uploads/2025-01-Brothers-ED-Hagwilget-Peak.jpeg
ORGANIZER;CN="State of the Art Gallery":MAILTO:gallery@soag.org
END:VEVENT
BEGIN:VEVENT
DTSTART;TZID=America/New_York:20250119T120000
DTEND;TZID=America/New_York:20250219T170000
DTSTAMP:20260425T142444
CREATED:20241216T144321Z
LAST-MODIFIED:20241216T144321Z
UID:10004349-1737288000-1739984400@www.downtownithaca.com
SUMMARY:Tapestry
DESCRIPTION:A tapestry is defined as a heavy cloth or canvas with designs or pictures woven into it. The January exhibit will weave together images from thirteen of our artist members. The result promises to be a colorful and diverse sampling of paintings\, photos\, sculpture\, and fiber arts. \nThe show will run from January 2nd through February 2nd\, 2025. Opening reception Friday\, January 3rd\, 5–8pm. \nRegular hours Thursday-Sunday 12-5 pm. 120 W State St. Curbside parking and ADA accessibility. 607-277-1626. Made possible in part with funds from the NYS Council on the Arts\, administered by the Community Arts Partnership. \nImages: \nEd Brothers\, Hagwilget Peak\, Oil pastel\, 16”x13” framed\nKatrina Morse\, “Waiting”\, Acrylic on canvas\, 36” x 24”
URL:https://www.downtownithaca.com/event/tapestry/2025-01-19/
LOCATION:State of the Art Gallery\, 120 W State St #2\, Ithaca\, 14850\, United Kingdom
CATEGORIES:Featured
ATTACH;FMTTYPE=image/jpeg:https://www.downtownithaca.com/wp-content/uploads/2025-01-Brothers-ED-Hagwilget-Peak.jpeg
ORGANIZER;CN="State of the Art Gallery":MAILTO:gallery@soag.org
END:VEVENT
BEGIN:VEVENT
DTSTART;TZID=America/New_York:20250123T120000
DTEND;TZID=America/New_York:20250223T170000
DTSTAMP:20260425T142444
CREATED:20241216T144321Z
LAST-MODIFIED:20241216T144321Z
UID:10004350-1737633600-1740330000@www.downtownithaca.com
SUMMARY:Tapestry
DESCRIPTION:A tapestry is defined as a heavy cloth or canvas with designs or pictures woven into it. The January exhibit will weave together images from thirteen of our artist members. The result promises to be a colorful and diverse sampling of paintings\, photos\, sculpture\, and fiber arts. \nThe show will run from January 2nd through February 2nd\, 2025. Opening reception Friday\, January 3rd\, 5–8pm. \nRegular hours Thursday-Sunday 12-5 pm. 120 W State St. Curbside parking and ADA accessibility. 607-277-1626. Made possible in part with funds from the NYS Council on the Arts\, administered by the Community Arts Partnership. \nImages: \nEd Brothers\, Hagwilget Peak\, Oil pastel\, 16”x13” framed\nKatrina Morse\, “Waiting”\, Acrylic on canvas\, 36” x 24”
URL:https://www.downtownithaca.com/event/tapestry/2025-01-23/
LOCATION:State of the Art Gallery\, 120 W State St #2\, Ithaca\, 14850\, United Kingdom
CATEGORIES:Featured
ATTACH;FMTTYPE=image/jpeg:https://www.downtownithaca.com/wp-content/uploads/2025-01-Brothers-ED-Hagwilget-Peak.jpeg
ORGANIZER;CN="State of the Art Gallery":MAILTO:gallery@soag.org
END:VEVENT
BEGIN:VEVENT
DTSTART;TZID=America/New_York:20250124T120000
DTEND;TZID=America/New_York:20250224T170000
DTSTAMP:20260425T142444
CREATED:20241216T144321Z
LAST-MODIFIED:20241216T144321Z
UID:10004351-1737720000-1740416400@www.downtownithaca.com
SUMMARY:Tapestry
DESCRIPTION:A tapestry is defined as a heavy cloth or canvas with designs or pictures woven into it. The January exhibit will weave together images from thirteen of our artist members. The result promises to be a colorful and diverse sampling of paintings\, photos\, sculpture\, and fiber arts. \nThe show will run from January 2nd through February 2nd\, 2025. Opening reception Friday\, January 3rd\, 5–8pm. \nRegular hours Thursday-Sunday 12-5 pm. 120 W State St. Curbside parking and ADA accessibility. 607-277-1626. Made possible in part with funds from the NYS Council on the Arts\, administered by the Community Arts Partnership. \nImages: \nEd Brothers\, Hagwilget Peak\, Oil pastel\, 16”x13” framed\nKatrina Morse\, “Waiting”\, Acrylic on canvas\, 36” x 24”
URL:https://www.downtownithaca.com/event/tapestry/2025-01-24/
LOCATION:State of the Art Gallery\, 120 W State St #2\, Ithaca\, 14850\, United Kingdom
CATEGORIES:Featured
ATTACH;FMTTYPE=image/jpeg:https://www.downtownithaca.com/wp-content/uploads/2025-01-Brothers-ED-Hagwilget-Peak.jpeg
ORGANIZER;CN="State of the Art Gallery":MAILTO:gallery@soag.org
END:VEVENT
BEGIN:VEVENT
DTSTART;TZID=America/New_York:20250125T120000
DTEND;TZID=America/New_York:20250225T170000
DTSTAMP:20260425T142444
CREATED:20241216T144321Z
LAST-MODIFIED:20241216T144321Z
UID:10004352-1737806400-1740502800@www.downtownithaca.com
SUMMARY:Tapestry
DESCRIPTION:A tapestry is defined as a heavy cloth or canvas with designs or pictures woven into it. The January exhibit will weave together images from thirteen of our artist members. The result promises to be a colorful and diverse sampling of paintings\, photos\, sculpture\, and fiber arts. \nThe show will run from January 2nd through February 2nd\, 2025. Opening reception Friday\, January 3rd\, 5–8pm. \nRegular hours Thursday-Sunday 12-5 pm. 120 W State St. Curbside parking and ADA accessibility. 607-277-1626. Made possible in part with funds from the NYS Council on the Arts\, administered by the Community Arts Partnership. \nImages: \nEd Brothers\, Hagwilget Peak\, Oil pastel\, 16”x13” framed\nKatrina Morse\, “Waiting”\, Acrylic on canvas\, 36” x 24”
URL:https://www.downtownithaca.com/event/tapestry/2025-01-25/
LOCATION:State of the Art Gallery\, 120 W State St #2\, Ithaca\, 14850\, United Kingdom
CATEGORIES:Featured
ATTACH;FMTTYPE=image/jpeg:https://www.downtownithaca.com/wp-content/uploads/2025-01-Brothers-ED-Hagwilget-Peak.jpeg
ORGANIZER;CN="State of the Art Gallery":MAILTO:gallery@soag.org
END:VEVENT
BEGIN:VEVENT
DTSTART;TZID=America/New_York:20250126T120000
DTEND;TZID=America/New_York:20250226T170000
DTSTAMP:20260425T142444
CREATED:20241216T144321Z
LAST-MODIFIED:20241216T144321Z
UID:10004353-1737892800-1740589200@www.downtownithaca.com
SUMMARY:Tapestry
DESCRIPTION:A tapestry is defined as a heavy cloth or canvas with designs or pictures woven into it. The January exhibit will weave together images from thirteen of our artist members. The result promises to be a colorful and diverse sampling of paintings\, photos\, sculpture\, and fiber arts. \nThe show will run from January 2nd through February 2nd\, 2025. Opening reception Friday\, January 3rd\, 5–8pm. \nRegular hours Thursday-Sunday 12-5 pm. 120 W State St. Curbside parking and ADA accessibility. 607-277-1626. Made possible in part with funds from the NYS Council on the Arts\, administered by the Community Arts Partnership. \nImages: \nEd Brothers\, Hagwilget Peak\, Oil pastel\, 16”x13” framed\nKatrina Morse\, “Waiting”\, Acrylic on canvas\, 36” x 24”
URL:https://www.downtownithaca.com/event/tapestry/2025-01-26/
LOCATION:State of the Art Gallery\, 120 W State St #2\, Ithaca\, 14850\, United Kingdom
CATEGORIES:Featured
ATTACH;FMTTYPE=image/jpeg:https://www.downtownithaca.com/wp-content/uploads/2025-01-Brothers-ED-Hagwilget-Peak.jpeg
ORGANIZER;CN="State of the Art Gallery":MAILTO:gallery@soag.org
END:VEVENT
BEGIN:VEVENT
DTSTART;TZID=America/New_York:20250130T120000
DTEND;TZID=America/New_York:20250302T170000
DTSTAMP:20260425T142444
CREATED:20241216T144321Z
LAST-MODIFIED:20241216T144321Z
UID:10004354-1738238400-1740934800@www.downtownithaca.com
SUMMARY:Tapestry
DESCRIPTION:A tapestry is defined as a heavy cloth or canvas with designs or pictures woven into it. The January exhibit will weave together images from thirteen of our artist members. The result promises to be a colorful and diverse sampling of paintings\, photos\, sculpture\, and fiber arts. \nThe show will run from January 2nd through February 2nd\, 2025. Opening reception Friday\, January 3rd\, 5–8pm. \nRegular hours Thursday-Sunday 12-5 pm. 120 W State St. Curbside parking and ADA accessibility. 607-277-1626. Made possible in part with funds from the NYS Council on the Arts\, administered by the Community Arts Partnership. \nImages: \nEd Brothers\, Hagwilget Peak\, Oil pastel\, 16”x13” framed\nKatrina Morse\, “Waiting”\, Acrylic on canvas\, 36” x 24”
URL:https://www.downtownithaca.com/event/tapestry/2025-01-30/
LOCATION:State of the Art Gallery\, 120 W State St #2\, Ithaca\, 14850\, United Kingdom
CATEGORIES:Featured
ATTACH;FMTTYPE=image/jpeg:https://www.downtownithaca.com/wp-content/uploads/2025-01-Brothers-ED-Hagwilget-Peak.jpeg
ORGANIZER;CN="State of the Art Gallery":MAILTO:gallery@soag.org
END:VEVENT
BEGIN:VEVENT
DTSTART;TZID=America/New_York:20250131T120000
DTEND;TZID=America/New_York:20250303T170000
DTSTAMP:20260425T142444
CREATED:20241216T144321Z
LAST-MODIFIED:20241216T144321Z
UID:10004355-1738324800-1741021200@www.downtownithaca.com
SUMMARY:Tapestry
DESCRIPTION:A tapestry is defined as a heavy cloth or canvas with designs or pictures woven into it. The January exhibit will weave together images from thirteen of our artist members. The result promises to be a colorful and diverse sampling of paintings\, photos\, sculpture\, and fiber arts. \nThe show will run from January 2nd through February 2nd\, 2025. Opening reception Friday\, January 3rd\, 5–8pm. \nRegular hours Thursday-Sunday 12-5 pm. 120 W State St. Curbside parking and ADA accessibility. 607-277-1626. Made possible in part with funds from the NYS Council on the Arts\, administered by the Community Arts Partnership. \nImages: \nEd Brothers\, Hagwilget Peak\, Oil pastel\, 16”x13” framed\nKatrina Morse\, “Waiting”\, Acrylic on canvas\, 36” x 24”
URL:https://www.downtownithaca.com/event/tapestry/2025-01-31/
LOCATION:State of the Art Gallery\, 120 W State St #2\, Ithaca\, 14850\, United Kingdom
CATEGORIES:Featured
ATTACH;FMTTYPE=image/jpeg:https://www.downtownithaca.com/wp-content/uploads/2025-01-Brothers-ED-Hagwilget-Peak.jpeg
ORGANIZER;CN="State of the Art Gallery":MAILTO:gallery@soag.org
END:VEVENT
BEGIN:VEVENT
DTSTART;TZID=America/New_York:20250201T120000
DTEND;TZID=America/New_York:20250304T170000
DTSTAMP:20260425T142444
CREATED:20241216T144321Z
LAST-MODIFIED:20241216T144321Z
UID:10004356-1738411200-1741107600@www.downtownithaca.com
SUMMARY:Tapestry
DESCRIPTION:A tapestry is defined as a heavy cloth or canvas with designs or pictures woven into it. The January exhibit will weave together images from thirteen of our artist members. The result promises to be a colorful and diverse sampling of paintings\, photos\, sculpture\, and fiber arts. \nThe show will run from January 2nd through February 2nd\, 2025. Opening reception Friday\, January 3rd\, 5–8pm. \nRegular hours Thursday-Sunday 12-5 pm. 120 W State St. Curbside parking and ADA accessibility. 607-277-1626. Made possible in part with funds from the NYS Council on the Arts\, administered by the Community Arts Partnership. \nImages: \nEd Brothers\, Hagwilget Peak\, Oil pastel\, 16”x13” framed\nKatrina Morse\, “Waiting”\, Acrylic on canvas\, 36” x 24”
URL:https://www.downtownithaca.com/event/tapestry/2025-02-01/
LOCATION:State of the Art Gallery\, 120 W State St #2\, Ithaca\, 14850\, United Kingdom
CATEGORIES:Featured
ATTACH;FMTTYPE=image/jpeg:https://www.downtownithaca.com/wp-content/uploads/2025-01-Brothers-ED-Hagwilget-Peak.jpeg
ORGANIZER;CN="State of the Art Gallery":MAILTO:gallery@soag.org
END:VEVENT
BEGIN:VEVENT
DTSTART;TZID=America/New_York:20250202T120000
DTEND;TZID=America/New_York:20250305T170000
DTSTAMP:20260425T142444
CREATED:20241216T144321Z
LAST-MODIFIED:20241216T144321Z
UID:10004357-1738497600-1741194000@www.downtownithaca.com
SUMMARY:Tapestry
DESCRIPTION:A tapestry is defined as a heavy cloth or canvas with designs or pictures woven into it. The January exhibit will weave together images from thirteen of our artist members. The result promises to be a colorful and diverse sampling of paintings\, photos\, sculpture\, and fiber arts. \nThe show will run from January 2nd through February 2nd\, 2025. Opening reception Friday\, January 3rd\, 5–8pm. \nRegular hours Thursday-Sunday 12-5 pm. 120 W State St. Curbside parking and ADA accessibility. 607-277-1626. Made possible in part with funds from the NYS Council on the Arts\, administered by the Community Arts Partnership. \nImages: \nEd Brothers\, Hagwilget Peak\, Oil pastel\, 16”x13” framed\nKatrina Morse\, “Waiting”\, Acrylic on canvas\, 36” x 24”
URL:https://www.downtownithaca.com/event/tapestry/2025-02-02/
LOCATION:State of the Art Gallery\, 120 W State St #2\, Ithaca\, 14850\, United Kingdom
CATEGORIES:Featured
ATTACH;FMTTYPE=image/jpeg:https://www.downtownithaca.com/wp-content/uploads/2025-01-Brothers-ED-Hagwilget-Peak.jpeg
ORGANIZER;CN="State of the Art Gallery":MAILTO:gallery@soag.org
END:VEVENT
BEGIN:VEVENT
DTSTART;TZID=America/New_York:20250206T120000
DTEND;TZID=America/New_York:20250302T170000
DTSTAMP:20260425T142444
CREATED:20250115T185712Z
LAST-MODIFIED:20250115T185712Z
UID:10004396-1738843200-1740934800@www.downtownithaca.com
SUMMARY:State of the Art Gallery Members Show "THREADS"
DESCRIPTION:The State of the Art Gallery presents THREADS\, February 6-March 2\, 2025. Twelve  artist members thread their diverse images together to reflect the colors of the new year. Works will include sculpture\,  photography\, painting\, digital art and mixed media by Christine Chin\, Jane Dennis\, Frances Fawcett\, Annemiek Haralson\, Daniel McPheeters\, Keith Millman\, Catharine O’Neill\, Diana Ozolins\, Nancy Ridenour\, Carol Spence\, David Watkins\, and Hsiao-Pei Yang. \nThe show will run from February 6th through March 2nd\, 2025. Opening reception Friday\, February 7th\, 5–8pm.  \nRegular hours Thursday-Sunday 12-5 pm. 120 W State St. Curbside parking and ADA accessibility. 607-277-1626. Made possible in part with funds from the NYS Council on the Arts\, administered by the Community Arts Partnership.
URL:https://www.downtownithaca.com/event/state-of-the-art-gallery-members-show-threads/
LOCATION:State of the Art Gallery\, 120 W State St #2\, Ithaca\, 14850\, United Kingdom
CATEGORIES:Featured
ATTACH;FMTTYPE=image/jpeg:https://www.downtownithaca.com/wp-content/uploads/Publicity-Feb-2025_1.jpg
ORGANIZER;CN="State of the Art Gallery":MAILTO:gallery@soag.org
END:VEVENT
BEGIN:VEVENT
DTSTART;TZID=America/New_York:20250216T103000
DTEND;TZID=America/New_York:20250216T140000
DTSTAMP:20260425T142444
CREATED:20250102T061111Z
LAST-MODIFIED:20250102T061111Z
UID:10004379-1739701800-1739714400@www.downtownithaca.com
SUMMARY:Winter Market at Trimphammer Marketplace
DESCRIPTION:Local produce\, meats\, cheeses\, artisan goods\, prepared food and more.
URL:https://www.downtownithaca.com/event/winter-market-at-trimphammer-marketplace/2025-02-16/
LOCATION:Triphammer Marketplace\, 2255 Triphammer Road\, Ithaca\, 14850
CATEGORIES:Featured
ATTACH;FMTTYPE=image/jpeg:https://www.downtownithaca.com/wp-content/uploads/Winter-Market-Quarter-Card-2.1.jpeg
ORGANIZER;CN="Ithaca Farmers Market":MAILTO:info@ithacamarket.com
END:VEVENT
BEGIN:VEVENT
DTSTART;TZID=America/New_York:20250216T110000
DTEND;TZID=America/New_York:20250216T140000
DTSTAMP:20260425T142444
CREATED:20250109T174115Z
LAST-MODIFIED:20250109T174148Z
UID:10004389-1739703600-1739714400@www.downtownithaca.com
SUMMARY:Ithaca Loves Teachers Drag Brunch
DESCRIPTION:The Ithaca Loves Teachers Drag Brunch is almost here\, and it’s going to be FABULOUS! 💃🍳 \n🎤 Show-Stopping Performances\n🍹 Mouthwatering Brunch Delights\n🌟 A Celebration of Our Amazing Educators \nOPEN TO THE GENERAL PUBLIC AS WELL!
URL:https://www.downtownithaca.com/event/ithaca-loves-teachers-drag-brunch/
LOCATION:Ithaca Downtown Conference Center\, 116 E. Green St.\, Ithaca\, 14850
CATEGORIES:Featured
ATTACH;FMTTYPE=image/jpeg:https://www.downtownithaca.com/wp-content/uploads/drag_brunch.jpg
END:VEVENT
BEGIN:VEVENT
DTSTART;TZID=America/New_York:20250216T140000
DTEND;TZID=America/New_York:20250216T160000
DTSTAMP:20260425T142444
CREATED:20250213T192006Z
LAST-MODIFIED:20250213T192006Z
UID:10004441-1739714400-1739721600@www.downtownithaca.com
SUMMARY:Denice Peter Karamardian - ODAR Trilogy Reading
DESCRIPTION:Join BSB for a reading and conversation with local author\, Denice Peter Karamardian on her compelling three part series! \nAbout the Books: ODAR (meaning “other” in Armenian) is a three part trilogy that “offers a searing portrait of the immigrant experience\, examines the sense of belonging\, identity\, and heritage that is inherent in every human being…is a thought-provoking work with sharp insights that historical fiction fans will love.” says Lily Andrews for Reader Views. Based on the true story of a local family’s journey to and life in Ithaca\, New York that spans decades and generations. \nAbout the Author: Denice Peter Karamardian owns and operates a regional publication called Finger Lakes Libations for visitors and is at work on several more books. She is retired from a rich tapestry of overlapping careers spanning forty plus years that included instructing voice\, the host/producer of a radio concert broadcast series (called Crossing Borders Live)\, fifty years of music and theater performance\, and freelance columnist and reviewer. She also operated a bed and breakfast for two decades and still lives here\, in her hometown of Ithaca\, New York.
URL:https://www.downtownithaca.com/event/denice-peter-karamardian-odar-trilogy-reading/
LOCATION:Buffalo Street Books\, 215 N. Cayuga St.\, Ithaca
CATEGORIES:Featured
ATTACH;FMTTYPE=image/png:https://www.downtownithaca.com/wp-content/uploads/Denice-Peter-Karamardian-1.png
ORGANIZER;CN="Buffalo Street Books":MAILTO:lisa@buffalostreetbooks.com
END:VEVENT
BEGIN:VEVENT
DTSTART;TZID=America/New_York:20250218T150000
DTEND;TZID=America/New_York:20250218T170000
DTSTAMP:20260425T142444
CREATED:20250213T192031Z
LAST-MODIFIED:20250213T192031Z
UID:10004439-1739890800-1739898000@www.downtownithaca.com
SUMMARY:Red Ear Marketing Open Hours @ BSB
DESCRIPTION:Come speak with Lincoln Weinstock of Red Ear Marketing – Tuesdays at 3 PM at Buffalo Street Books.
URL:https://www.downtownithaca.com/event/red-ear-marketing-open-hours-bsb/2025-02-18/
LOCATION:Buffalo Street Books\, 215 N. Cayuga St.\, Ithaca
CATEGORIES:Featured
ATTACH;FMTTYPE=image/png:https://www.downtownithaca.com/wp-content/uploads/Lincoln-Weinstock-Marketing-Office-Hours.png
ORGANIZER;CN="Buffalo Street Books":MAILTO:lisa@buffalostreetbooks.com
END:VEVENT
BEGIN:VEVENT
DTSTART;TZID=America/New_York:20250219T170000
DTEND;TZID=America/New_York:20250219T190000
DTSTAMP:20260425T142444
CREATED:20250213T191902Z
LAST-MODIFIED:20250213T191902Z
UID:10004442-1739984400-1739991600@www.downtownithaca.com
SUMMARY:Game Night at BSB!
DESCRIPTION:Join us for our February game night! Escape the cold\, warm up with us\, and test out some of the games we sell in store. Let us know if you’re coming and register here 🙂
URL:https://www.downtownithaca.com/event/game-night-at-bsb/
LOCATION:Buffalo Street Books\, 215 N. Cayuga St.\, Ithaca
CATEGORIES:Featured
ATTACH;FMTTYPE=image/png:https://www.downtownithaca.com/wp-content/uploads/0219-Game-Night.png
ORGANIZER;CN="Buffalo Street Books":MAILTO:lisa@buffalostreetbooks.com
END:VEVENT
BEGIN:VEVENT
DTSTART;TZID=America/New_York:20250220T150000
DTEND;TZID=America/New_York:20250220T170000
DTSTAMP:20260425T142444
CREATED:20250210T054056Z
LAST-MODIFIED:20250210T054056Z
UID:10004435-1740063600-1740070800@www.downtownithaca.com
SUMMARY:Let's Read & Discuss Climate @ BSB
DESCRIPTION:Talk with others in our community about climate change\, seen through contemporary fiction and non-fiction books. \nAbout the Books:  \nThe Water Knife\, a futuristic thriller by Paolo Bacigalupi about criminality in water distribution in a hot and dry Southwest meets A Thirsty Land by Seamus Mc- Graw\, a true account of conflicts over water rights in Texas that pit communities against each other. \nIn Water Wars\, Shiva uses her remarkable knowledge of science and society to outline the emergence of corporate culture and the historical erosion of communal water rights. Using the international water trade and industrial activities such as damming\, mining\, and aquafarming as her lens\, Shiva exposes the destruction of the earth and the disenfranchisement of the world’s poor as they are stripped of rights to a precious common good.
URL:https://www.downtownithaca.com/event/lets-read-discuss-climate-bsb/
LOCATION:Buffalo Street Books\, 215 N. Cayuga St.\, Ithaca
CATEGORIES:Featured
ATTACH;FMTTYPE=image/png:https://www.downtownithaca.com/wp-content/uploads/Climate-Lit-Discussions.png
ORGANIZER;CN="Buffalo Street Books":MAILTO:lisa@buffalostreetbooks.com
END:VEVENT
BEGIN:VEVENT
DTSTART;TZID=America/New_York:20250222T100000
DTEND;TZID=America/New_York:20250222T160000
DTSTAMP:20260425T142444
CREATED:20250203T143807Z
LAST-MODIFIED:20250203T143807Z
UID:10004426-1740218400-1740240000@www.downtownithaca.com
SUMMARY:Images\, Intuition and Insight: A weekend of SoulCollage® and Depth Journaling
DESCRIPTION:A weekend of creativity\, soulful connection and tapping into the deeper layers of your psyche. \nYou’ll leave with your own personal and symbolic deck of SoulCollage® cards – completely unique to you. Using techniques of Jungian/Depth Psychology\, Internal Family Systems\, journaling\, and art making we give voice to the different parts within us.  By delineating these parts we see better our motivations and hesitations. This is a great way to rein in the parts that hold us back and empower the strength within us.
URL:https://www.downtownithaca.com/event/images-intuition-and-insight-a-weekend-of-soulcollage-and-depth-journaling/2025-02-22/
LOCATION:Community Corners\, 409 E Upland Road\, Suite 203B\, Ithaca\, 14850
CATEGORIES:Featured
ATTACH;FMTTYPE=image/png:https://www.downtownithaca.com/wp-content/uploads/Workshop-with-QR-code.png
ORGANIZER;CN="Wendy Hammond":MAILTO:wendy@wendy-hammond.com
END:VEVENT
BEGIN:VEVENT
DTSTART;TZID=America/New_York:20250222T150000
DTEND;TZID=America/New_York:20250222T170000
DTSTAMP:20260425T142444
CREATED:20241220T153931Z
LAST-MODIFIED:20250117T203536Z
UID:10004360-1740236400-1740243600@www.downtownithaca.com
SUMMARY:Micro Producers in the Finger Lakes: Need to Know Hidden Gems of the Region
DESCRIPTION:Join certified sommelier Laura Winter Falk as she introduces three Finger Lakes micro-wineries. Learn the stories behind these ultra-craft winemakers who are making stunning small-batch wines. \nDiscover:\nLittle Clover Wines by Erin McMurrough\, Entelencheia Wine Cellars by Matt Denci\, and Vagabond Wine by Alexandra Bond. \nLaura will share two wines from each producer. While quantities of these wines are limited\, their flavor intensity is abundant! \nWines will be paired with select Finger Lakes cheeses to showcase their food pairing magic.
URL:https://www.downtownithaca.com/event/micro-producers-in-the-finger-lakes-need-to-know-hidden-gems-of-the-region/
CATEGORIES:Featured
ATTACH;FMTTYPE=image/png:https://www.downtownithaca.com/wp-content/uploads/Micro-Wineries-of-the-Finger-Lakes.png
ORGANIZER;CN="Experience! The Finger Lakes":MAILTO:info@experiencefingerlakes.com
END:VEVENT
END:VCALENDAR