BEGIN:VCALENDAR
VERSION:2.0
PRODID:-//Downtown Ithaca - ECPv6.15.20//NONSGML v1.0//EN
CALSCALE:GREGORIAN
METHOD:PUBLISH
X-ORIGINAL-URL:https://www.downtownithaca.com
X-WR-CALDESC:Events for Downtown Ithaca
REFRESH-INTERVAL;VALUE=DURATION:PT1H
X-Robots-Tag:noindex
X-PUBLISHED-TTL:PT1H
BEGIN:VTIMEZONE
TZID:America/New_York
BEGIN:DAYLIGHT
TZOFFSETFROM:-0500
TZOFFSETTO:-0400
TZNAME:EDT
DTSTART:20240310T070000
END:DAYLIGHT
BEGIN:STANDARD
TZOFFSETFROM:-0400
TZOFFSETTO:-0500
TZNAME:EST
DTSTART:20241103T060000
END:STANDARD
BEGIN:DAYLIGHT
TZOFFSETFROM:-0500
TZOFFSETTO:-0400
TZNAME:EDT
DTSTART:20250309T070000
END:DAYLIGHT
BEGIN:STANDARD
TZOFFSETFROM:-0400
TZOFFSETTO:-0500
TZNAME:EST
DTSTART:20251102T060000
END:STANDARD
BEGIN:DAYLIGHT
TZOFFSETFROM:-0500
TZOFFSETTO:-0400
TZNAME:EDT
DTSTART:20260308T070000
END:DAYLIGHT
BEGIN:STANDARD
TZOFFSETFROM:-0400
TZOFFSETTO:-0500
TZNAME:EST
DTSTART:20261101T060000
END:STANDARD
END:VTIMEZONE
BEGIN:VEVENT
DTSTART;TZID=America/New_York:20250309T103000
DTEND;TZID=America/New_York:20250309T140000
DTSTAMP:20260425T091930
CREATED:20250102T061111Z
LAST-MODIFIED:20250102T061111Z
UID:10004382-1741516200-1741528800@www.downtownithaca.com
SUMMARY:Winter Market at Trimphammer Marketplace
DESCRIPTION:Local produce\, meats\, cheeses\, artisan goods\, prepared food and more.
URL:https://www.downtownithaca.com/event/winter-market-at-trimphammer-marketplace/2025-03-09/
LOCATION:Triphammer Marketplace\, 2255 Triphammer Road\, Ithaca\, 14850
CATEGORIES:Featured
ATTACH;FMTTYPE=image/jpeg:https://www.downtownithaca.com/wp-content/uploads/Winter-Market-Quarter-Card-2.1.jpeg
ORGANIZER;CN="Ithaca Farmers Market":MAILTO:info@ithacamarket.com
END:VEVENT
BEGIN:VEVENT
DTSTART;TZID=America/New_York:20250314T180000
DTEND;TZID=America/New_York:20250314T203000
DTSTAMP:20260425T091930
CREATED:20250129T062830Z
LAST-MODIFIED:20250129T062830Z
UID:10004414-1741975200-1741984200@www.downtownithaca.com
SUMMARY:Figure Drawing Fridays at CSMA
DESCRIPTION:Drop in for figure drawing sessions at CSMA\, generally held on the 2nd and 4th Friday evenings of each month. If you’re an intermediate or advanced-level artist interested in drawing from the nude model\, come join our non-instructed\, open sketch sessions. Just grab your own supplies and enjoy an evening of creativity in the company of other artists.
URL:https://www.downtownithaca.com/event/figure-drawing-fridays-at-csma-6/2025-03-14/
LOCATION:Community School of Music and Arts\, 330 East State Street\, Ithaca
CATEGORIES:Featured
ATTACH;FMTTYPE=image/png:https://www.downtownithaca.com/wp-content/uploads/figure-drawing-fridays-5.png
ORGANIZER;CN="Community School of Music &amp%3B Arts":MAILTO:info@csma-ithaca.org
END:VEVENT
END:VCALENDAR