BEGIN:VCALENDAR
VERSION:2.0
PRODID:-//Downtown Ithaca - ECPv6.15.20//NONSGML v1.0//EN
CALSCALE:GREGORIAN
METHOD:PUBLISH
X-WR-CALNAME:Downtown Ithaca
X-ORIGINAL-URL:https://www.downtownithaca.com
X-WR-CALDESC:Events for Downtown Ithaca
REFRESH-INTERVAL;VALUE=DURATION:PT1H
X-Robots-Tag:noindex
X-PUBLISHED-TTL:PT1H
BEGIN:VTIMEZONE
TZID:America/New_York
BEGIN:DAYLIGHT
TZOFFSETFROM:-0500
TZOFFSETTO:-0400
TZNAME:EDT
DTSTART:20240310T070000
END:DAYLIGHT
BEGIN:STANDARD
TZOFFSETFROM:-0400
TZOFFSETTO:-0500
TZNAME:EST
DTSTART:20241103T060000
END:STANDARD
BEGIN:DAYLIGHT
TZOFFSETFROM:-0500
TZOFFSETTO:-0400
TZNAME:EDT
DTSTART:20250309T070000
END:DAYLIGHT
BEGIN:STANDARD
TZOFFSETFROM:-0400
TZOFFSETTO:-0500
TZNAME:EST
DTSTART:20251102T060000
END:STANDARD
BEGIN:DAYLIGHT
TZOFFSETFROM:-0500
TZOFFSETTO:-0400
TZNAME:EDT
DTSTART:20260308T070000
END:DAYLIGHT
BEGIN:STANDARD
TZOFFSETFROM:-0400
TZOFFSETTO:-0500
TZNAME:EST
DTSTART:20261101T060000
END:STANDARD
END:VTIMEZONE
BEGIN:VEVENT
DTSTART;TZID=America/New_York:20250330T120000
DTEND;TZID=America/New_York:20250330T140000
DTSTAMP:20260425T073823
CREATED:20250324T181816Z
LAST-MODIFIED:20250324T181816Z
UID:10004498-1743336000-1743343200@www.downtownithaca.com
SUMMARY:Drag Story Hour
DESCRIPTION:Parents and kiddos – our queens Ms. Cordata and Ms. Chardonay are back for Drag Story Hour! Sit in our beautiful butterfly room and enjoy a reading from two of Ithaca’s very best storytellers.
URL:https://www.downtownithaca.com/event/drag-story-hour-2/
LOCATION:Buffalo Street Books\, 215 N. Cayuga St.\, Ithaca
CATEGORIES:Featured
ATTACH;FMTTYPE=image/png:https://www.downtownithaca.com/wp-content/uploads/March-2025-Drag-Story-Hour.png
ORGANIZER;CN="Buffalo Street Books":MAILTO:lisa@buffalostreetbooks.com
END:VEVENT
BEGIN:VEVENT
DTSTART;TZID=America/New_York:20250330T140000
DTEND;TZID=America/New_York:20250330T163000
DTSTAMP:20260425T073823
CREATED:20250321T011819Z
LAST-MODIFIED:20250321T011819Z
UID:10004499-1743343200-1743352200@www.downtownithaca.com
SUMMARY:"In My Boots" - Amanda K. Jaros
DESCRIPTION:Join us for a reading from In My Boots: A Memoir of Five Million Steps Along the Appalachian Trail with local author Amanda K. Jaros.  \nAbout the Book: When Amanda K. Jaros learns about the 2\,160-mile Appalachian Trail after college\, she walks away from a sheltered life dominated by an angry and volatile father and does something unexpected: spends six months backpacking. Alone. She expects to pass the time in the solitary and peaceful wilderness\, reflecting on her life’s direction. Instead\, she finds herself part of a community ripe with stinky socks\, buckets of ice cream\, and trail magic. What matters on the trail is not a hiker’s past or parents\, her fears or failures\, but rather\, what matters is the connections we make with each other. \nIn My Boots recounts a challenging physical journey following the trail over the windy balds of the South\, through snowstorms in the Smoky Mountain National Park\, and above the tree line to the alpine zones of the White Mountains of New Hampshire. The journey is also emotionally transformative as this twenty-three-year-old leaves behind the compliant and scared girl she once was. With each step away from her damaged childhood\, each new friend\, each stop in another rural trail town\, she comes to understand that to succeed on the trail\, and in life\, it turns out\, the path she walks must be her own. \nAbout the Author: Amanda K. Jaros is the editor of Labor of Love: A Literary Mama Staff Anthology and author of 100 Things to Do in Ithaca Before You Die. Her essays on nature and family have appeared in Flyway\, Appalachia\, Terrain.org\, Stone Canoe\, and elsewhere. When not writing\, she can be found on a trail somewhere\, and has hiked the Inca Trail in Peru\, several trails in Australia\, and is currently working toward completing hikes of the 46 High Peaks in the Adirondacks. She lives in Ithaca\, New York\, with her husband and son\, where she recently took up kayaking and serves her community as a county legislator. Learn more at amandakjaros.com and Instagram @amandajaroschampion.
URL:https://www.downtownithaca.com/event/in-my-boots-amanda-k-jaros/
LOCATION:Buffalo Street Books\, 215 N. Cayuga St.\, Ithaca
CATEGORIES:Featured
ATTACH;FMTTYPE=image/png:https://www.downtownithaca.com/wp-content/uploads/in-my-boots-amanda-k-jaros-.png
ORGANIZER;CN="Buffalo Street Books":MAILTO:lisa@buffalostreetbooks.com
END:VEVENT
BEGIN:VEVENT
DTSTART;TZID=America/New_York:20250404T170000
DTEND;TZID=America/New_York:20250404T200000
DTSTAMP:20260425T073823
CREATED:20250326T185532Z
LAST-MODIFIED:20250326T185532Z
UID:10004505-1743786000-1743796800@www.downtownithaca.com
SUMMARY:First Friday Gallery Night at CAP ArtSpace
DESCRIPTION:Join the Community Arts Partnership for First Friday Gallery Night and experience Threads That Bind\, a powerful solo exhibition by local artist L.A. Amira. This vibrant collection of acrylic paintings and mixed media explores themes of identity\, resilience\, cultural representation\, and digital influence through bold color\, intricate African patterns\, and layered textures. \nBlending traditional artistry with contemporary themes\, Amira invites viewers to reflect on marginalized voices and to engage in conversations that challenge perceptions and celebrate unity. \nCome meet the artist\, enjoy the artwork\, and take part in Downtown Ithaca’s monthly celebration of creativity.
URL:https://www.downtownithaca.com/event/first-friday-gallery-night-at-cap-artspace/
LOCATION:CAP ArtSpace\, 110 N Tioga st\, Ithaca\, NY\, 14850\, United States
CATEGORIES:Featured
ATTACH;FMTTYPE=image/jpeg:https://www.downtownithaca.com/wp-content/uploads/layla2.jpg
ORGANIZER;CN="Community Arts Partnership":MAILTO:info@artspartner.org
END:VEVENT
BEGIN:VEVENT
DTSTART;TZID=America/New_York:20250404T170000
DTEND;TZID=America/New_York:20250404T200000
DTSTAMP:20260425T073823
CREATED:20250402T035321Z
LAST-MODIFIED:20250402T035321Z
UID:10004514-1743786000-1743796800@www.downtownithaca.com
SUMMARY:MIX Art Gallery’s OPENING RECEPTION for artist Tia Eytina – Friday\, April 4th\, 5-8pm
DESCRIPTION:Throughout April 2025 MIX Art Gallery is proud to welcome back mixed-media abstract artist Santia Eytina\, “Tia” for short\, who is presenting her new series  “Uncharted Realities\,” opening on April 4th and on view through April 26th.  In her first show at MIX in October 2024\, Eytina’s artwork was sold to collectors and art lovers from Ithaca to New York City and even made the journey to a new home in France.  It was a captivating show\, and so\, we are thrilled to see her back at MIX.  Join us Thursdays and Fridays 3-7\, and Saturdays 12-6 to experience Tia’s Uncharted Realities!
URL:https://www.downtownithaca.com/event/mix-art-gallerys-opening-reception-for-artist-tia-eytina-friday-april-4th-5-8pm/
LOCATION:MIX Art Gallery\, 156 E. State Street\, Ithaca\, 14850
CATEGORIES:Featured
ATTACH;FMTTYPE=image/png:https://www.downtownithaca.com/wp-content/uploads/Uncharted-Realities-no-BG.png
ORGANIZER;CN="MIX Art Gallery":MAILTO:contact@mixartgallery.com
END:VEVENT
BEGIN:VEVENT
DTSTART;TZID=America/New_York:20250404T170000
DTEND;TZID=America/New_York:20250404T200000
DTSTAMP:20260425T073823
CREATED:20260201T160037Z
LAST-MODIFIED:20260202T063342Z
UID:10000087-1743786000-1743796800@www.downtownithaca.com
SUMMARY:Ithaca Gallery Night - First Friday of Every Month
DESCRIPTION:ITHACA GALLERY NIGHT \nFRIDAY\, FEBRUARY 6\, 2026\n5:00–8:00 PM\nDOWNTOWN ITHACA \nIthaca Gallery Night is a walkable evening of art openings and cultural experiences throughout Downtown Ithaca. On the first Friday\, galleries\, studios\, and creative spaces open their doors for the public to explore exhibitions\, meet artists\, and experience the city’s arts community in one cohesive night. \nThis event is part of First Friday Ithaca Gallery Night openings.\nPlease visit www.ithacagallerynight.com\nto see all participating locations and current event details. \nFollow along and share your experience using:\n#ithacagallerynight1 #downtownithaca #visitithaca \nFacebook Event Link
URL:https://www.downtownithaca.com/event/gallery-night-ithaca-first-friday-of-every-month/2025-04-04/
ATTACH;FMTTYPE=image/png:https://www.downtownithaca.com/wp-content/uploads/Google-form-GRAPHIC_IthacaGalleryNight-1.png
END:VEVENT
BEGIN:VEVENT
DTSTART;TZID=America/New_York:20250405T080000
DTEND;TZID=America/New_York:20250405T170000
DTSTAMP:20260425T073823
CREATED:20241211T153747Z
LAST-MODIFIED:20241211T153747Z
UID:10004335-1743840000-1743872400@www.downtownithaca.com
SUMMARY:YEM 2025 Season
DESCRIPTION:The new season starts on January 11th and all 5 monthly Workshops will be hosted in person at Ithaca’s premier incubator space\, REV: Ithaca Startup Works (314 E. State Street) from 10AM-Noon. Additionally\, we’re hosting 15 after-school hands-on working sessions\, “Get Messy Club\,” at New Roots School (116 N. Cayuga Street) from 4PM-5:30PM on Wednesdays in between workshops. *Grades 4+
URL:https://www.downtownithaca.com/event/yem-2025-season/2025-04-05/
LOCATION:Rev: Ithaca Startup Works\, 314 E State Street\, Ithaca\, 14850
CATEGORIES:Featured
ATTACH;FMTTYPE=image/png:https://www.downtownithaca.com/wp-content/uploads/YEM2025.png
ORGANIZER;CN="YEM (Youth Entrepreneurship Mindset/Markets/Mentors)":MAILTO:susanne@yemithaca.com
END:VEVENT
BEGIN:VEVENT
DTSTART;TZID=America/New_York:20250405T130000
DTEND;TZID=America/New_York:20250405T150000
DTSTAMP:20260425T073823
CREATED:20250402T131854Z
LAST-MODIFIED:20250402T131854Z
UID:10004515-1743858000-1743865200@www.downtownithaca.com
SUMMARY:Hands Off Ithaca - National Mobilization to Fight Back
DESCRIPTION:Hands Off Ithaca – National Mobilization to Fight Back\nSaturday April 5\, 1-3 pm\nGather at Bernie Milton Pavilion and march to Meadow Street \nHost: Indivisible Tompkins\nFor more info: indivisibletompkins.org\, indivisibletompkins@gmail.com\nTo register: https://www.mobilize.us/handsoff/event/766521/
URL:https://www.downtownithaca.com/event/hands-off-ithaca-national-mobilization-to-fight-back/
LOCATION:Bernie Milton Pavilion\, 100 N. Tioga Street\, Ithaca\, NY\, 14845
CATEGORIES:Featured
ATTACH;FMTTYPE=image/jpeg:https://www.downtownithaca.com/wp-content/uploads/Screenshot_20250401_060908_Samsung-Internet-scaled.jpg
ORGANIZER;CN="Indivisible Tompkins":MAILTO:indivisibletompkins@gmail.com
END:VEVENT
END:VCALENDAR