BEGIN:VCALENDAR
VERSION:2.0
PRODID:-//Downtown Ithaca - ECPv6.15.20//NONSGML v1.0//EN
CALSCALE:GREGORIAN
METHOD:PUBLISH
X-ORIGINAL-URL:https://www.downtownithaca.com
X-WR-CALDESC:Events for Downtown Ithaca
REFRESH-INTERVAL;VALUE=DURATION:PT1H
X-Robots-Tag:noindex
X-PUBLISHED-TTL:PT1H
BEGIN:VTIMEZONE
TZID:America/New_York
BEGIN:DAYLIGHT
TZOFFSETFROM:-0500
TZOFFSETTO:-0400
TZNAME:EDT
DTSTART:20240310T070000
END:DAYLIGHT
BEGIN:STANDARD
TZOFFSETFROM:-0400
TZOFFSETTO:-0500
TZNAME:EST
DTSTART:20241103T060000
END:STANDARD
BEGIN:DAYLIGHT
TZOFFSETFROM:-0500
TZOFFSETTO:-0400
TZNAME:EDT
DTSTART:20250309T070000
END:DAYLIGHT
BEGIN:STANDARD
TZOFFSETFROM:-0400
TZOFFSETTO:-0500
TZNAME:EST
DTSTART:20251102T060000
END:STANDARD
BEGIN:DAYLIGHT
TZOFFSETFROM:-0500
TZOFFSETTO:-0400
TZNAME:EDT
DTSTART:20260308T070000
END:DAYLIGHT
BEGIN:STANDARD
TZOFFSETFROM:-0400
TZOFFSETTO:-0500
TZNAME:EST
DTSTART:20261101T060000
END:STANDARD
END:VTIMEZONE
BEGIN:VEVENT
DTSTART;TZID=America/New_York:20250917T080000
DTEND;TZID=America/New_York:20251019T170000
DTSTAMP:20260421T224159
CREATED:20250903T183740Z
LAST-MODIFIED:20250903T183740Z
UID:10005004-1758096000-1760893200@www.downtownithaca.com
SUMMARY:LCA presents "Hispanic Heritage Month"
DESCRIPTION:Latino Civic Association of Tompkins County Celebrates 2025 Hispanic Heritage Month with a Full Schedule of Community Events\nThe Latino Civic Association (LCA) of Tompkins County is proud to announce its 2025 Hispanic Heritage Month celebration\, featuring a series of engaging events throughout September\, October\, and November. Now more than ever\, building community is essential\, and the LCA is dedicated to providing opportunities for social\, cultural\, educational\, and civic connection for the Latino community and beyond.\nThe LCA is an all-volunteer organization committed to serving the Latino community of Tompkins County by offering a platform for cultural expression and community engagement. This year’s lineup includes story times\, art exhibitions\, drag performances\, puppet shows\, and community festivals — each designed to celebrate heritage\, creativity\, and connection. \n2025 Hispanic Heritage Month Event Schedule: \nFriday\, September 19th – Spanish Story Time\nRhymes\, songs\, stories\, and crafts for families.\nFree | 5:00–6:00 PM\nCommunity School of Music & Arts\, 330 E. State St\, Ithaca\, NY \nSaturday\, September 27th – Family-Friendly Drag Performance\nCelebrating Hispanic Heritage Month with talented performers from the Upstate region.\nGeneral Tickets: $10 | Two shows: 11:00 AM & 1:00 PM | Reserve your seats\nThe Kitchen Theatre\, 417 W. State St\, Ithaca\, NY \nFriday\, October 3rd – Opening Reception of Latine Group Exhibition\nMeet the artists\, buy art\, enjoy appetizers.\nFree | 5:00–8:00 PM\nCommunity School of Music & Arts\, 330 E. State St\, Ithaca\, NY \nSaturday\, October 4th – 18+ Drag Performance and Burlesque\nCelebrate art in drag and burlesque during Hispanic Heritage Month. Doors open early for drinks and to meet LCA.\nGeneral Tickets: $30 | Students: $15 | 7:30–9:30 PM (Doors open at 7:00 PM)\nThe Kitchen Theatre\, 417 W. State St\, Ithaca\, NY \nSunday\, October 5th – Fourth Annual Heritage Fiesta\nArtisans\, performers\, musicians\, food vendors\, and nonprofit organizations supporting the community.\nFree | 11:00 AM–6:00 PM\nPress Bay Parking Lot\, 118 W. Green St\, Ithaca\, NY \nSaturday\, October 18th – Leonor & Lilypad Puppet Show\nAll ages welcome to enjoy storytelling through puppetry in Spanish.\nPay what you can | Two shows: 10:30 AM & 12:30 PM\nThe Kitchen Theatre\, 417 W. State St\, Ithaca\, NY\nSunday\, October 19th – Leonor Puppet Show \nAll ages welcome to enjoy storytelling through puppetry in Spanish.\nPay what you can | 10:30 AM–12:30 PM | Reserve your seats\nThe Kitchen Theatre\, 417 W. State St\, Ithaca\, NY \nFriday\, November 7th – First Friday Gallery Reception of Latine Group Exhibition\nMeet the artists\, buy art\, enjoy appetizers.\nFree | 5:00–8:00 PM \nCommunity School of Music & Arts\, 330 E. State St\, Ithaca\, NY\nFriday\, November 21st – Closing Reception of Latine Group Exhibition\nMeet the artists and celebrate the conclusion of the exhibition.\nFree | 5:00–7:00 PM\nCommunity School of Music & Arts\, 330 E. State St\, Ithaca\, NY \nCine Con Cultura Films happening throughout the month.  \nTo learn more go to LCATOMPKINS.ORG \n“Hispanic Heritage Month is a vital time to come together\, celebrate our culture\, and strengthen community bonds\,” says Yen Ospina. “We’re thrilled to offer a variety of events that highlight the incredible talent and creativity within our local Latino community.”\nThese programs have been in part sponsored by: The Kitchen Theatre\, Community School of Music & Art\, GIAC\, Park Foundation.\nThese programs are made possible\, in part\, with funds from the Statewide Community Regrant program from the New York State Council on the Arts\, with the support of the office of the Governor and NYS Legislature\, administered by the Community Arts Partnership of Tompkins County.\nFor more information about events\, tickets\, and the Latino Civic Association\, visit LCATOMPKINS.ORG
URL:https://www.downtownithaca.com/event/lca-presents-hispanic-heritage-month/
LOCATION:Downtown Ithaca\, United States
CATEGORIES:Featured
ATTACH;FMTTYPE=image/jpeg:https://www.downtownithaca.com/wp-content/uploads/IMG_7899-1.jpeg
ORGANIZER;CN="Latino Civic Assocation of Tompkins County":MAILTO:OSPINAYEN@GMAIL.COM
GEO:42.4394279;-76.4969274
END:VEVENT
BEGIN:VEVENT
DTSTART;TZID=America/New_York:20251002T080000
DTEND;TZID=America/New_York:20251102T170000
DTSTAMP:20260421T224159
CREATED:20250918T142355Z
LAST-MODIFIED:20250918T142355Z
UID:10005032-1759392000-1762102800@www.downtownithaca.com
SUMMARY:Making Connections – One Step at a Time
DESCRIPTION:Eva M. Capobianco will exhibit her photo-sculptures and books chronicling her experiences while hiking the Finger Lakes Trail from end to end. \nSusan C. Larkin will display her striking photographic portraits of members of her community. The portraits and interviews of these Caroline neighbors are included in her latest book\, Connections. \nThe show will run from October 2 – November 2\, 2025. An opening reception will be held on Friday\, October 3\, 5–8 pm.  \nRegular hours Thursday-Sunday 12-5 pm. 120 W State St. Curbside parking and ADA accessibility. 607-277-1626. Made possible in part with funds from the NYS Council on the Arts\, administered by the Community Arts Partnership.
URL:https://www.downtownithaca.com/event/making-connections-one-step-at-a-time/
LOCATION:State of the Art Gallery\, 120 W State St #2\, Ithaca\, 14850\, United Kingdom
CATEGORIES:Featured
ATTACH;FMTTYPE=image/jpeg:https://www.downtownithaca.com/wp-content/uploads/2025-10-Capobianco-EVA-Map-34-Slide-Mountain.jpg
ORGANIZER;CN="State of the Art Gallery":MAILTO:gallery@soag.org
END:VEVENT
BEGIN:VEVENT
DTSTART;TZID=America/New_York:20251004T210000
DTEND;TZID=America/New_York:20251005T010000
DTSTAMP:20260421T224159
CREATED:20250902T144550Z
LAST-MODIFIED:20250902T144550Z
UID:10004976-1759611600-1759626000@www.downtownithaca.com
SUMMARY:K-HOUSE Karaoke K-Pop-Up at Lot 10 Ithaca - Fridays AND Saturdays thru the Fall Semester!
DESCRIPTION:🎤✨ K-HOUSE Karaoke K-Pop-Up at Lot 10 Ithaca – Fridays AND Saturdays thru the Fall Semester! ✨🎤\nYou asked for more… so we’re giving you MORE! 🔥 The K-FAM will be KJ-ing every Friday AND Saturday night downstairs at Lot 10. 💜🎶\n🎙️ Same crew. Same K-HOUSE magic. New downtown stage.\n📍 106 S. Cayuga Street (Lot 10 – downstairs)\n🗓️ Fridays & Saturdays\n⏰ Starting at 9PM – Starting time may vary week to week. Be sure to stay updated on Instagram and Facebook!\n👉 Follow us: @khousekaraoke @lot10ithaca \nLet’s light up downtown Ithaca with that K-HOUSE energy. Come sing\, dance\, and party with us! 🌟\nTag your karaoke crew and let’s make it a night. 🎤🎉
URL:https://www.downtownithaca.com/event/k-house-karaoke-k-pop-up-at-lot-10-ithaca-fridays-and-saturdays-thru-the-fall-semester/2025-10-04/
LOCATION:Lot 10\, 106 S. Cayuga St.\, Ithaca\, NY\, 14850\, United States
CATEGORIES:Featured
ATTACH;FMTTYPE=image/jpeg:https://www.downtownithaca.com/wp-content/uploads/lot10.jpg
END:VEVENT
BEGIN:VEVENT
DTSTART;TZID=America/New_York:20251005T110000
DTEND;TZID=America/New_York:20251005T180000
DTSTAMP:20260421T224159
CREATED:20250821T174029Z
LAST-MODIFIED:20250821T174029Z
UID:10004953-1759662000-1759687200@www.downtownithaca.com
SUMMARY:4th Annual Heritage Fiesta
DESCRIPTION:Get ready for a vibrant celebration at the 4th Annual Heritage Fiesta\, happening in the Press Bay Parking Lot on Sunday\, October 5th! 🎶🌮\n📅 11 AM – 6 PM\n📍 Press Bay Parking Lot\, Downtown Ithaca\nFounded by Yen Ospina and organized by Yen Ospina & Stacey Dimas\, this lively event promises a rich showcase of culture and tradition for everyone to enjoy.\n✨ Explore:\n🎨 Local artisans\n💃 Captivating performers\n🌮 Delicious food vendors\n🤝 Nonprofit organizations supporting the community\nIt’s a day for the whole community to come together\, celebrate\, and experience the beauty of heritage. Don’t miss out—learn more and get involved at LCATOMPKINS.ORG.\n💺 Don’t forget to bring a camping chair so you can relax and enjoy the festivities!\n☔ In case of bad weather\, please check our website and FB event page for rescheduling updates.\n—————————————-\n¡Prepárate para una celebración vibrante en la 4ª Fiesta Anual de la Herencia\, que se llevará a cabo en el estacionamiento de Press Bay el domingo 5 de octubre! 🎶🌮\n📅 11 a. m. – 6 p. m.\n📍 Estacionamiento de Press Bay\, Centro de Ithaca\nFundada por Yen Ospina y organizada por Yen Ospina & Stacey Dimas\, este animado evento promete una rica muestra de cultura y tradición para que todos disfruten.\n✨ Explora:\n🎨 Artesanos locales\n💃 Artistas y presentaciones cautivadoras\n🌮 Exquisitos vendedores de comida\n🤝 Organizaciones sin ánimo de lucro que apoyan a la comunidad\nSerá un día para que toda la comunidad se una\, celebre y experimente la belleza de la herencia cultural. ¡No te lo pierdas! Conoce más y participa en LCATOMPKINS.ORG.\n💺 ¡No olvides traer una silla de camping para que te relajes y disfrutes de las festividades!\n☔ En caso de mal clima\, por favor revisa nuestra página web y el evento en Facebook para actualizaciones sobre la reprogramación. \nThis event was made possible by: Latino Civic Association\, GIAC\, Park Foundation and partially by Statewide Community Regrant program from the New York State Council on the Arts\, with the support of the office of the Governor and NYS Legislature\, administered by the Community Arts Partnership of Tompkins County.\nFind us online:\nSitio web / website\n• LCATOMPKINS.ORG\ninstagram\n• instagram.com/lcatompkins
URL:https://www.downtownithaca.com/event/4th-annual-heritage-fiesta/
LOCATION:Press Bay Alley & Court\, 110-118 W. Green St.\, Ithaca\, NY\, 14850\, United States
CATEGORIES:Featured
ATTACH;FMTTYPE=image/jpeg:https://www.downtownithaca.com/wp-content/uploads/Oct-5th.jpg
ORGANIZER;CN="Latino Civic Assocation of Tompkins County":MAILTO:OSPINAYEN@GMAIL.COM
END:VEVENT
BEGIN:VEVENT
DTSTART;TZID=America/New_York:20251005T130000
DTEND;TZID=America/New_York:20251005T150000
DTSTAMP:20260421T224159
CREATED:20250919T163824Z
LAST-MODIFIED:20250919T163824Z
UID:10005036-1759669200-1759676400@www.downtownithaca.com
SUMMARY:ALMANAC: A MURMURATION - Christine Gelineau
DESCRIPTION:Join us at Buffalo Street Books with local author Christine Gelineau for observations on the intersections between real life\, stories\, and the natural world in this contemplative memoir as she reads from her new book\, ALMANAC: A Murmuration \nAbout the Author: Christine Gelineau is past Associate Director of the Creative Writing Program at Binghamton University and teaches creative nonfiction and poetry at the Maslow Family Graduate Program in Creative Writing at Wilkes University\, a program she helped to found. She is the prize-winning author of three books of poetry: Crave\, Appetite for the Divine\, and Remorseless Loyalty; and editor\, with Jack B. Bedell\, of the anthology French Connections: A Gathering of Franco-American Poets. \nAlmanac: A Murmuration is a memoir that is stitched through with a thread of autobiography and by a thread about the nature of language and narrative: the stories we tell ourselves about ourselves\, the stories we fashion about how we matter as a nation\, and stories we weave about our relationships with other-than-human animals and with the endangered natural world we are a part of.
URL:https://www.downtownithaca.com/event/almanac-a-murmuration-christine-gelineau/
LOCATION:Buffalo Street Books\, 215 N. Cayuga St.\, Ithaca
CATEGORIES:Featured
ATTACH;FMTTYPE=image/png:https://www.downtownithaca.com/wp-content/uploads/Almanac-A-Murmuration-Christine-Gelineau.png
ORGANIZER;CN="Buffalo Street Books":MAILTO:lisa@buffalostreetbooks.com
END:VEVENT
BEGIN:VEVENT
DTSTART;TZID=America/New_York:20251007T160000
DTEND;TZID=America/New_York:20251007T180000
DTSTAMP:20260421T224159
CREATED:20250919T184435Z
LAST-MODIFIED:20250919T184435Z
UID:10005037-1759852800-1759860000@www.downtownithaca.com
SUMMARY:READING TOGETHER - Katarzyna Bartoszynska
DESCRIPTION:Join us at Buffalo Street Books for Katarzyna Bartoszynska in conversation with Alexis Becker as we celebrate the release of Reading Together \nAbout the Author:  Local author Katarzyna Bartoszynska is a professor in English and Women’s\, Gender\, and Sexuality Studies at Ithaca College\, and is also a writer\, translator\, and avid reader.  \nAbout the Book: Reading Together is a memoir-essay about book clubs and different ways we read with different people; how books create community.
URL:https://www.downtownithaca.com/event/reading-together-katarzyna-bartoszynska/
LOCATION:Buffalo Street Books\, 215 N. Cayuga St.\, Ithaca
CATEGORIES:Featured
ATTACH;FMTTYPE=image/png:https://www.downtownithaca.com/wp-content/uploads/Reading-Together-Make-Me-A-Monster.png
ORGANIZER;CN="Buffalo Street Books":MAILTO:lisa@buffalostreetbooks.com
END:VEVENT
BEGIN:VEVENT
DTSTART;TZID=America/New_York:20251008T190000
DTEND;TZID=America/New_York:20251008T220000
DTSTAMP:20260421T224159
CREATED:20250409T193606Z
LAST-MODIFIED:20250409T193606Z
UID:10004545-1759950000-1759960800@www.downtownithaca.com
SUMMARY:Wednesday Open Mic Night at The Nocturnal Café
DESCRIPTION:The Nocturnal Café (formerly Sacred Root Kava Lounge & Tea Bar) welcomes you to experience our weekly Open Mic Night hosted by a rotating cast of talented local artists. Come on down to share your song or story! Let’s cultivate shared creativity! Showcase your talents and enjoy the experience of creative connection with a welcoming and supportive audience at Ithaca’s only alcohol-free nightlife destination.
URL:https://www.downtownithaca.com/event/wednesday-open-mic-night-at-the-nocturnal-cafe/2025-10-08/
LOCATION:The Nocturnal Café\, 103 S. Geneva St.\, Ithaca\, 14850
CATEGORIES:Featured
ATTACH;FMTTYPE=image/jpeg:https://www.downtownithaca.com/wp-content/uploads/open-mic-SR.jpg
ORGANIZER;CN="The Nocturnal Caf%C3%A9":MAILTO:nocturnalcafeny@gmail.com
END:VEVENT
BEGIN:VEVENT
DTSTART;TZID=America/New_York:20251009T173000
DTEND;TZID=America/New_York:20251009T193000
DTSTAMP:20260421T224159
CREATED:20251001T143807Z
LAST-MODIFIED:20251001T143807Z
UID:10005043-1760031000-1760038200@www.downtownithaca.com
SUMMARY:Community Arts Partnership Networking Night
DESCRIPTION:Come and hang out with fellow artists and creatives. We’ll do a few networking type conversation starters so you can meet new people! There will be snacks!
URL:https://www.downtownithaca.com/event/community-arts-partnership-networking-night-3/
LOCATION:Community Arts Partnership of Tompkins County\, 110 N. Tioga Street\, Ithaca
CATEGORIES:Featured
ATTACH;FMTTYPE=image/png:https://www.downtownithaca.com/wp-content/uploads/Screenshot-2025-09-25-170403.png
ORGANIZER;CN="Community Arts Partnership":MAILTO:info@artspartner.org
END:VEVENT
BEGIN:VEVENT
DTSTART;TZID=America/New_York:20251010T170000
DTEND;TZID=America/New_York:20251010T190000
DTSTAMP:20260421T224159
CREATED:20250919T184216Z
LAST-MODIFIED:20250919T184216Z
UID:10005038-1760115600-1760122800@www.downtownithaca.com
SUMMARY:Make Me a Monster - Kalynn Bayron
DESCRIPTION:“Sometimes the dead don’t stay dead” \nJoin us at Buffalo Street Books with author Kalynn Bayron for a reading from her newest novel\, Make Me a Monster
URL:https://www.downtownithaca.com/event/make-me-a-monster-kalynn-bayron/
LOCATION:Buffalo Street Books\, 215 N. Cayuga St.\, Ithaca
CATEGORIES:Featured
ATTACH;FMTTYPE=image/png:https://www.downtownithaca.com/wp-content/uploads/Kalynn-Bayron-Make-Me-a-Monster-2.png
ORGANIZER;CN="Buffalo Street Books":MAILTO:lisa@buffalostreetbooks.com
END:VEVENT
BEGIN:VEVENT
DTSTART;TZID=America/New_York:20251010T180000
DTEND;TZID=America/New_York:20251010T203000
DTSTAMP:20260421T224159
CREATED:20250908T222904Z
LAST-MODIFIED:20250908T222904Z
UID:10005023-1760119200-1760128200@www.downtownithaca.com
SUMMARY:Figure Drawing Fridays at CSMA
DESCRIPTION:Drop in for figure drawing sessions at CSMA\, generally held on the 2nd and 4th Friday evenings of each month. If you’re an intermediate or advanced-level artist interested in drawing from the nude model\, come join our non-instructed\, open sketch sessions. Just grab your own supplies and enjoy an evening of creativity in the company of other artists.
URL:https://www.downtownithaca.com/event/figure-drawing-fridays-at-csma-8/2025-10-10/
LOCATION:Community School of Music and Arts\, 330 East State Street\, Ithaca
CATEGORIES:Featured
ATTACH;FMTTYPE=image/png:https://www.downtownithaca.com/wp-content/uploads/figure-drawing-fridays-7.png
ORGANIZER;CN="Community School of Music &amp%3B Arts":MAILTO:info@csma-ithaca.org
END:VEVENT
BEGIN:VEVENT
DTSTART;TZID=America/New_York:20251010T210000
DTEND;TZID=America/New_York:20251011T010000
DTSTAMP:20260421T224159
CREATED:20250902T144550Z
LAST-MODIFIED:20250902T144550Z
UID:10004977-1760130000-1760144400@www.downtownithaca.com
SUMMARY:K-HOUSE Karaoke K-Pop-Up at Lot 10 Ithaca - Fridays AND Saturdays thru the Fall Semester!
DESCRIPTION:🎤✨ K-HOUSE Karaoke K-Pop-Up at Lot 10 Ithaca – Fridays AND Saturdays thru the Fall Semester! ✨🎤\nYou asked for more… so we’re giving you MORE! 🔥 The K-FAM will be KJ-ing every Friday AND Saturday night downstairs at Lot 10. 💜🎶\n🎙️ Same crew. Same K-HOUSE magic. New downtown stage.\n📍 106 S. Cayuga Street (Lot 10 – downstairs)\n🗓️ Fridays & Saturdays\n⏰ Starting at 9PM – Starting time may vary week to week. Be sure to stay updated on Instagram and Facebook!\n👉 Follow us: @khousekaraoke @lot10ithaca \nLet’s light up downtown Ithaca with that K-HOUSE energy. Come sing\, dance\, and party with us! 🌟\nTag your karaoke crew and let’s make it a night. 🎤🎉
URL:https://www.downtownithaca.com/event/k-house-karaoke-k-pop-up-at-lot-10-ithaca-fridays-and-saturdays-thru-the-fall-semester/2025-10-10/
LOCATION:Lot 10\, 106 S. Cayuga St.\, Ithaca\, NY\, 14850\, United States
CATEGORIES:Featured
ATTACH;FMTTYPE=image/jpeg:https://www.downtownithaca.com/wp-content/uploads/lot10.jpg
END:VEVENT
BEGIN:VEVENT
DTSTART;TZID=America/New_York:20251011T110000
DTEND;TZID=America/New_York:20251018T170000
DTSTAMP:20260421T224159
CREATED:20250923T183807Z
LAST-MODIFIED:20250923T183807Z
UID:10005039-1760180400-1760806800@www.downtownithaca.com
SUMMARY:27th annual Greater Ithaca Art Trail Open Studio Weekends
DESCRIPTION:Go on an adventure through gorgeous fall foliage with multiple artist studios as your destination!   \nThe Greater Ithaca Art Trail\, a program of the Community Arts Partnership of Tompkins County\, is hosting two Open Studio Weekends.  \nOn October 11th\, 12th and 18th\, 19th\, 30 fine artists across Tompkins County will open their studios to you!  \nVisitors can gather their art loving family and friends and enjoy a drive through our beautiful Tompkins County roads with artist studios as destinations. There’s no fee\, and no appointments needed. Just a wonderful adventure with great art and great conversations.  \nREGISTRATION IS REQUESTED (so we can keep visitors up to date) and there are three ways to enter into two different RAFFLES with over 27 chances to win art or offers donated by participating artists or gift cards.  \nYou’ll meet painters\, illustrators\, photographers\, sculptors\, printmakers\, and potters. You’ll see wood turning\, wood carving\, calligraphy\, parquetry\, gourd art\, fine jewelry\, and kiln formed glass.  \nThe artists will be thrilled to share their passion for their art making and show off what they’ve been working on.  \nWe love this quote from a 2024 visitor who said\, “I was blown away by the quality of the art that I saw and the really cool art studios. And I didn’t expect all the wonderful conversations I had with the artists. The Art Trail is such a unique and special event. And when you combine visiting such great artists with the beauty of the area\, this is definitely going to be an annual event for me and I’ll be sure to bring heaps of friends each year!”  \nThose who are on a quest to buy art (holiday presents!) will find prices ranging from $10 to $5\,000 and everything in between. Purchasing art can be an exhilarating experience and connecting with the artist is part of that experience. Many of the artists are offering demos and incentives.   \nYOU’LL NEED THE PDF list of who is open\, with printable maps.  Not all artists on the Trail are open\, and each artist is open on different days\, so you definitely need that list!  \nVisit ArtTrail.com. You find the PDF list/map on the event page\, plus artist profile pages and more. ENJOY!  \nQuestions: Robin Schwartz\, Community Arts Partnership Program Director. Info@artspartner.org \nCAP thanks our Art Trail business sponsors: P.W. Wood & Son\, Harris Beach Murtha\, Attorneys at Law\, Cornell University\, and our media sponsors: WSKG and The Route WITH Radio. Additional funding form the Tompkins County Tourism Program.  \nThe Art Trail is a program of the Community Arts Partnership of Tompkins County. For over 32 years\, “CAP” has been a driving force behind the vibrant arts community of Ithaca and Tompkins County. To learn more about CAP\, other grants\, workshops\, and events\, visit ArtsPartner.org.
URL:https://www.downtownithaca.com/event/27th-annual-greater-ithaca-art-trail-open-studio-weekends/
LOCATION:Ithaca\, NY
CATEGORIES:Featured
ATTACH;FMTTYPE=image/jpeg:https://www.downtownithaca.com/wp-content/uploads/Signs-scaled.jpg
ORGANIZER;CN="Community Arts Partnership":MAILTO:info@artspartner.org
END:VEVENT
BEGIN:VEVENT
DTSTART;TZID=America/New_York:20251011T210000
DTEND;TZID=America/New_York:20251012T010000
DTSTAMP:20260421T224159
CREATED:20250902T144550Z
LAST-MODIFIED:20250902T144550Z
UID:10004978-1760216400-1760230800@www.downtownithaca.com
SUMMARY:K-HOUSE Karaoke K-Pop-Up at Lot 10 Ithaca - Fridays AND Saturdays thru the Fall Semester!
DESCRIPTION:🎤✨ K-HOUSE Karaoke K-Pop-Up at Lot 10 Ithaca – Fridays AND Saturdays thru the Fall Semester! ✨🎤\nYou asked for more… so we’re giving you MORE! 🔥 The K-FAM will be KJ-ing every Friday AND Saturday night downstairs at Lot 10. 💜🎶\n🎙️ Same crew. Same K-HOUSE magic. New downtown stage.\n📍 106 S. Cayuga Street (Lot 10 – downstairs)\n🗓️ Fridays & Saturdays\n⏰ Starting at 9PM – Starting time may vary week to week. Be sure to stay updated on Instagram and Facebook!\n👉 Follow us: @khousekaraoke @lot10ithaca \nLet’s light up downtown Ithaca with that K-HOUSE energy. Come sing\, dance\, and party with us! 🌟\nTag your karaoke crew and let’s make it a night. 🎤🎉
URL:https://www.downtownithaca.com/event/k-house-karaoke-k-pop-up-at-lot-10-ithaca-fridays-and-saturdays-thru-the-fall-semester/2025-10-11/
LOCATION:Lot 10\, 106 S. Cayuga St.\, Ithaca\, NY\, 14850\, United States
CATEGORIES:Featured
ATTACH;FMTTYPE=image/jpeg:https://www.downtownithaca.com/wp-content/uploads/lot10.jpg
END:VEVENT
END:VCALENDAR