BEGIN:VCALENDAR
VERSION:2.0
PRODID:-//Downtown Ithaca - ECPv6.15.20//NONSGML v1.0//EN
CALSCALE:GREGORIAN
METHOD:PUBLISH
X-ORIGINAL-URL:https://www.downtownithaca.com
X-WR-CALDESC:Events for Downtown Ithaca
REFRESH-INTERVAL;VALUE=DURATION:PT1H
X-Robots-Tag:noindex
X-PUBLISHED-TTL:PT1H
BEGIN:VTIMEZONE
TZID:America/New_York
BEGIN:DAYLIGHT
TZOFFSETFROM:-0500
TZOFFSETTO:-0400
TZNAME:EDT
DTSTART:20240310T070000
END:DAYLIGHT
BEGIN:STANDARD
TZOFFSETFROM:-0400
TZOFFSETTO:-0500
TZNAME:EST
DTSTART:20241103T060000
END:STANDARD
BEGIN:DAYLIGHT
TZOFFSETFROM:-0500
TZOFFSETTO:-0400
TZNAME:EDT
DTSTART:20250309T070000
END:DAYLIGHT
BEGIN:STANDARD
TZOFFSETFROM:-0400
TZOFFSETTO:-0500
TZNAME:EST
DTSTART:20251102T060000
END:STANDARD
BEGIN:DAYLIGHT
TZOFFSETFROM:-0500
TZOFFSETTO:-0400
TZNAME:EDT
DTSTART:20260308T070000
END:DAYLIGHT
BEGIN:STANDARD
TZOFFSETFROM:-0400
TZOFFSETTO:-0500
TZNAME:EST
DTSTART:20261101T060000
END:STANDARD
END:VTIMEZONE
BEGIN:VEVENT
DTSTART;TZID=America/New_York:20251002T080000
DTEND;TZID=America/New_York:20251102T170000
DTSTAMP:20260425T192205
CREATED:20250918T142355Z
LAST-MODIFIED:20250918T142355Z
UID:10005032-1759392000-1762102800@www.downtownithaca.com
SUMMARY:Making Connections – One Step at a Time
DESCRIPTION:Eva M. Capobianco will exhibit her photo-sculptures and books chronicling her experiences while hiking the Finger Lakes Trail from end to end. \nSusan C. Larkin will display her striking photographic portraits of members of her community. The portraits and interviews of these Caroline neighbors are included in her latest book\, Connections. \nThe show will run from October 2 – November 2\, 2025. An opening reception will be held on Friday\, October 3\, 5–8 pm.  \nRegular hours Thursday-Sunday 12-5 pm. 120 W State St. Curbside parking and ADA accessibility. 607-277-1626. Made possible in part with funds from the NYS Council on the Arts\, administered by the Community Arts Partnership.
URL:https://www.downtownithaca.com/event/making-connections-one-step-at-a-time/
LOCATION:State of the Art Gallery\, 120 W State St #2\, Ithaca\, 14850\, United Kingdom
CATEGORIES:Featured
ATTACH;FMTTYPE=image/jpeg:https://www.downtownithaca.com/wp-content/uploads/2025-10-Capobianco-EVA-Map-34-Slide-Mountain.jpg
ORGANIZER;CN="State of the Art Gallery":MAILTO:gallery@soag.org
END:VEVENT
BEGIN:VEVENT
DTSTART;TZID=America/New_York:20251101T210000
DTEND;TZID=America/New_York:20251102T010000
DTSTAMP:20260425T192205
CREATED:20250902T144550Z
LAST-MODIFIED:20250902T144550Z
UID:10004984-1762030800-1762045200@www.downtownithaca.com
SUMMARY:K-HOUSE Karaoke K-Pop-Up at Lot 10 Ithaca - Fridays AND Saturdays thru the Fall Semester!
DESCRIPTION:🎤✨ K-HOUSE Karaoke K-Pop-Up at Lot 10 Ithaca – Fridays AND Saturdays thru the Fall Semester! ✨🎤\nYou asked for more… so we’re giving you MORE! 🔥 The K-FAM will be KJ-ing every Friday AND Saturday night downstairs at Lot 10. 💜🎶\n🎙️ Same crew. Same K-HOUSE magic. New downtown stage.\n📍 106 S. Cayuga Street (Lot 10 – downstairs)\n🗓️ Fridays & Saturdays\n⏰ Starting at 9PM – Starting time may vary week to week. Be sure to stay updated on Instagram and Facebook!\n👉 Follow us: @khousekaraoke @lot10ithaca \nLet’s light up downtown Ithaca with that K-HOUSE energy. Come sing\, dance\, and party with us! 🌟\nTag your karaoke crew and let’s make it a night. 🎤🎉
URL:https://www.downtownithaca.com/event/k-house-karaoke-k-pop-up-at-lot-10-ithaca-fridays-and-saturdays-thru-the-fall-semester/2025-11-01/
LOCATION:Lot 10\, 106 S. Cayuga St.\, Ithaca\, NY\, 14850\, United States
CATEGORIES:Featured
ATTACH;FMTTYPE=image/jpeg:https://www.downtownithaca.com/wp-content/uploads/lot10.jpg
END:VEVENT
BEGIN:VEVENT
DTSTART;TZID=America/New_York:20251102T140000
DTEND;TZID=America/New_York:20251102T160000
DTSTAMP:20260425T192205
CREATED:20251027T165546Z
LAST-MODIFIED:20251027T165546Z
UID:10005294-1762092000-1762099200@www.downtownithaca.com
SUMMARY:"Remembering Tomorrow" with Ink Alchemy
DESCRIPTION:Join Buffalo Street Books for a reading and Q&A on “Remembering Tomorrow\,” an anthology from Ink Alchemy. 
URL:https://www.downtownithaca.com/event/remembering-tomorrow-with-ink-alchemy/
LOCATION:Buffalo Street Books\, 215 N. Cayuga St.\, Ithaca
CATEGORIES:Featured
ATTACH;FMTTYPE=image/png:https://www.downtownithaca.com/wp-content/uploads/Ink-Alchemy-Remembering-Tomorrow.png
ORGANIZER;CN="Buffalo Street Books":MAILTO:lisa@buffalostreetbooks.com
END:VEVENT
BEGIN:VEVENT
DTSTART;TZID=America/New_York:20251105T190000
DTEND;TZID=America/New_York:20251105T220000
DTSTAMP:20260425T192205
CREATED:20250409T193606Z
LAST-MODIFIED:20250409T193606Z
UID:10004549-1762369200-1762380000@www.downtownithaca.com
SUMMARY:Wednesday Open Mic Night at The Nocturnal Café
DESCRIPTION:The Nocturnal Café (formerly Sacred Root Kava Lounge & Tea Bar) welcomes you to experience our weekly Open Mic Night hosted by a rotating cast of talented local artists. Come on down to share your song or story! Let’s cultivate shared creativity! Showcase your talents and enjoy the experience of creative connection with a welcoming and supportive audience at Ithaca’s only alcohol-free nightlife destination.
URL:https://www.downtownithaca.com/event/wednesday-open-mic-night-at-the-nocturnal-cafe/2025-11-05/
LOCATION:The Nocturnal Café\, 103 S. Geneva St.\, Ithaca\, 14850
CATEGORIES:Featured
ATTACH;FMTTYPE=image/jpeg:https://www.downtownithaca.com/wp-content/uploads/open-mic-SR.jpg
ORGANIZER;CN="The Nocturnal Caf%C3%A9":MAILTO:nocturnalcafeny@gmail.com
END:VEVENT
BEGIN:VEVENT
DTSTART;TZID=America/New_York:20251106T120000
DTEND;TZID=America/New_York:20251130T170000
DTSTAMP:20260425T192205
CREATED:20251020T014621Z
LAST-MODIFIED:20251020T014621Z
UID:10005062-1762430400-1764522000@www.downtownithaca.com
SUMMARY:Novemberists
DESCRIPTION:In Timeless Treasures\, Nancy Ridenour enjoys photographing a variety of subjects and has organized them into themes for the Salon show: Lotus Pond and Garden Flowers\, Florida Photography\, Bergdorf Goodman Reflections\, Montages\, and Damaged Collectables.  \nIn An Outside Phenomenon\, Christine Chin brings the outside inside with larger-than-life prints of moths and bees\, giant pollen grains and multi-panel botanical prints. The exhibition includes twenty-four prints on paper and metal and a window installation of silkscreen and 3D printed models\, the majority of which are being shown publicly for the first time.  \nIn Meanderings\, Ed Brothers is an oil pastelist who explores the\nlimits of the medium in small photo-realistic pieces. The displayed\nworks demonstrate the versatility of the medium as various challenges\nare revisited.\nThe show will run from November 6-30\, 2025. An opening reception will be held on Friday\, November 7\, 5–8 pm.
URL:https://www.downtownithaca.com/event/novemberists/
LOCATION:State of the Art Gallery\, 120 W State St #2\, Ithaca\, 14850\, United Kingdom
CATEGORIES:Featured
ATTACH;FMTTYPE=image/jpeg:https://www.downtownithaca.com/wp-content/uploads/November-social-media-combined-image.jpg
ORGANIZER;CN="State of the Art Gallery":MAILTO:gallery@soag.org
END:VEVENT
BEGIN:VEVENT
DTSTART;TZID=America/New_York:20251106T180000
DTEND;TZID=America/New_York:20251106T200000
DTSTAMP:20260425T192205
CREATED:20251001T142704Z
LAST-MODIFIED:20251001T142704Z
UID:10005046-1762452000-1762459200@www.downtownithaca.com
SUMMARY:QUEER HORROR BOOK CLUB - BLACK FLAME
DESCRIPTION:A cursed film. A haunted past. A deadly secret. \nJoin us at Buffalo Street Books  for a book club discussion of Black Flame\, led by staff member Anamarie \nBook Club Books 10% Off
URL:https://www.downtownithaca.com/event/queer-horror-book-club-black-flame/
LOCATION:Buffalo Street Books\, 215 N. Cayuga St.\, Ithaca
CATEGORIES:Featured
ATTACH;FMTTYPE=image/png:https://www.downtownithaca.com/wp-content/uploads/Black-Flame.png
ORGANIZER;CN="Buffalo Street Books":MAILTO:lisa@buffalostreetbooks.com
END:VEVENT
BEGIN:VEVENT
DTSTART;TZID=America/New_York:20251107T170000
DTEND;TZID=America/New_York:20251107T200000
DTSTAMP:20260425T192205
CREATED:20250821T150808Z
LAST-MODIFIED:20250821T150808Z
UID:10004951-1762534800-1762545600@www.downtownithaca.com
SUMMARY:Latino Civic Association Exhibit Showcasing Talent of Latine Artists
DESCRIPTION:Join us for a vibrant group exhibition showcasing talented Latine artists from within 100 miles of Ithaca. Come meet the artists\, buy unique works of art\, enjoy appetizers\, and learn more about the Latino Civic Association and curators Loreto Molina & Yen Ospina.\n📅 Friday\, October 3rd\n🕔 5–8 PM\n📍 Downtown Ithaca\nThis is a free community event—all are welcome!\n__________________________\nAcompáñanos a una vibrante exposición colectiva que presenta a talentosos artistas Latine de hasta 100 millas alrededor de Ithaca. Ven a conocer a los artistas\, comprar obras de arte únicas\, disfrutar de aperitivos y aprender más sobre la Asociación Cívica Latina y las curadoras Loreto Molina & Yen Ospina.\n📅 Viernes\, 3 de octubre\n🕔 5–8 p. m.\n📍 Centro de Ithaca\n¡Este es un evento comunitario gratuito—todos son bienvenidos!\n_________________________________________________________\nThis event was made possible by: Community School of Music & Arts\, Latino Civic Association\, and partially by Statewide Community Regrant program from the New York State Council on the Arts\, with the support of the office of the Governor and NYS Legislature\, administered by the Community Arts Partnership of Tompkins County.\nFind us online:\nSitio web / website\n• LCATOMPKINS.ORG\ninstagram\n• instagram.com/lcatompkins
URL:https://www.downtownithaca.com/event/latino-civic-association-exhibit-showcasing-talent-of-latine-artists/2025-11-07/
LOCATION:Community School of Music and Arts\, 330 East State Street\, Ithaca
CATEGORIES:Featured
ATTACH;FMTTYPE=image/jpeg:https://www.downtownithaca.com/wp-content/uploads/lcagallery.jpg
ORGANIZER;CN="Latino Civic Assocation of Tompkins County":MAILTO:OSPINAYEN@GMAIL.COM
END:VEVENT
BEGIN:VEVENT
DTSTART;TZID=America/New_York:20251107T170000
DTEND;TZID=America/New_York:20251107T200000
DTSTAMP:20260425T192205
CREATED:20251008T145227Z
LAST-MODIFIED:20251008T145227Z
UID:10005055-1762534800-1762545600@www.downtownithaca.com
SUMMARY:"Present Conversations III" - Group BIPoC Exhibit @ CAP ArtSpace
DESCRIPTION:I (@yenospina ) am so excited to announce this year’s lineup of artists for Present Conversations 3\, a pop-up exhibition by @orozco_gallery\, hosted at @community_arts_partnership – CAP ArtSpace (110 N. Tioga St\, Ithaca\, NY) — right in the heart of the Commons by the Bernie Milton Pavilion. \nThis November\, the gallery space transforms into a place for dialogue\, creativity\, and connection—bringing together artists whose work sparks reflection and celebrates community. \nParticipating artists:\n@lunafiberstudio\n@poisonapplesociety\n@adrinadietra\n@megthero.art\n@elizabethrossi.art\n@florenciaulloa\n@tem_tribal_art\n@damaris_vazquez_photography\n@myztico_campo\n@khadijah.unique\n@waterbysaki\n@dancingowlwoodworking\n@yaaamilkaaa\n@sunday.rebel\n@arielmestrella \nJoin us for the Opening Reception on November 7th from 5–8 PM — an evening filled with art\, conversation\, and community energy you won’t want to miss. \nThroughout November\, Artist Talks will take place at CAP ArtSpace\, where you can meet the artists and learn more about their creative process: \nWed\, Nov 19\n6:30–7:00 PM — @tem_tribal_art\n7:00–7:30 PM — @adrinadietra\n7:30–8:00 PM — @arielmestrella \nThurs\, Nov 20\n6:30–7:00 PM — @yaaamilkaaa\n7:00–7:30 PM — @damaris_vazquez_photography & @myztico_campo\n7:30–8:00 PM — @lunafiberstudio \nFri\, Nov 21\n6:30–7:00 PM — @poisonapplesociety\n7:00–7:30 PM — @sunday.rebel\n7:30–8:00 PM — @megthero.art \nMark your calendars—this is one exhibition you don’t want to miss.
URL:https://www.downtownithaca.com/event/present-conversations-iii-group-bipoc-exhibit-cap-artspace/
LOCATION:Community Arts Partnership of Tompkins County\, 110 N. Tioga Street\, Ithaca
CATEGORIES:Featured
ATTACH;FMTTYPE=image/jpeg:https://www.downtownithaca.com/wp-content/uploads/Present-Conversations-III.jpg
ORGANIZER;CN="Gallery Orozco Ithaca":MAILTO:ospinayen@gmail.com
END:VEVENT
BEGIN:VEVENT
DTSTART;TZID=America/New_York:20251107T170000
DTEND;TZID=America/New_York:20251107T200000
DTSTAMP:20260425T192205
CREATED:20251103T170400Z
LAST-MODIFIED:20251103T170400Z
UID:10005302-1762534800-1762545600@www.downtownithaca.com
SUMMARY:Art Opening at MIX Art Gallery!  "First Light" by Basil Bakhshi Opening Reception Friday\, Nov. 11th from 5-8PM
DESCRIPTION:This November 2025\, MIX Art Gallery presents First Light by Basil Bakhshi. Born in war-torn Pakistan\, Bakhshi lived on the streets until adoption brought him into a world of stability and creative possibility. Those beginnings left an enduring imprint on his vision\, one that recognizes tension and resilience as essential parts of beauty. \nNow based in New York’s Finger Lakes\, Bakhshi draws inspiration from the region’s shifting light and tranquil landscapes. His work spans oil painting and ceramics\, guided by the Japanese concept of shibumi: an unpretentious\, balanced beauty that reveals itself through simplicity and depth. His art carries the rawness of experience while offering stillness and reflection. \nBakhshi’s plein-air oil painting\, awarded Best in Show in French Alezum\, Pennsylvania\, affirmed his commitment to painting directly from life. In First Light\, he exhibits alongside his partner\, Billie Bakhshi\, whose debut features lively\, affordable works that radiate warmth and joy. Together\, their practices explore contrast and harmony; two expressions of a shared pursuit to find beauty in the everyday. \nTo celebrate the exhibition\, Basil Bakhshi is offering a complimentary “Abstract Portrait” with the purchase of any work. “Each color becomes a heartbeat\, each line a whisper of presence\,” he explains. “Through abstraction\, I reveal memory\, mood\, and the inner rhythm of being.” \nMIX Art Gallery is open Thursdays and Fridays from 3 -7 PM\, and Saturdays from 12 -6 PM\, at 156 E. State St. on the Ithaca Commons. Visit www.mixartgallery.com or shop online at https://www.mixartgallery.com/shop-artists.
URL:https://www.downtownithaca.com/event/art-opening-at-mix-art-gallery-first-light-by-basil-bakhshi-opening-reception-friday-nov-11th-from-5-8pm/
LOCATION:MIX Art Gallery\, 156 E. State Street\, Ithaca\, 14850
CATEGORIES:Featured
ATTACH;FMTTYPE=image/png:https://www.downtownithaca.com/wp-content/uploads/First-Light.png
ORGANIZER;CN="MIX Art Gallery":MAILTO:contact@mixartgallery.com
END:VEVENT
BEGIN:VEVENT
DTSTART;TZID=America/New_York:20251107T170000
DTEND;TZID=America/New_York:20251107T200000
DTSTAMP:20260425T192205
CREATED:20260201T160037Z
LAST-MODIFIED:20260202T063342Z
UID:10003584-1762534800-1762545600@www.downtownithaca.com
SUMMARY:Ithaca Gallery Night - First Friday of Every Month
DESCRIPTION:ITHACA GALLERY NIGHT \nFRIDAY\, FEBRUARY 6\, 2026\n5:00–8:00 PM\nDOWNTOWN ITHACA \nIthaca Gallery Night is a walkable evening of art openings and cultural experiences throughout Downtown Ithaca. On the first Friday\, galleries\, studios\, and creative spaces open their doors for the public to explore exhibitions\, meet artists\, and experience the city’s arts community in one cohesive night. \nThis event is part of First Friday Ithaca Gallery Night openings.\nPlease visit www.ithacagallerynight.com\nto see all participating locations and current event details. \nFollow along and share your experience using:\n#ithacagallerynight1 #downtownithaca #visitithaca \nFacebook Event Link
URL:https://www.downtownithaca.com/event/gallery-night-ithaca-first-friday-of-every-month/2025-11-07/
ATTACH;FMTTYPE=image/png:https://www.downtownithaca.com/wp-content/uploads/Google-form-GRAPHIC_IthacaGalleryNight-1.png
END:VEVENT
BEGIN:VEVENT
DTSTART;TZID=America/New_York:20251107T173000
DTEND;TZID=America/New_York:20251107T190000
DTSTAMP:20260425T192205
CREATED:20251023T142236Z
LAST-MODIFIED:20251023T142236Z
UID:10005286-1762536600-1762542000@www.downtownithaca.com
SUMMARY:Busking for Justice
DESCRIPTION:Press Release: Busking for Justice Features The Makers November 7\nFOR IMMEDIATE RELEASE Contact: Saoirse McClory saoirsemcclory@gmail.com 607-272-9088\nBusking for Justice Welcomes The Makers November 7 at Café Dewitt\nMonthly concert series continues raising funds for immigrants facing deportation\nITHACA\, NY — The Busking for Justice concert series continues Friday\, November 7\, from 5:30–7:00 p.m. at Café Dewitt in downtown Ithaca’s Dewitt Mall\, featuring a performance by The Makers — the dynamic duo of Lydia Garrison and Nate Silas Richardson.\nDrawn together by a shared passion for the music of Mali\, West Africa\, The Makers blend vocals\, fiddle\, banjo\, and various guitars into a distinctive and heartfelt sound. Their original songs trace the triumphs and challenges of life’s winding path\, combining lyrical depth with intricate musicianship that defies easy categorization.\nThis performance marks the third concert in the Busking for Justice series\, which raises funds for legal aid and bail assistance for immigrants impacted by the threat of deportation.\n“Busking for Justice is about more than music — it’s about compassion and solidarity\,” said principal organizer Jayne Demakos. “Each act of generosity\, whether from the performers or the audience\, reflects our community’s commitment to fairness and the right to due process.”● When: Friday\, November 7 | 5:30–7:00 p.m. \n● Where: Café Dewitt\, Dewitt Mall\, 215 N. Cayuga St.\, Ithaca\, NY \n● Admission: Free; donations encouraged and gratefully accepted \n● Beneficiary: Legal aid and bail funds for immigrants facing deportation\n    +
URL:https://www.downtownithaca.com/event/busking-for-justice/
LOCATION:115 S Cayuga St\, 115 S Cayuga St\, Ithaca\, 14850
CATEGORIES:Featured
ATTACH;FMTTYPE=image/jpeg:https://www.downtownithaca.com/wp-content/uploads/BFG-2025Fall-600x600-LogoImage-1.jpg
ORGANIZER;CN="Cafe Dewitt":MAILTO:saoirsemcclory@gmail.com
END:VEVENT
BEGIN:VEVENT
DTSTART;TZID=America/New_York:20251107T210000
DTEND;TZID=America/New_York:20251108T010000
DTSTAMP:20260425T192205
CREATED:20250902T144550Z
LAST-MODIFIED:20250902T144550Z
UID:10004985-1762549200-1762563600@www.downtownithaca.com
SUMMARY:K-HOUSE Karaoke K-Pop-Up at Lot 10 Ithaca - Fridays AND Saturdays thru the Fall Semester!
DESCRIPTION:🎤✨ K-HOUSE Karaoke K-Pop-Up at Lot 10 Ithaca – Fridays AND Saturdays thru the Fall Semester! ✨🎤\nYou asked for more… so we’re giving you MORE! 🔥 The K-FAM will be KJ-ing every Friday AND Saturday night downstairs at Lot 10. 💜🎶\n🎙️ Same crew. Same K-HOUSE magic. New downtown stage.\n📍 106 S. Cayuga Street (Lot 10 – downstairs)\n🗓️ Fridays & Saturdays\n⏰ Starting at 9PM – Starting time may vary week to week. Be sure to stay updated on Instagram and Facebook!\n👉 Follow us: @khousekaraoke @lot10ithaca \nLet’s light up downtown Ithaca with that K-HOUSE energy. Come sing\, dance\, and party with us! 🌟\nTag your karaoke crew and let’s make it a night. 🎤🎉
URL:https://www.downtownithaca.com/event/k-house-karaoke-k-pop-up-at-lot-10-ithaca-fridays-and-saturdays-thru-the-fall-semester/2025-11-07/
LOCATION:Lot 10\, 106 S. Cayuga St.\, Ithaca\, NY\, 14850\, United States
CATEGORIES:Featured
ATTACH;FMTTYPE=image/jpeg:https://www.downtownithaca.com/wp-content/uploads/lot10.jpg
END:VEVENT
BEGIN:VEVENT
DTSTART;TZID=America/New_York:20251108T140000
DTEND;TZID=America/New_York:20251108T160000
DTSTAMP:20260425T192205
CREATED:20251008T161940Z
LAST-MODIFIED:20251008T161940Z
UID:10005059-1762610400-1762617600@www.downtownithaca.com
SUMMARY:Tompkins County Public Library 25th Birthday Party
DESCRIPTION:Save the date! On Saturday\, November 8\, Tompkins County Public Library is celebrating the 25th Anniversary of the opening of the modern Library on East Green Street. \nThe birthday party and open house from 2:00 p.m. until 4:00 p.m. will highlight all the services your library offers\, as well as offer treats\, games\, crafts\, historic displays\, a dance party\, and a special visit by “Ezra Cornell” to unveil two new library cards designed by library patrons and chosen by the community. \nThose in attendance will also have a chance to explore the Makerspace\, hear from community leaders\, share their library memories\, and connect with the Friends of the Tompkins County Public Library and the Tompkins County Public Library Foundation.
URL:https://www.downtownithaca.com/event/tompkins-county-public-library-25th-birthday-party/
LOCATION:Tompkins County Public Library\, 101 E. Green Street\, Ithaca\, NY\, 14850
CATEGORIES:Featured
ATTACH;FMTTYPE=image/jpeg:https://www.downtownithaca.com/wp-content/uploads/libraryevent.jpg
ORGANIZER;CN="Tompkins County Public Library":MAILTO:communications@tcpl.org
END:VEVENT
BEGIN:VEVENT
DTSTART;TZID=America/New_York:20251108T150000
DTEND;TZID=America/New_York:20251108T170000
DTSTAMP:20260425T192205
CREATED:20251027T165517Z
LAST-MODIFIED:20251027T165517Z
UID:10005292-1762614000-1762621200@www.downtownithaca.com
SUMMARY:"Palestine: People\, Land\, and Solidarity" Book Launch with Lou and Milt Taam
DESCRIPTION:Please join Buffalo Street Books to welcome Lou Taam and Milt Taam\, a writer and photographer\, respectively\, for the launch of their book “Palestine: People\, Land\, and Solidarity”. Every dollar from book sales during this event will be donated to the Sameer Project.
URL:https://www.downtownithaca.com/event/palestine-people-land-and-solidarity-book-launch-with-lou-and-milt-taam/
LOCATION:Buffalo Street Books\, 215 N. Cayuga St.\, Ithaca
CATEGORIES:Featured
ATTACH;FMTTYPE=image/png:https://www.downtownithaca.com/wp-content/uploads/Lou-and-Milt-Taam-Palestine-People-Land-and-Solidarity.png
ORGANIZER;CN="Buffalo Street Books":MAILTO:lisa@buffalostreetbooks.com
END:VEVENT
BEGIN:VEVENT
DTSTART;TZID=America/New_York:20251108T210000
DTEND;TZID=America/New_York:20251109T010000
DTSTAMP:20260425T192205
CREATED:20250902T144550Z
LAST-MODIFIED:20250902T144550Z
UID:10004986-1762635600-1762650000@www.downtownithaca.com
SUMMARY:K-HOUSE Karaoke K-Pop-Up at Lot 10 Ithaca - Fridays AND Saturdays thru the Fall Semester!
DESCRIPTION:🎤✨ K-HOUSE Karaoke K-Pop-Up at Lot 10 Ithaca – Fridays AND Saturdays thru the Fall Semester! ✨🎤\nYou asked for more… so we’re giving you MORE! 🔥 The K-FAM will be KJ-ing every Friday AND Saturday night downstairs at Lot 10. 💜🎶\n🎙️ Same crew. Same K-HOUSE magic. New downtown stage.\n📍 106 S. Cayuga Street (Lot 10 – downstairs)\n🗓️ Fridays & Saturdays\n⏰ Starting at 9PM – Starting time may vary week to week. Be sure to stay updated on Instagram and Facebook!\n👉 Follow us: @khousekaraoke @lot10ithaca \nLet’s light up downtown Ithaca with that K-HOUSE energy. Come sing\, dance\, and party with us! 🌟\nTag your karaoke crew and let’s make it a night. 🎤🎉
URL:https://www.downtownithaca.com/event/k-house-karaoke-k-pop-up-at-lot-10-ithaca-fridays-and-saturdays-thru-the-fall-semester/2025-11-08/
LOCATION:Lot 10\, 106 S. Cayuga St.\, Ithaca\, NY\, 14850\, United States
CATEGORIES:Featured
ATTACH;FMTTYPE=image/jpeg:https://www.downtownithaca.com/wp-content/uploads/lot10.jpg
END:VEVENT
END:VCALENDAR