BEGIN:VCALENDAR
VERSION:2.0
PRODID:-//Downtown Ithaca - ECPv6.15.20//NONSGML v1.0//EN
CALSCALE:GREGORIAN
METHOD:PUBLISH
X-WR-CALNAME:Downtown Ithaca
X-ORIGINAL-URL:https://www.downtownithaca.com
X-WR-CALDESC:Events for Downtown Ithaca
REFRESH-INTERVAL;VALUE=DURATION:PT1H
X-Robots-Tag:noindex
X-PUBLISHED-TTL:PT1H
BEGIN:VTIMEZONE
TZID:America/New_York
BEGIN:DAYLIGHT
TZOFFSETFROM:-0500
TZOFFSETTO:-0400
TZNAME:EDT
DTSTART:20240310T070000
END:DAYLIGHT
BEGIN:STANDARD
TZOFFSETFROM:-0400
TZOFFSETTO:-0500
TZNAME:EST
DTSTART:20241103T060000
END:STANDARD
BEGIN:DAYLIGHT
TZOFFSETFROM:-0500
TZOFFSETTO:-0400
TZNAME:EDT
DTSTART:20250309T070000
END:DAYLIGHT
BEGIN:STANDARD
TZOFFSETFROM:-0400
TZOFFSETTO:-0500
TZNAME:EST
DTSTART:20251102T060000
END:STANDARD
BEGIN:DAYLIGHT
TZOFFSETFROM:-0500
TZOFFSETTO:-0400
TZNAME:EDT
DTSTART:20260308T070000
END:DAYLIGHT
BEGIN:STANDARD
TZOFFSETFROM:-0400
TZOFFSETTO:-0500
TZNAME:EST
DTSTART:20261101T060000
END:STANDARD
END:VTIMEZONE
BEGIN:VEVENT
DTSTART;TZID=America/New_York:20251106T120000
DTEND;TZID=America/New_York:20251130T170000
DTSTAMP:20260425T174215
CREATED:20251020T014621Z
LAST-MODIFIED:20251020T014621Z
UID:10005062-1762430400-1764522000@www.downtownithaca.com
SUMMARY:Novemberists
DESCRIPTION:In Timeless Treasures\, Nancy Ridenour enjoys photographing a variety of subjects and has organized them into themes for the Salon show: Lotus Pond and Garden Flowers\, Florida Photography\, Bergdorf Goodman Reflections\, Montages\, and Damaged Collectables.  \nIn An Outside Phenomenon\, Christine Chin brings the outside inside with larger-than-life prints of moths and bees\, giant pollen grains and multi-panel botanical prints. The exhibition includes twenty-four prints on paper and metal and a window installation of silkscreen and 3D printed models\, the majority of which are being shown publicly for the first time.  \nIn Meanderings\, Ed Brothers is an oil pastelist who explores the\nlimits of the medium in small photo-realistic pieces. The displayed\nworks demonstrate the versatility of the medium as various challenges\nare revisited.\nThe show will run from November 6-30\, 2025. An opening reception will be held on Friday\, November 7\, 5–8 pm.
URL:https://www.downtownithaca.com/event/novemberists/
LOCATION:State of the Art Gallery\, 120 W State St #2\, Ithaca\, 14850\, United Kingdom
CATEGORIES:Featured
ATTACH;FMTTYPE=image/jpeg:https://www.downtownithaca.com/wp-content/uploads/November-social-media-combined-image.jpg
ORGANIZER;CN="State of the Art Gallery":MAILTO:gallery@soag.org
END:VEVENT
BEGIN:VEVENT
DTSTART;TZID=America/New_York:20251108T210000
DTEND;TZID=America/New_York:20251109T010000
DTSTAMP:20260425T174215
CREATED:20250902T144550Z
LAST-MODIFIED:20250902T144550Z
UID:10004986-1762635600-1762650000@www.downtownithaca.com
SUMMARY:K-HOUSE Karaoke K-Pop-Up at Lot 10 Ithaca - Fridays AND Saturdays thru the Fall Semester!
DESCRIPTION:🎤✨ K-HOUSE Karaoke K-Pop-Up at Lot 10 Ithaca – Fridays AND Saturdays thru the Fall Semester! ✨🎤\nYou asked for more… so we’re giving you MORE! 🔥 The K-FAM will be KJ-ing every Friday AND Saturday night downstairs at Lot 10. 💜🎶\n🎙️ Same crew. Same K-HOUSE magic. New downtown stage.\n📍 106 S. Cayuga Street (Lot 10 – downstairs)\n🗓️ Fridays & Saturdays\n⏰ Starting at 9PM – Starting time may vary week to week. Be sure to stay updated on Instagram and Facebook!\n👉 Follow us: @khousekaraoke @lot10ithaca \nLet’s light up downtown Ithaca with that K-HOUSE energy. Come sing\, dance\, and party with us! 🌟\nTag your karaoke crew and let’s make it a night. 🎤🎉
URL:https://www.downtownithaca.com/event/k-house-karaoke-k-pop-up-at-lot-10-ithaca-fridays-and-saturdays-thru-the-fall-semester/2025-11-08/
LOCATION:Lot 10\, 106 S. Cayuga St.\, Ithaca\, NY\, 14850\, United States
CATEGORIES:Featured
ATTACH;FMTTYPE=image/jpeg:https://www.downtownithaca.com/wp-content/uploads/lot10.jpg
END:VEVENT
BEGIN:VEVENT
DTSTART;TZID=America/New_York:20251109T120000
DTEND;TZID=America/New_York:20251109T130000
DTSTAMP:20260425T174215
CREATED:20251024T162445Z
LAST-MODIFIED:20251024T162445Z
UID:10005288-1762689600-1762693200@www.downtownithaca.com
SUMMARY:Generative Spiral Workshop
DESCRIPTION:Join Buffalo Street Books for a series of workshops with nicole v. basta. This generative workshop series will allow our minds to circle a spiral of questions & ideas\, to be liberated by the non-linear. Expect strange and very intentional multi-step prompts that shake you from the status quo. \nThese workshops are for any writer\, artist\, thinker\, dreamer\, human looking for insight into their creativity that doesn’t come from straightforward thinking. We will use art\, artifice\, poetry\, history\, the esoteric\, & my love of questions to guide us into the spiral. These classes are drop-on (come to one\, come to some\, come to all) and allow space to explore the strange in community\, to craft beautiful images\, to get your pen moving in a low stakes way. \n4 Sundays at Noon: 10/26\, 11/9\, 11/23\, 12/7. $10-$20 sliding scale per class
URL:https://www.downtownithaca.com/event/generative-spiral-workshop/2025-11-09/
LOCATION:Buffalo Street Books\, 215 N. Cayuga St.\, Ithaca
CATEGORIES:Featured
ATTACH;FMTTYPE=image/png:https://www.downtownithaca.com/wp-content/uploads/generative-spiral.png
ORGANIZER;CN="Buffalo Street Books":MAILTO:lisa@buffalostreetbooks.com
END:VEVENT
BEGIN:VEVENT
DTSTART;TZID=America/New_York:20251109T140000
DTEND;TZID=America/New_York:20251109T160000
DTSTAMP:20260425T174215
CREATED:20251027T165533Z
LAST-MODIFIED:20251027T165533Z
UID:10005293-1762696800-1762704000@www.downtownithaca.com
SUMMARY:"The Wolf at Twilight" by Kent Nerburn - GLP Book Club
DESCRIPTION:Join Buffalo Street Books for a GLP Book Club discussion of Kent Nerburn’s “The Wolf at Twilight.”
URL:https://www.downtownithaca.com/event/the-wolf-at-twilight-by-kent-nerburn-glp-book-club/
LOCATION:Buffalo Street Books\, 215 N. Cayuga St.\, Ithaca
CATEGORIES:Featured
ATTACH;FMTTYPE=image/png:https://www.downtownithaca.com/wp-content/uploads/Book-Club-Neither-Wolf-Nor-Dog.png
ORGANIZER;CN="Buffalo Street Books":MAILTO:lisa@buffalostreetbooks.com
END:VEVENT
BEGIN:VEVENT
DTSTART;TZID=America/New_York:20251110T080000
DTEND;TZID=America/New_York:20251110T170000
DTSTAMP:20260425T174215
CREATED:20251030T153426Z
LAST-MODIFIED:20251030T164725Z
UID:10005297-1762761600-1762794000@www.downtownithaca.com
SUMMARY:Free Workshops for Musicians
DESCRIPTION:Two free workshops for musicians\, brought to you by the Community Arts Partnership \nMonday\, November 10\n6:00 – 7:30pm\n(7:30 to 8:00pm – social time and networking)  \nJoin local musicians and event promoters Nick Scollard and Aaron Robbins for a practical workshop designed for musicians ready to take the next step in their careers. Learn how to break into our local music scene\, build strong connections with regional promoters\, and understand exactly what you need to have prepared to make a compelling pitch. Whether you’re just getting started or looking to expand your reach\, this session will offer real-world advice from those who know the ropes.  \nMonday\, November 17\n6:00 – 7:30pm\n(7:30 to 8:00pm – social time and networking) \nwith Destiny LaVibe and SingTrece\nAre you a musician passionate about your craft but seeking practical ways to earn a living from your music? This workshop will guide you through the diverse and ever-evolving landscape of music monetization\, equipping you with the knowledge and strategies to build a sustainable and thriving career. We’ll cover: Diversifying Income Streams: Explore avenues beyond traditional live performances and physical sales.
URL:https://www.downtownithaca.com/event/free-workshops-for-musicians/2025-11-10/1/
LOCATION:Community Arts Partnership of Tompkins County\, 110 N. Tioga Street\, Ithaca
CATEGORIES:Featured
ATTACH;FMTTYPE=image/png:https://www.downtownithaca.com/wp-content/uploads/Screenshot-2025-10-30-103654.png
ORGANIZER;CN="Community Arts Partnership":MAILTO:info@artspartner.org
END:VEVENT
BEGIN:VEVENT
DTSTART;TZID=America/New_York:20251110T180000
DTEND;TZID=America/New_York:20251110T193000
DTSTAMP:20260425T174215
CREATED:20251030T153426Z
LAST-MODIFIED:20251030T164725Z
UID:10005298-1762797600-1762803000@www.downtownithaca.com
SUMMARY:Free Workshops for Musicians
DESCRIPTION:Two free workshops for musicians\, brought to you by the Community Arts Partnership \nMonday\, November 10\n6:00 – 7:30pm\n(7:30 to 8:00pm – social time and networking)  \nJoin local musicians and event promoters Nick Scollard and Aaron Robbins for a practical workshop designed for musicians ready to take the next step in their careers. Learn how to break into our local music scene\, build strong connections with regional promoters\, and understand exactly what you need to have prepared to make a compelling pitch. Whether you’re just getting started or looking to expand your reach\, this session will offer real-world advice from those who know the ropes.  \nMonday\, November 17\n6:00 – 7:30pm\n(7:30 to 8:00pm – social time and networking) \nwith Destiny LaVibe and SingTrece\nAre you a musician passionate about your craft but seeking practical ways to earn a living from your music? This workshop will guide you through the diverse and ever-evolving landscape of music monetization\, equipping you with the knowledge and strategies to build a sustainable and thriving career. We’ll cover: Diversifying Income Streams: Explore avenues beyond traditional live performances and physical sales.
URL:https://www.downtownithaca.com/event/free-workshops-for-musicians/2025-11-10/2/
LOCATION:Community Arts Partnership of Tompkins County\, 110 N. Tioga Street\, Ithaca
CATEGORIES:Featured
ATTACH;FMTTYPE=image/png:https://www.downtownithaca.com/wp-content/uploads/Screenshot-2025-10-30-103654.png
ORGANIZER;CN="Community Arts Partnership":MAILTO:info@artspartner.org
END:VEVENT
BEGIN:VEVENT
DTSTART;TZID=America/New_York:20251112T190000
DTEND;TZID=America/New_York:20251112T220000
DTSTAMP:20260425T174215
CREATED:20250409T193606Z
LAST-MODIFIED:20250409T193606Z
UID:10004550-1762974000-1762984800@www.downtownithaca.com
SUMMARY:Wednesday Open Mic Night at The Nocturnal Café
DESCRIPTION:The Nocturnal Café (formerly Sacred Root Kava Lounge & Tea Bar) welcomes you to experience our weekly Open Mic Night hosted by a rotating cast of talented local artists. Come on down to share your song or story! Let’s cultivate shared creativity! Showcase your talents and enjoy the experience of creative connection with a welcoming and supportive audience at Ithaca’s only alcohol-free nightlife destination.
URL:https://www.downtownithaca.com/event/wednesday-open-mic-night-at-the-nocturnal-cafe/2025-11-12/
LOCATION:The Nocturnal Café\, 103 S. Geneva St.\, Ithaca\, 14850
CATEGORIES:Featured
ATTACH;FMTTYPE=image/jpeg:https://www.downtownithaca.com/wp-content/uploads/open-mic-SR.jpg
ORGANIZER;CN="The Nocturnal Caf%C3%A9":MAILTO:nocturnalcafeny@gmail.com
END:VEVENT
BEGIN:VEVENT
DTSTART;TZID=America/New_York:20251113T110000
DTEND;TZID=America/New_York:20251228T180000
DTSTAMP:20260425T174215
CREATED:20251114T163826Z
LAST-MODIFIED:20251114T163826Z
UID:10005315-1763031600-1766944800@www.downtownithaca.com
SUMMARY:Local Fiber 2025 Holiday Pop-Up Store
DESCRIPTION:Once again\, Local Fiber members are working together to host a holiday pop-up store in downtown Ithaca featuring items made with local wool\, alpaca\, angora fiber. The 2025 Local Fiber Holiday Popup store will be open November 1st to December 28th at 115 South Cayuga Street in Ithaca\, NY\, right off of the Commons.  The store is staffed by Local Fiber members\, most of whom raise fiber animals on farms in the area and will happily chat with you about their animals and products. There is so much to choose from:  millspun and handspun yarn\, warm mittens\, hats\, and gloves\, spinning fleece\, wool craft kits\, gifts for the holidays\, fiber art and so much more!  We will also have weekly workshops and demonstrations\, as well as knitting and spinning circles.  Stop in the store or check our FaceBook page (facebook.com/localfiber.ny) for details about the workshops and other events. \nLocal Fiber Popup Shop Hours:\nWednesday 11 – 6\nThursdays 11 – 8\nFridays 11 – 6  *First Friday 11/7  11 – 8\nSaturdays 11 – 6\nSundays 11 – 6 \n115 South Cayuga Street\nNovember 1 – December 28\, 2025
URL:https://www.downtownithaca.com/event/local-fiber-2025-holiday-pop-up-store/
LOCATION:115 S Cayuga St\, 115 S Cayuga St\, Ithaca\, 14850
CATEGORIES:Featured
ATTACH;FMTTYPE=image/jpeg:https://www.downtownithaca.com/wp-content/uploads/LocalFiber-Popup.postcard.2025.jpg
ORGANIZER;CN="LocalFiber":MAILTO:president@localfiber.org
END:VEVENT
BEGIN:VEVENT
DTSTART;TZID=America/New_York:20251113T150000
DTEND;TZID=America/New_York:20251113T160000
DTSTAMP:20260425T174215
CREATED:20251105T054245Z
LAST-MODIFIED:20251105T054245Z
UID:10005305-1763046000-1763049600@www.downtownithaca.com
SUMMARY:A Celebration for Veterans - November 13th 3 pm to 4pm
DESCRIPTION:You are cordially invited to join us in showing our gratitude for all of the brave men and women who have served our country in a heartfelt day of festivities. Whether you’re a veteran yourself or an accompanying guest\, witness a special moment as we proudly present a commemorative pin to each veteran.  \nNext\, hear an inspirational message of gratitude from Folds of Honor\, followed by a special callout recognizing each individual branch of the military. Then\, enjoy a relaxing time of connection and camaraderie over delicious hors d’oeuvres as you talk with veterans\, family\, friends and other guests in attendance. \nRSVP to join us in honoring and giving thanks for all who have served.
URL:https://www.downtownithaca.com/event/a-celebration-for-veterans-november-13th-3-pm-to-4pm/
CATEGORIES:Featured
ATTACH;FMTTYPE=image/jpeg:https://www.downtownithaca.com/wp-content/uploads/A-Celebration-of-Veterans-.jpg
ORGANIZER;CN="brookdale":MAILTO:lroan@brookdale.com
END:VEVENT
BEGIN:VEVENT
DTSTART;TZID=America/New_York:20251114T210000
DTEND;TZID=America/New_York:20251115T010000
DTSTAMP:20260425T174215
CREATED:20250902T144550Z
LAST-MODIFIED:20250902T144550Z
UID:10004987-1763154000-1763168400@www.downtownithaca.com
SUMMARY:K-HOUSE Karaoke K-Pop-Up at Lot 10 Ithaca - Fridays AND Saturdays thru the Fall Semester!
DESCRIPTION:🎤✨ K-HOUSE Karaoke K-Pop-Up at Lot 10 Ithaca – Fridays AND Saturdays thru the Fall Semester! ✨🎤\nYou asked for more… so we’re giving you MORE! 🔥 The K-FAM will be KJ-ing every Friday AND Saturday night downstairs at Lot 10. 💜🎶\n🎙️ Same crew. Same K-HOUSE magic. New downtown stage.\n📍 106 S. Cayuga Street (Lot 10 – downstairs)\n🗓️ Fridays & Saturdays\n⏰ Starting at 9PM – Starting time may vary week to week. Be sure to stay updated on Instagram and Facebook!\n👉 Follow us: @khousekaraoke @lot10ithaca \nLet’s light up downtown Ithaca with that K-HOUSE energy. Come sing\, dance\, and party with us! 🌟\nTag your karaoke crew and let’s make it a night. 🎤🎉
URL:https://www.downtownithaca.com/event/k-house-karaoke-k-pop-up-at-lot-10-ithaca-fridays-and-saturdays-thru-the-fall-semester/2025-11-14/
LOCATION:Lot 10\, 106 S. Cayuga St.\, Ithaca\, NY\, 14850\, United States
CATEGORIES:Featured
ATTACH;FMTTYPE=image/jpeg:https://www.downtownithaca.com/wp-content/uploads/lot10.jpg
END:VEVENT
BEGIN:VEVENT
DTSTART;TZID=America/New_York:20251115T140000
DTEND;TZID=America/New_York:20251115T160000
DTSTAMP:20260425T174215
CREATED:20251027T165502Z
LAST-MODIFIED:20251027T165502Z
UID:10005291-1763215200-1763222400@www.downtownithaca.com
SUMMARY:"Mindful By Nature" Book Launch with Tim Drake and Jason Hamilton
DESCRIPTION:Join us for the official book launch of “Mindful by Nature: The Inner Work of Being Outdoors” and a conversation and book signing with authors Tim Drake and Jason Hamilton.  \nAuthor bios:  \nTim Drake has worked in environmental education for over twenty-five years\, with a focus on nature connection\, mindfulness\, and natural history. He is a cofounder of Primitive Pursuits in Ithaca\, NY. \nJason Hamilton is Professor in the Department of the Environment at Ithaca College. He is the founder and Education Director of the Ithaca College Natural Lands reserve system. \nBook description: Connection to the natural world\, to community\, and to ourselves is fundamental to our well-being. When we nurture these connections\, we thrive\, drawing strength from the web of interdependence that sustains life. In an increasingly fragmented and urbanized world\, accessing nature and knowing how to engage with it can be challenging. “Mindful by Nature” points the way\, bridging nature connection and mindfulness practices.
URL:https://www.downtownithaca.com/event/mindful-by-nature-book-launch-with-tim-drake-and-jason-hamilton/
LOCATION:Buffalo Street Books\, 215 N. Cayuga St.\, Ithaca
CATEGORIES:Featured
ATTACH;FMTTYPE=image/png:https://www.downtownithaca.com/wp-content/uploads/Tim-Drake-and-Jason-Hamilton-Mindful-By-Nature-The-Inner-Work-of-Being-Outdoors.png
ORGANIZER;CN="Buffalo Street Books":MAILTO:lisa@buffalostreetbooks.com
END:VEVENT
BEGIN:VEVENT
DTSTART;TZID=America/New_York:20251115T140000
DTEND;TZID=America/New_York:20251115T200000
DTSTAMP:20260425T174215
CREATED:20251110T144912Z
LAST-MODIFIED:20251110T144912Z
UID:10005310-1763215200-1763236800@www.downtownithaca.com
SUMMARY:Sip & Sparkle Holiday Jewelry Party at Fall Creek Atelier
DESCRIPTION:✨ Sip\, Shop & Sparkle — Holiday Grand Opening at Fall Creek Atelier \nEnjoy complimentary champagne\, artisan chocolates\, and self-care samples as we celebrate the season at Fall Creek Atelier’s Holiday Grand Opening & Sample Party\, happening Saturday\, November 15th from 2–8 PM at Press Bay Alley in Ithaca\, NY. \nDiscover our newest collection of handmade gemstone jewelry\, thoughtfully designed and crafted from sustainable\, hypoallergenic materials including brass\, stainless steel\, gold filled\, and sterling silver. Each piece is inspired by nature’s beauty and made to last — waterproof\, timeless\, and one of a kind. \nGuests will receive exclusive event-only discounts and free samples from our vegan\, cruelty-free bath and body line\, made with all-natural ingredients and eco-friendly packaging. \nSip\, savor\, and sparkle under the lights of Press Bay Alley — a festive evening of gemstones\, treats\, and community connection to welcome the holidays. \n✨ Visit our website to RSVP today & reserve your complimentary gifts and event entry!
URL:https://www.downtownithaca.com/event/sip-sparkle-holiday-jewelry-party-at-fall-creek-atelier/
LOCATION:Press Bay Alley\, 118 West Green Street\, Ithaca\, NY\, United States
CATEGORIES:Featured
ATTACH;FMTTYPE=image/png:https://www.downtownithaca.com/wp-content/uploads/FLYERS-FOR-SIP-AND-SPARKLE.png
ORGANIZER;CN="Fall Creek Atelier":MAILTO:Fallcreekatelier@gmail.com
END:VEVENT
END:VCALENDAR