BEGIN:VCALENDAR
VERSION:2.0
PRODID:-//Downtown Ithaca - ECPv6.15.20//NONSGML v1.0//EN
CALSCALE:GREGORIAN
METHOD:PUBLISH
X-WR-CALNAME:Downtown Ithaca
X-ORIGINAL-URL:https://www.downtownithaca.com
X-WR-CALDESC:Events for Downtown Ithaca
REFRESH-INTERVAL;VALUE=DURATION:PT1H
X-Robots-Tag:noindex
X-PUBLISHED-TTL:PT1H
BEGIN:VTIMEZONE
TZID:America/New_York
BEGIN:DAYLIGHT
TZOFFSETFROM:-0500
TZOFFSETTO:-0400
TZNAME:EDT
DTSTART:20240310T070000
END:DAYLIGHT
BEGIN:STANDARD
TZOFFSETFROM:-0400
TZOFFSETTO:-0500
TZNAME:EST
DTSTART:20241103T060000
END:STANDARD
BEGIN:DAYLIGHT
TZOFFSETFROM:-0500
TZOFFSETTO:-0400
TZNAME:EDT
DTSTART:20250309T070000
END:DAYLIGHT
BEGIN:STANDARD
TZOFFSETFROM:-0400
TZOFFSETTO:-0500
TZNAME:EST
DTSTART:20251102T060000
END:STANDARD
BEGIN:DAYLIGHT
TZOFFSETFROM:-0500
TZOFFSETTO:-0400
TZNAME:EDT
DTSTART:20260308T070000
END:DAYLIGHT
BEGIN:STANDARD
TZOFFSETFROM:-0400
TZOFFSETTO:-0500
TZNAME:EST
DTSTART:20261101T060000
END:STANDARD
BEGIN:DAYLIGHT
TZOFFSETFROM:-0500
TZOFFSETTO:-0400
TZNAME:EDT
DTSTART:20270314T070000
END:DAYLIGHT
BEGIN:STANDARD
TZOFFSETFROM:-0400
TZOFFSETTO:-0500
TZNAME:EST
DTSTART:20271107T060000
END:STANDARD
END:VTIMEZONE
BEGIN:VEVENT
DTSTART;TZID=America/New_York:20251113T110000
DTEND;TZID=America/New_York:20251228T180000
DTSTAMP:20260425T091843
CREATED:20251114T163826Z
LAST-MODIFIED:20251114T163826Z
UID:10005315-1763031600-1766944800@www.downtownithaca.com
SUMMARY:Local Fiber 2025 Holiday Pop-Up Store
DESCRIPTION:Once again\, Local Fiber members are working together to host a holiday pop-up store in downtown Ithaca featuring items made with local wool\, alpaca\, angora fiber. The 2025 Local Fiber Holiday Popup store will be open November 1st to December 28th at 115 South Cayuga Street in Ithaca\, NY\, right off of the Commons.  The store is staffed by Local Fiber members\, most of whom raise fiber animals on farms in the area and will happily chat with you about their animals and products. There is so much to choose from:  millspun and handspun yarn\, warm mittens\, hats\, and gloves\, spinning fleece\, wool craft kits\, gifts for the holidays\, fiber art and so much more!  We will also have weekly workshops and demonstrations\, as well as knitting and spinning circles.  Stop in the store or check our FaceBook page (facebook.com/localfiber.ny) for details about the workshops and other events. \nLocal Fiber Popup Shop Hours:\nWednesday 11 – 6\nThursdays 11 – 8\nFridays 11 – 6  *First Friday 11/7  11 – 8\nSaturdays 11 – 6\nSundays 11 – 6 \n115 South Cayuga Street\nNovember 1 – December 28\, 2025
URL:https://www.downtownithaca.com/event/local-fiber-2025-holiday-pop-up-store/
LOCATION:115 S Cayuga St\, 115 S Cayuga St\, Ithaca\, 14850
CATEGORIES:Featured
ATTACH;FMTTYPE=image/jpeg:https://www.downtownithaca.com/wp-content/uploads/LocalFiber-Popup.postcard.2025.jpg
ORGANIZER;CN="LocalFiber":MAILTO:president@localfiber.org
END:VEVENT
BEGIN:VEVENT
DTSTART;VALUE=DATE:20251128
DTEND;VALUE=DATE:20251215
DTSTAMP:20260425T091843
CREATED:20251119T211354Z
LAST-MODIFIED:20251119T211427Z
UID:10005633-1764288000-1765756799@www.downtownithaca.com
SUMMARY:Downtown Ithaca Holiday Window Display Competition
DESCRIPTION:This festive Downtown Ithaca tradition brings together dozens of beautifully decorated holiday window displays. Stroll the Commons and surrounding streets\, discover your favorite designs\, and help us crown this year’s winners. \nPublic voting runs from November 28 through December 14\, with winners announced on December 17. \nTo check out the map and learn more – Click Here
URL:https://www.downtownithaca.com/event/downtown-ithaca-holiday-window-display-competition/
LOCATION:Downtown Ithaca\, United States
CATEGORIES:Featured
ATTACH;FMTTYPE=image/png:https://www.downtownithaca.com/wp-content/uploads/Window-Display-Competition-Posts.png
ORGANIZER;CN="Downtown Ithaca":MAILTO:Adam@downtownithaca.com
GEO:42.4394279;-76.4969274
END:VEVENT
BEGIN:VEVENT
DTSTART;TZID=America/New_York:20251206T120000
DTEND;TZID=America/New_York:20260105T130000
DTSTAMP:20260425T091843
CREATED:20251117T150628Z
LAST-MODIFIED:20251117T150628Z
UID:10005630-1765022400-1767618000@www.downtownithaca.com
SUMMARY:Theater Skills Lab at The Argos Warehouse
DESCRIPTION:Theater Workshops for anyone who wants to explore the art of theater making! Skills lab is an hour-long workshop on Saturdays and Sundays in the month of December at The Argos Warehouse.  Students can drop in for $20 a class\, Pay what you can\, or register for all six classes.  Weekend One Dec. 6 & 7: Devised and Physical Theater Workshop\, Weekend Two Dec. 13 & 14: Playwright’s Workshop\, Weekend Three Dec. 20 and 21st: Performance Workshop.  Whether you are a trained theater artist or new to the artform this workshop is for everyone.  It is not about experience level\, it is about creative engagement and collaboration.  Have fun and create your own work in community! To register visit Pandoluci.com
URL:https://www.downtownithaca.com/event/theater-skills-lab-at-the-argos-warehouse/2025-12-06/2/
LOCATION:Argos Warehouse\, 416 E State St\, Ithaca\, 14850
CATEGORIES:Featured
ATTACH;FMTTYPE=image/jpeg:https://www.downtownithaca.com/wp-content/uploads/Final-Flyer-Theater-Skills-Lab.jpg
ORGANIZER;CN="Pandoluci Studios":MAILTO:Elizabeth@pandoluci.com
END:VEVENT
BEGIN:VEVENT
DTSTART;TZID=America/New_York:20251211T110000
DTEND;TZID=America/New_York:20251220T170000
DTSTAMP:20260425T091843
CREATED:20251211T194733Z
LAST-MODIFIED:20251211T194733Z
UID:10006643-1765450800-1766250000@www.downtownithaca.com
SUMMARY:Solstice Craft Market
DESCRIPTION:Swing by BSB on Saturday December 20th for wares from your favorite local artisans. We’ll have over 20 vendors for you to find something for everyone on your list! \nPlus… free Oracle Chocolates hot cocoa for members.⋆⁺₊⋆ ☾⋆⁺₊⋆ \nArt of Yen Ospina\nJulian Plum Design\nGuppy Moss\nKBerg Ceramics\nKnafeh Bar\nJohn Vorstadt Studios\nSaint Canine Craft Goods\nSeed Bomb\nPriscilla Dahl Pottery\nWeave Wild Studios\nTwin Cat\nThe Grey Moon Homestead\nTatum’s Treasures\nCreekwash Designs\nThe House of Heart\nOn the Wooded Path\nSheepy Hollow
URL:https://www.downtownithaca.com/event/solstice-craft-market/
LOCATION:Buffalo Street Books\, 215 N. Cayuga St.\, Ithaca
CATEGORIES:Featured
ATTACH;FMTTYPE=image/png:https://www.downtownithaca.com/wp-content/uploads/Solstice-Craft-Market-2025-1.png
ORGANIZER;CN="Buffalo Street Books":MAILTO:lisa@buffalostreetbooks.com
END:VEVENT
BEGIN:VEVENT
DTSTART;TZID=America/New_York:20251211T190000
DTEND;TZID=America/New_York:20251220T210000
DTSTAMP:20260425T091843
CREATED:20251211T200543Z
LAST-MODIFIED:20251211T211020Z
UID:10006644-1765479600-1766264400@www.downtownithaca.com
SUMMARY:'A Christmas Carol' Staged Reading
DESCRIPTION:Get into the holiday spirit and join us for a staged reading of Charles Dickens’ “A Christmas Carol.” \nGet into the holiday spirit and join us for a staged reading of Charles Dickens A Christmas Carol. Ticket proceeds will help Buffalo Street Books reach their fundraising goal! \nSpecial guest: hot chocolate from Oracle Chocolates* \n*Complimentary for members \nTickets are priced at $10 for individuals and $25 for groups of 3 or more.
URL:https://www.downtownithaca.com/event/a-christmas-carol-staged-reading/
LOCATION:Buffalo Street Books\, 215 N. Cayuga St.\, Ithaca
CATEGORIES:Featured
ATTACH;FMTTYPE=image/png:https://www.downtownithaca.com/wp-content/uploads/christmas-carol-2025.png
ORGANIZER;CN="Buffalo Street Books":MAILTO:lisa@buffalostreetbooks.com
END:VEVENT
BEGIN:VEVENT
DTSTART;TZID=America/New_York:20251214T100000
DTEND;TZID=America/New_York:20251214T110000
DTSTAMP:20260425T091843
CREATED:20251117T150628Z
LAST-MODIFIED:20251117T150628Z
UID:10005366-1765706400-1765710000@www.downtownithaca.com
SUMMARY:Theater Skills Lab at The Argos Warehouse
DESCRIPTION:Theater Workshops for anyone who wants to explore the art of theater making! Skills lab is an hour-long workshop on Saturdays and Sundays in the month of December at The Argos Warehouse.  Students can drop in for $20 a class\, Pay what you can\, or register for all six classes.  Weekend One Dec. 6 & 7: Devised and Physical Theater Workshop\, Weekend Two Dec. 13 & 14: Playwright’s Workshop\, Weekend Three Dec. 20 and 21st: Performance Workshop.  Whether you are a trained theater artist or new to the artform this workshop is for everyone.  It is not about experience level\, it is about creative engagement and collaboration.  Have fun and create your own work in community! To register visit Pandoluci.com
URL:https://www.downtownithaca.com/event/theater-skills-lab-at-the-argos-warehouse/2025-12-14/
LOCATION:Argos Warehouse\, 416 E State St\, Ithaca\, 14850
CATEGORIES:Featured
ATTACH;FMTTYPE=image/jpeg:https://www.downtownithaca.com/wp-content/uploads/Final-Flyer-Theater-Skills-Lab.jpg
ORGANIZER;CN="Pandoluci Studios":MAILTO:Elizabeth@pandoluci.com
END:VEVENT
BEGIN:VEVENT
DTSTART;TZID=America/New_York:20251214T150000
DTEND;TZID=America/New_York:20251214T183000
DTSTAMP:20260425T091843
CREATED:20251208T172615Z
LAST-MODIFIED:20251208T172615Z
UID:10006641-1765724400-1765737000@www.downtownithaca.com
SUMMARY:"His Majesty the Worm" TTRPG Session
DESCRIPTION:Play in a classic dungeon crawler experience using the “His Majesty the Worm” system run by GM Korrie!\nFood provided by Sushi Osaka!
URL:https://www.downtownithaca.com/event/his-majesty-the-worm-ttrpg-session/
LOCATION:Riverwood\, 116 E State St\, ITHACA\, N\, 14850\, United States
CATEGORIES:Featured
ATTACH;FMTTYPE=image/png:https://www.downtownithaca.com/wp-content/uploads/Untitled-5.png
ORGANIZER;CN="Riverwood":MAILTO:marking@theriverwoodotter.com
END:VEVENT
BEGIN:VEVENT
DTSTART;TZID=America/New_York:20251217T163000
DTEND;TZID=America/New_York:20251217T183000
DTSTAMP:20260425T091843
CREATED:20251107T212144Z
LAST-MODIFIED:20251107T212144Z
UID:10005307-1765989000-1765996200@www.downtownithaca.com
SUMMARY:LET’S READ + TALK ABOUT CLIMATE - CLIMATE LIT. DISCUSSION
DESCRIPTION:Join us at Buffalo Street Books for community-led conversations about climate change\, as we discuss The Light Pirate and Flotsametrics and the Floating World  \nThe Climate Literature Book Club meets every third Wednesday of the month\, shop with us for 10% off these titles!
URL:https://www.downtownithaca.com/event/lets-read-talk-about-climate-climate-lit-discussion-2/
LOCATION:Buffalo Street Books\, 215 N. Cayuga St.\, Ithaca
CATEGORIES:Featured
ATTACH;FMTTYPE=image/png:https://www.downtownithaca.com/wp-content/uploads/Climate-Lit-Discussions-5-1.png
ORGANIZER;CN="Buffalo Street Books":MAILTO:lisa@buffalostreetbooks.com
END:VEVENT
BEGIN:VEVENT
DTSTART;TZID=America/New_York:20251217T163000
DTEND;TZID=America/New_York:20251217T203000
DTSTAMP:20260425T091843
CREATED:20251216T044359Z
LAST-MODIFIED:20251216T044359Z
UID:10006648-1765989000-1766003400@www.downtownithaca.com
SUMMARY:Teach and Play at Riverwood
DESCRIPTION:Enjoy your evening learning how to play fun and challenging board games at Riverwood. this week is Finspan and Wyrmspan!
URL:https://www.downtownithaca.com/event/teach-and-play-at-riverwood/
LOCATION:Riverwood\, 116 E State St\, ITHACA\, N\, 14850\, United States
CATEGORIES:Featured
ATTACH;FMTTYPE=image/png:https://www.downtownithaca.com/wp-content/uploads/Teach-and-play-2.png
ORGANIZER;CN="Riverwood":MAILTO:marking@theriverwoodotter.com
END:VEVENT
BEGIN:VEVENT
DTSTART;TZID=America/New_York:20251217T190000
DTEND;TZID=America/New_York:20251217T220000
DTSTAMP:20260425T091843
CREATED:20250409T193606Z
LAST-MODIFIED:20250409T193606Z
UID:10004555-1765998000-1766008800@www.downtownithaca.com
SUMMARY:Wednesday Open Mic Night at The Nocturnal Café
DESCRIPTION:The Nocturnal Café (formerly Sacred Root Kava Lounge & Tea Bar) welcomes you to experience our weekly Open Mic Night hosted by a rotating cast of talented local artists. Come on down to share your song or story! Let’s cultivate shared creativity! Showcase your talents and enjoy the experience of creative connection with a welcoming and supportive audience at Ithaca’s only alcohol-free nightlife destination.
URL:https://www.downtownithaca.com/event/wednesday-open-mic-night-at-the-nocturnal-cafe/2025-12-17/
LOCATION:The Nocturnal Café\, 103 S. Geneva St.\, Ithaca\, 14850
CATEGORIES:Featured
ATTACH;FMTTYPE=image/jpeg:https://www.downtownithaca.com/wp-content/uploads/open-mic-SR.jpg
ORGANIZER;CN="The Nocturnal Caf%C3%A9":MAILTO:nocturnalcafeny@gmail.com
END:VEVENT
BEGIN:VEVENT
DTSTART;TZID=America/New_York:20251220T100000
DTEND;TZID=America/New_York:20251220T110000
DTSTAMP:20260425T091843
CREATED:20251117T150628Z
LAST-MODIFIED:20251117T150628Z
UID:10005367-1766224800-1766228400@www.downtownithaca.com
SUMMARY:Theater Skills Lab at The Argos Warehouse
DESCRIPTION:Theater Workshops for anyone who wants to explore the art of theater making! Skills lab is an hour-long workshop on Saturdays and Sundays in the month of December at The Argos Warehouse.  Students can drop in for $20 a class\, Pay what you can\, or register for all six classes.  Weekend One Dec. 6 & 7: Devised and Physical Theater Workshop\, Weekend Two Dec. 13 & 14: Playwright’s Workshop\, Weekend Three Dec. 20 and 21st: Performance Workshop.  Whether you are a trained theater artist or new to the artform this workshop is for everyone.  It is not about experience level\, it is about creative engagement and collaboration.  Have fun and create your own work in community! To register visit Pandoluci.com
URL:https://www.downtownithaca.com/event/theater-skills-lab-at-the-argos-warehouse/2025-12-20/
LOCATION:Argos Warehouse\, 416 E State St\, Ithaca\, 14850
CATEGORIES:Featured
ATTACH;FMTTYPE=image/jpeg:https://www.downtownithaca.com/wp-content/uploads/Final-Flyer-Theater-Skills-Lab.jpg
ORGANIZER;CN="Pandoluci Studios":MAILTO:Elizabeth@pandoluci.com
END:VEVENT
BEGIN:VEVENT
DTSTART;TZID=America/New_York:20251220T110000
DTEND;TZID=America/New_York:20251220T170000
DTSTAMP:20260425T091843
CREATED:20251117T150515Z
LAST-MODIFIED:20251117T150515Z
UID:10005629-1766228400-1766250000@www.downtownithaca.com
SUMMARY:Solstice Craft Market at Buffalo Street Books
DESCRIPTION:Come to your favorite Ithaca non-profit bookstore to celebrate local crafters on the Solstice! There will be a curated collection of artisans exhibiting ceramics\, jewelry\, confections (Oracle Hot Chocolate anyone?)\, prints\, stationary\, and more gathered in the Reading Room and DeWitt Mall.
URL:https://www.downtownithaca.com/event/solstice-craft-market-at-buffalo-street-books/
LOCATION:Buffalo Street Books\, 215 N. Cayuga St.\, Ithaca
CATEGORIES:Featured
ATTACH;FMTTYPE=image/png:https://www.downtownithaca.com/wp-content/uploads/1-5.png
ORGANIZER;CN="Buffalo Street Books":MAILTO:lisa@buffalostreetbooks.com
END:VEVENT
END:VCALENDAR