BEGIN:VCALENDAR
VERSION:2.0
PRODID:-//Downtown Ithaca - ECPv6.15.20//NONSGML v1.0//EN
CALSCALE:GREGORIAN
METHOD:PUBLISH
X-ORIGINAL-URL:https://www.downtownithaca.com
X-WR-CALDESC:Events for Downtown Ithaca
REFRESH-INTERVAL;VALUE=DURATION:PT1H
X-Robots-Tag:noindex
X-PUBLISHED-TTL:PT1H
BEGIN:VTIMEZONE
TZID:America/New_York
BEGIN:DAYLIGHT
TZOFFSETFROM:-0500
TZOFFSETTO:-0400
TZNAME:EDT
DTSTART:20240310T070000
END:DAYLIGHT
BEGIN:STANDARD
TZOFFSETFROM:-0400
TZOFFSETTO:-0500
TZNAME:EST
DTSTART:20241103T060000
END:STANDARD
BEGIN:DAYLIGHT
TZOFFSETFROM:-0500
TZOFFSETTO:-0400
TZNAME:EDT
DTSTART:20250309T070000
END:DAYLIGHT
BEGIN:STANDARD
TZOFFSETFROM:-0400
TZOFFSETTO:-0500
TZNAME:EST
DTSTART:20251102T060000
END:STANDARD
BEGIN:DAYLIGHT
TZOFFSETFROM:-0500
TZOFFSETTO:-0400
TZNAME:EDT
DTSTART:20260308T070000
END:DAYLIGHT
BEGIN:STANDARD
TZOFFSETFROM:-0400
TZOFFSETTO:-0500
TZNAME:EST
DTSTART:20261101T060000
END:STANDARD
BEGIN:DAYLIGHT
TZOFFSETFROM:-0500
TZOFFSETTO:-0400
TZNAME:EDT
DTSTART:20270314T070000
END:DAYLIGHT
BEGIN:STANDARD
TZOFFSETFROM:-0400
TZOFFSETTO:-0500
TZNAME:EST
DTSTART:20271107T060000
END:STANDARD
END:VTIMEZONE
BEGIN:VEVENT
DTSTART;TZID=America/New_York:20251206T120000
DTEND;TZID=America/New_York:20260105T130000
DTSTAMP:20260424T115815
CREATED:20251117T150628Z
LAST-MODIFIED:20251117T150628Z
UID:10005630-1765022400-1767618000@www.downtownithaca.com
SUMMARY:Theater Skills Lab at The Argos Warehouse
DESCRIPTION:Theater Workshops for anyone who wants to explore the art of theater making! Skills lab is an hour-long workshop on Saturdays and Sundays in the month of December at The Argos Warehouse.  Students can drop in for $20 a class\, Pay what you can\, or register for all six classes.  Weekend One Dec. 6 & 7: Devised and Physical Theater Workshop\, Weekend Two Dec. 13 & 14: Playwright’s Workshop\, Weekend Three Dec. 20 and 21st: Performance Workshop.  Whether you are a trained theater artist or new to the artform this workshop is for everyone.  It is not about experience level\, it is about creative engagement and collaboration.  Have fun and create your own work in community! To register visit Pandoluci.com
URL:https://www.downtownithaca.com/event/theater-skills-lab-at-the-argos-warehouse/2025-12-06/2/
LOCATION:Argos Warehouse\, 416 E State St\, Ithaca\, 14850
CATEGORIES:Featured
ATTACH;FMTTYPE=image/jpeg:https://www.downtownithaca.com/wp-content/uploads/Final-Flyer-Theater-Skills-Lab.jpg
ORGANIZER;CN="Pandoluci Studios":MAILTO:Elizabeth@pandoluci.com
END:VEVENT
BEGIN:VEVENT
DTSTART;TZID=America/New_York:20260107T170000
DTEND;TZID=America/New_York:20260107T210000
DTSTAMP:20260424T115815
CREATED:20251208T172404Z
LAST-MODIFIED:20251208T172404Z
UID:10006512-1767805200-1767819600@www.downtownithaca.com
SUMMARY:Rolling With Pride: LGBTQ game night at Riverwood Gifts
DESCRIPTION:join us at Riverwood gifts for a night of fun and board games! Celebrating our LGBTQ community Riverwood is a safe and inclusive place to come hang out and play! Pizza provided by SAL’s pizzeria
URL:https://www.downtownithaca.com/event/rolling-with-pride-lgbtq-game-night-at-riverwood-gifts-2/2026-01-07/
LOCATION:Riverwood\, 116 E State St\, ITHACA\, N\, 14850\, United States
CATEGORIES:Featured
ATTACH;FMTTYPE=image/jpeg:https://www.downtownithaca.com/wp-content/uploads/Rolling-with-Pride-final.jpeg
ORGANIZER;CN="Riverwood":MAILTO:marking@theriverwoodotter.com
END:VEVENT
BEGIN:VEVENT
DTSTART;TZID=America/New_York:20260107T190000
DTEND;TZID=America/New_York:20260107T220000
DTSTAMP:20260424T115815
CREATED:20250409T193606Z
LAST-MODIFIED:20250409T193606Z
UID:10004558-1767812400-1767823200@www.downtownithaca.com
SUMMARY:Wednesday Open Mic Night at The Nocturnal Café
DESCRIPTION:The Nocturnal Café (formerly Sacred Root Kava Lounge & Tea Bar) welcomes you to experience our weekly Open Mic Night hosted by a rotating cast of talented local artists. Come on down to share your song or story! Let’s cultivate shared creativity! Showcase your talents and enjoy the experience of creative connection with a welcoming and supportive audience at Ithaca’s only alcohol-free nightlife destination.
URL:https://www.downtownithaca.com/event/wednesday-open-mic-night-at-the-nocturnal-cafe/2026-01-07/
LOCATION:The Nocturnal Café\, 103 S. Geneva St.\, Ithaca\, 14850
CATEGORIES:Featured
ATTACH;FMTTYPE=image/jpeg:https://www.downtownithaca.com/wp-content/uploads/open-mic-SR.jpg
ORGANIZER;CN="The Nocturnal Caf%C3%A9":MAILTO:nocturnalcafeny@gmail.com
END:VEVENT
BEGIN:VEVENT
DTSTART;TZID=America/New_York:20260108T170000
DTEND;TZID=America/New_York:20260108T183000
DTSTAMP:20260424T115815
CREATED:20251211T210838Z
LAST-MODIFIED:20251211T210838Z
UID:10006645-1767891600-1767897000@www.downtownithaca.com
SUMMARY:Human Trafficking Awareness Month Resource Fair
DESCRIPTION:Join the Advocacy Center of Tompkins County to get educated on the state of local sex trafficking and connect with community resources. During the evening portion on January 8th\, there will be an opportunity to hear updates from Kate Booth\, the Director of Tompkins County Youth Services\, at 5:30pm on risks\, data\, and services. Also the evening of the 8th\, community organizations will be tabling\, a display from The Clothesline Project will be up\, and we will serve light refreshments. On the 9th\, The Clothesline Project Display will continue and individuals are welcome to come and contribute their own shirts to the collection. Access to resources and education will be available as well. \nWhere: The Tompkins County Public Library\, Borg Warner Room \nJanuary 8th\, 5-6:30pm\nJanuary 9th\, 11am-1pm
URL:https://www.downtownithaca.com/event/human-trafficking-awareness-month-resource-fair/2026-01-08/
LOCATION:Tompkins County Public Library\, 101 E. Green Street\, Ithaca\, NY\, 14850
CATEGORIES:Featured
ATTACH;FMTTYPE=image/png:https://www.downtownithaca.com/wp-content/uploads/Trafficking-Awareness.png
ORGANIZER;CN="Advocacy Center of Tompkins County":MAILTO:akabat@actompkins.org
END:VEVENT
BEGIN:VEVENT
DTSTART;TZID=America/New_York:20260109T110000
DTEND;TZID=America/New_York:20260109T130000
DTSTAMP:20260424T115815
CREATED:20251211T210838Z
LAST-MODIFIED:20251211T210838Z
UID:10006646-1767956400-1767963600@www.downtownithaca.com
SUMMARY:Human Trafficking Awareness Month Resource Fair
DESCRIPTION:Join the Advocacy Center of Tompkins County to get educated on the state of local sex trafficking and connect with community resources. During the evening portion on January 8th\, there will be an opportunity to hear updates from Kate Booth\, the Director of Tompkins County Youth Services\, at 5:30pm on risks\, data\, and services. Also the evening of the 8th\, community organizations will be tabling\, a display from The Clothesline Project will be up\, and we will serve light refreshments. On the 9th\, The Clothesline Project Display will continue and individuals are welcome to come and contribute their own shirts to the collection. Access to resources and education will be available as well. \nWhere: The Tompkins County Public Library\, Borg Warner Room \nJanuary 8th\, 5-6:30pm\nJanuary 9th\, 11am-1pm
URL:https://www.downtownithaca.com/event/human-trafficking-awareness-month-resource-fair/2026-01-09/
LOCATION:Tompkins County Public Library\, 101 E. Green Street\, Ithaca\, NY\, 14850
CATEGORIES:Featured
ATTACH;FMTTYPE=image/png:https://www.downtownithaca.com/wp-content/uploads/Trafficking-Awareness.png
ORGANIZER;CN="Advocacy Center of Tompkins County":MAILTO:akabat@actompkins.org
END:VEVENT
BEGIN:VEVENT
DTSTART;TZID=America/New_York:20260110T160000
DTEND;TZID=America/New_York:20260110T180000
DTSTAMP:20260424T115815
CREATED:20260103T065020Z
LAST-MODIFIED:20260103T065020Z
UID:10006670-1768060800-1768068000@www.downtownithaca.com
SUMMARY:Author Reading with Elizabeth Hoover
DESCRIPTION:Join poet\, essayist and critic Elizabeth Hoover as she shares an excerpt of her first poetry collection ‘the archive is all in present tense’ @ Buffalo Street Books!
URL:https://www.downtownithaca.com/event/author-reading-with-elizabeth-hoover/
LOCATION:Buffalo Street Books\, 215 N. Cayuga St.\, Ithaca
CATEGORIES:Featured
ATTACH;FMTTYPE=image/png:https://www.downtownithaca.com/wp-content/uploads/Elizabeth-Hoover-1.png
ORGANIZER;CN="Buffalo Street Books":MAILTO:lisa@buffalostreetbooks.com
END:VEVENT
END:VCALENDAR