BEGIN:VCALENDAR
VERSION:2.0
PRODID:-//Downtown Ithaca - ECPv6.15.20//NONSGML v1.0//EN
CALSCALE:GREGORIAN
METHOD:PUBLISH
X-ORIGINAL-URL:https://www.downtownithaca.com
X-WR-CALDESC:Events for Downtown Ithaca
REFRESH-INTERVAL;VALUE=DURATION:PT1H
X-Robots-Tag:noindex
X-PUBLISHED-TTL:PT1H
BEGIN:VTIMEZONE
TZID:America/New_York
BEGIN:DAYLIGHT
TZOFFSETFROM:-0500
TZOFFSETTO:-0400
TZNAME:EDT
DTSTART:20250309T070000
END:DAYLIGHT
BEGIN:STANDARD
TZOFFSETFROM:-0400
TZOFFSETTO:-0500
TZNAME:EST
DTSTART:20251102T060000
END:STANDARD
BEGIN:DAYLIGHT
TZOFFSETFROM:-0500
TZOFFSETTO:-0400
TZNAME:EDT
DTSTART:20260308T070000
END:DAYLIGHT
BEGIN:STANDARD
TZOFFSETFROM:-0400
TZOFFSETTO:-0500
TZNAME:EST
DTSTART:20261101T060000
END:STANDARD
BEGIN:DAYLIGHT
TZOFFSETFROM:-0500
TZOFFSETTO:-0400
TZNAME:EDT
DTSTART:20270314T070000
END:DAYLIGHT
BEGIN:STANDARD
TZOFFSETFROM:-0400
TZOFFSETTO:-0500
TZNAME:EST
DTSTART:20271107T060000
END:STANDARD
END:VTIMEZONE
BEGIN:VEVENT
DTSTART;TZID=America/New_York:20260220T100000
DTEND;TZID=America/New_York:20260312T170000
DTSTAMP:20260421T193108
CREATED:20260219T183448Z
LAST-MODIFIED:20260219T183448Z
UID:10006791-1771581600-1773334800@www.downtownithaca.com
SUMMARY:Handwork Co-op's Winter Seconds Sale
DESCRIPTION:“You don’t want to miss out on Handwork Co-op’s highly anticipated Winter Seconds Sale! Running from February 20th – March 12\nEnjoy a wide range of discounts on artists’ seconds\, slightly imperfect and overstock wares. We get fresh seconds from our artists’ every year. Discounts range from 10% to 75% off. This includes candles\, pottery\, fiber arts\, woodcraft\, jewelry\, glass\, wall art\, and so much more.\nWhat’s on Sale:\nArtist’s Seconds that are slightly imperfect or overstock from the previous year – still full of charm\, totally unique and beautiful.\nThese items are priced to sell – out with the old and in with the new! Sale includes work from our local artists\, New York State artists\, and beyond.\nHow to Shop:\nOur seconds sale is in-store only but we offer more than one way to shop: E-mail our staff at HandworkOnlineShop@gmail.com to request photos of our shelves and shop the sale from afar. Be sure to follow us on Instagram to see what we’re posting there from the sale.\nWinter Store Hours:\nMon-Sat: 10-5\nSunday: 11-5
URL:https://www.downtownithaca.com/event/handwork-co-ops-winter-seconds-sale/
LOCATION:Handwork\, 102 West State Street\, Ithaca\, N\, 14850\, United States
CATEGORIES:Featured
ATTACH;FMTTYPE=image/png:https://www.downtownithaca.com/wp-content/uploads/WINTER-2NDS-SALE-1-3-1.png
ORGANIZER;CN="Handwork":MAILTO:HandworkMPC@gmail.com
END:VEVENT
BEGIN:VEVENT
DTSTART;TZID=America/New_York:20260305T120000
DTEND;TZID=America/New_York:20260329T170000
DTSTAMP:20260421T193108
CREATED:20260217T154545Z
LAST-MODIFIED:20260217T154545Z
UID:10006731-1772712000-1774803600@www.downtownithaca.com
SUMMARY:Gratitude in Detail: Paintings Inspired by Nature. Darcy Binns and Cindy Kaufman
DESCRIPTION:Inspired by her daily walks\, Darcy Binns’s paintings on up-cycled cardboard strive to find a balance between abstraction and realism. \nPainting in an abstract\, illustrative style\, Cindy Kaufman’s paintings capture the colors\, light\, and movement seen in nature.\n The show will run from March 5th through March 29th\, 2026. Opening reception Friday\, March 6th\, 5–8pm.
URL:https://www.downtownithaca.com/event/gratitude-in-detail-paintings-inspired-by-nature-darcy-binns-and-cindy-kaufman/
LOCATION:State of the Art Gallery\, 120 W State St #2\, Ithaca\, 14850\, United Kingdom
CATEGORIES:Featured
ATTACH;FMTTYPE=image/jpeg:https://www.downtownithaca.com/wp-content/uploads/cindy-kaufman-and-darcy-binns-paintings.jpg
ORGANIZER;CN="State of the Art Gallery":MAILTO:gallery@soag.org
END:VEVENT
BEGIN:VEVENT
DTSTART;TZID=America/New_York:20260308T140000
DTEND;TZID=America/New_York:20260308T150000
DTSTAMP:20260421T193108
CREATED:20260223T041525Z
LAST-MODIFIED:20260223T041525Z
UID:10006795-1772978400-1772982000@www.downtownithaca.com
SUMMARY:Ithaca Trans Center Book Club
DESCRIPTION:Join us to discuss ‘So Many Stars’ by Caro De Robertis! \nA book club hosted by the Ithaca Trans Center  \nall book club books have a 10% discount
URL:https://www.downtownithaca.com/event/ithaca-trans-center-book-club-2/
LOCATION:Buffalo Street Books\, 215 N. Cayuga St.\, Ithaca
CATEGORIES:Featured
ATTACH;FMTTYPE=image/png:https://www.downtownithaca.com/wp-content/uploads/MARCH-Ithaca-Trans-Center-Book-Club-1-1.png
ORGANIZER;CN="Buffalo Street Books":MAILTO:lisa@buffalostreetbooks.com
END:VEVENT
BEGIN:VEVENT
DTSTART;TZID=America/New_York:20260309T190000
DTEND;TZID=America/New_York:20260309T210000
DTSTAMP:20260421T193108
CREATED:20260309T142404Z
LAST-MODIFIED:20260309T142404Z
UID:10006830-1773082800-1773090000@www.downtownithaca.com
SUMMARY:Abolition of White Democracy Reading Group
DESCRIPTION:Description written by host\, Ashley Cake:  I’ve been threatening to do a community read of Abolition of White Democracy for some years now\, and the time is finally nigh. Georgia at Ithaca Writing Studio is gonna host\, and I’m asking $30 for six meetups\, $20 for the Writing Studio and $10 for me. I’m capping it at 10 participants for space and “let’s take it easy” reasons and I’m asking for folks who are local\, can commit to reading the book and coming to all 6 Monday evening meetings\, and ideally are living that white democracy life. What do i mean? You check a majority of these boxes: \n– you are a person of pallor (and not defensive or penitential about it) \n– You have a liberal arts education with at least a BA \n– You have a vehicle (maybe two\, lease ok) \n– You own your home (maybe two\, with mortgage ok) \n– you have investment accounts (IRA\, 401k\, mutual funds\, CDs\, etc) \n– you have life insurance  \n– you are registered to vote as either a Democrat or a Republican \n– You serve(d) on boards and/or commissions (foundations\, PTAs\, not for profits\, city/county/state appointments\, etc. mutual aid doesn’t count) \n– Relatively high earning (80k – 200k/year) \n– Manager or C-suite for most of your career \n– Broadly familiar with North Atlantic political and social histories and thinkers of race & class (especially W.E.B. Dubois\, Karl Marx\, Michel Foucault\, James Baldwin\, Thomas Jefferson\, Alexis de Tocqueville\, Malcolm X\, et. al.) \nI won’t turn away anyone who wants to commit to the reading group (up to ten participants)\, but you will get the most out of this conversation if you’re navigating racial capitalism without too much trouble. I can make a PDF of the book available for free and everyone should read it\, and participants should be able to order copies through our independent bookstores and pay full price. \nI believe white democracy is white people’s problem because we built it with our ambitions and maintain it with our participation. I believe it’s possible for white folks to unravel these genocidal structures\, and there’s no better time than now. \nBio: Ashley Cake was born and raised in Ithaca\, NY and has been a lifelong service worker in the hospitality industry\, most recently owning and operating The Watershed & The Downstairs. She is an award-winning labor and public safety advocate\, serving on the boards of organizations from Ithaca Underground to Alternatives Federal Credit Union. In her academic career\, Ashley has written and taught extensively on Enwhitenment European philosophy — particularly Soren Kierkegaard and Lacanian psychoanalysis — as well as comparative religion — particularly American social justice and liberationist histories. Her current praxis seeks to work the critical junctures of abolition\, emergent strategies of care and transformative justice\, which is to say: Land Back & Reparations.
URL:https://www.downtownithaca.com/event/abolition-of-white-democracy-reading-group/2026-03-09/
LOCATION:ithaca writing studio\, 1729 Slaterville rd\, Ithaca\, NY\, 14850\, United States
CATEGORIES:Featured
ATTACH;FMTTYPE=image/jpeg:https://www.downtownithaca.com/wp-content/uploads/Abolition-of-White-Democracy-2.jpg
ORGANIZER;CN="Ithaca Writing Studio":MAILTO:ithacawritingstudio@gmail.com
END:VEVENT
BEGIN:VEVENT
DTSTART;TZID=America/New_York:20260310T080000
DTEND;TZID=America/New_York:20260310T170000
DTSTAMP:20260421T193108
CREATED:20260302T183253Z
LAST-MODIFIED:20260302T183253Z
UID:10006803-1773129600-1773162000@www.downtownithaca.com
SUMMARY:Women's Adventure Film Tour
DESCRIPTION:The Women’s Adventure Film Tour will present a thrilling selection of films that span extreme sports\, personal journeys\, and boundary-pushing storytelling from across the globe. This year’s program highlights the resilience and creativity of individuals navigating the challenges of both the outer world and their own inner landscapes. Each night will feature a different selection of films\, storytellers\, and/or panelists.
URL:https://www.downtownithaca.com/event/womens-adventure-film-tour/2026-03-10/1/
LOCATION:Cinemapolis\, 120 W Green St\, Ithaca\, 14850
CATEGORIES:Featured
ATTACH;FMTTYPE=image/png:https://www.downtownithaca.com/wp-content/uploads/Screenshot-2026-03-02-122309.png
ORGANIZER;CN="Cornell Outdoor Education":MAILTO:sra223@cornell.edu
END:VEVENT
BEGIN:VEVENT
DTSTART;TZID=America/New_York:20260310T180000
DTEND;TZID=America/New_York:20260310T203000
DTSTAMP:20260421T193108
CREATED:20260302T183253Z
LAST-MODIFIED:20260302T183253Z
UID:10006804-1773165600-1773174600@www.downtownithaca.com
SUMMARY:Women's Adventure Film Tour
DESCRIPTION:The Women’s Adventure Film Tour will present a thrilling selection of films that span extreme sports\, personal journeys\, and boundary-pushing storytelling from across the globe. This year’s program highlights the resilience and creativity of individuals navigating the challenges of both the outer world and their own inner landscapes. Each night will feature a different selection of films\, storytellers\, and/or panelists.
URL:https://www.downtownithaca.com/event/womens-adventure-film-tour/2026-03-10/2/
LOCATION:Cinemapolis\, 120 W Green St\, Ithaca\, 14850
CATEGORIES:Featured
ATTACH;FMTTYPE=image/png:https://www.downtownithaca.com/wp-content/uploads/Screenshot-2026-03-02-122309.png
ORGANIZER;CN="Cornell Outdoor Education":MAILTO:sra223@cornell.edu
END:VEVENT
BEGIN:VEVENT
DTSTART;TZID=America/New_York:20260311T120000
DTEND;TZID=America/New_York:20260311T133000
DTSTAMP:20260421T193108
CREATED:20260225T193109Z
LAST-MODIFIED:20260225T193109Z
UID:10006798-1773230400-1773235800@www.downtownithaca.com
SUMMARY:Protecting Local Communities from AI Data Center Impacts
DESCRIPTION:March 11\, 2026\n12:00-1:15 PM Eastern Time\nZoom (Register: bit.ly/sflxwebinar1) \nAcross the country\, local communities are organizing to protest plans for massive AI data centers in their neighborhoods that drive up electricity prices for everyone\, while threatening water supplies and disrupting lives. New York needs to get ahead of the problem by imposing a temporary moratorium on data center development while we figure out how\, and if\, their negative impacts can be eliminated. \nJoin us on March 11 to hear from Eric Weltman\, Senior Organizer for Food & Water Watch\, who helped push for a moratorium in NYS\, Assemblywoman Anna Kelles\, sponsor of the moratorium bill in the Assembly\, and Aimee Caffrey\, member of the FLX Strong citizen group protesting the creation of a 400 MW hyperscale AI data center on the shores of Cayuga Lake.
URL:https://www.downtownithaca.com/event/protecting-local-communities-from-ai-data-center-impacts/
CATEGORIES:Featured
ATTACH;FMTTYPE=image/png:https://www.downtownithaca.com/wp-content/uploads/Webinar-1-graphic.png
ORGANIZER;CN="Sustainable Finger Lakes":MAILTO:info@sustainablefingerlakes.org
END:VEVENT
BEGIN:VEVENT
DTSTART;TZID=America/New_York:20260312T180000
DTEND;TZID=America/New_York:20260312T203000
DTSTAMP:20260421T193108
CREATED:20260302T183253Z
LAST-MODIFIED:20260302T183253Z
UID:10006805-1773338400-1773347400@www.downtownithaca.com
SUMMARY:Women's Adventure Film Tour
DESCRIPTION:The Women’s Adventure Film Tour will present a thrilling selection of films that span extreme sports\, personal journeys\, and boundary-pushing storytelling from across the globe. This year’s program highlights the resilience and creativity of individuals navigating the challenges of both the outer world and their own inner landscapes. Each night will feature a different selection of films\, storytellers\, and/or panelists.
URL:https://www.downtownithaca.com/event/womens-adventure-film-tour/2026-03-12/
LOCATION:Cinemapolis\, 120 W Green St\, Ithaca\, 14850
CATEGORIES:Featured
ATTACH;FMTTYPE=image/png:https://www.downtownithaca.com/wp-content/uploads/Screenshot-2026-03-02-122309.png
ORGANIZER;CN="Cornell Outdoor Education":MAILTO:sra223@cornell.edu
END:VEVENT
BEGIN:VEVENT
DTSTART;TZID=America/New_York:20260313T190000
DTEND;TZID=America/New_York:20260313T210000
DTSTAMP:20260421T193108
CREATED:20260309T163041Z
LAST-MODIFIED:20260309T163041Z
UID:10006864-1773428400-1773435600@www.downtownithaca.com
SUMMARY:MIX Art Gallery presents: Jazz with Jesse Collins Quartet
DESCRIPTION:Experience a special evening of live jazz with the Jesse Collins Quartet at MIX Art Gallery. Blending improvisation\, soulful rhythms\, and contemporary jazz influences\, this dynamic ensemble transforms the gallery into an intimate\, vibrant listening space. Join us for an unforgettable night where art\, music\, and community come together in downtown Ithaca right on the Commons.\nLimited seating  –  get there early!\n$10 at the door\,  March 13\, 7-9 pm\n156 E. State St. (2nd Floor) on the Ithaca Commons!
URL:https://www.downtownithaca.com/event/mix-art-gallery-presents-jazz-with-jesse-collins-quartet/
LOCATION:MIX Art Gallery\, 156 E. State Street\, Ithaca\, 14850
CATEGORIES:Featured
ATTACH;FMTTYPE=image/png:https://www.downtownithaca.com/wp-content/uploads/Jesse-Collins-313-@-Mix-Gallery.png
ORGANIZER;CN="MIX Art Gallery":MAILTO:contact@mixartgallery.com
END:VEVENT
BEGIN:VEVENT
DTSTART;TZID=America/New_York:20260314T130000
DTEND;TZID=America/New_York:20260314T160000
DTSTAMP:20260421T193108
CREATED:20260225T193136Z
LAST-MODIFIED:20260226T190035Z
UID:10006797-1773493200-1773504000@www.downtownithaca.com
SUMMARY:Gelli Plate Printmaking
DESCRIPTION:Gelli plate printing is a form of monoprinting that uses a flexible printing plate to create textures and layers. It is a very spontaneous way of creating one-of-a-kind prints on paper or fabric. We will explore several different ways of using the gelli plate\, including using stencils\, found objects\, and mark-making tools.
URL:https://www.downtownithaca.com/event/gelli-plate-printmaking/
LOCATION:SewGreen\, 112 W Green St\, Ithaca
CATEGORIES:Featured
ATTACH;FMTTYPE=image/jpeg:https://www.downtownithaca.com/wp-content/uploads/Gelli.jpg
ORGANIZER;CN="SewGreen":MAILTO:draya@sewgreenithaca.com
END:VEVENT
BEGIN:VEVENT
DTSTART;TZID=America/New_York:20260314T160000
DTEND;TZID=America/New_York:20260314T180000
DTSTAMP:20260421T193108
CREATED:20260309T142207Z
LAST-MODIFIED:20260309T142207Z
UID:10006862-1773504000-1773511200@www.downtownithaca.com
SUMMARY:Exquisite Corpse Cut-up Poetry Workshop
DESCRIPTION:ithaca writing studio presents \nExquisite Corpse Cut-Up Poetry Workshop \nwith Mack Rovenolt \nMarch 14\, 4-6pm \n-Join journalist\, poet\, and artist Mack Rovenolt for a creative and inspiring Exquisite Corpse and collage workshop. This class blends collaborative writing and visual art to help you express yourself and draw inspiration in community with others. \n-In this workshop\, the group will create a poem together using the Exquisite Corpse method. Then the poem will be cut up line by line and placed into a hat where participants will have to pick new lines to go towards generating a new piece of writing. \nThe writers will have time to share the work at the end. All supplies provided. Some snacks and drinks provided. Come ready to create in community with others. \nNOTE: Please use venmo if you need to pay on a sliding scale and be sure to provide your email in the caption of the payment. The studio has a venmo handle: ithacawritingstudio \nBIO:  \nMack Rovenolt is a local journalist\, poet\, and artist with a focus on printmaking and collage\, though they enjoy learning new art forms and techniques. Both their art and poetry center on nature motifs and they draw inspiration from the physical and spiritual world around them. Their pets also make frequent appearances in their work. Mack has previously been featured in two galleries: print art featured in the Generating Joy Show at the Cherry with Ithaca Generator\, and collage work featured in Queer Visions Queer Voices June 2025 at the CAP Artspace. Their work can be found at MRoven Prints on Instagram.
URL:https://www.downtownithaca.com/event/exquisite-corpse-cut-up-poetry-workshop/
LOCATION:ithaca writing studio\, 1729 Slaterville rd\, Ithaca\, NY\, 14850\, United States
CATEGORIES:Featured
ATTACH;FMTTYPE=image/png:https://www.downtownithaca.com/wp-content/uploads/IWS-Exquisite-Corpse-Event-1-1.png
ORGANIZER;CN="ithaca writing studio":MAILTO:ithacawritingstudio@gmail.com
END:VEVENT
END:VCALENDAR