BEGIN:VCALENDAR
VERSION:2.0
PRODID:-//Downtown Ithaca - ECPv6.15.20//NONSGML v1.0//EN
CALSCALE:GREGORIAN
METHOD:PUBLISH
X-ORIGINAL-URL:https://www.downtownithaca.com
X-WR-CALDESC:Events for Downtown Ithaca
REFRESH-INTERVAL;VALUE=DURATION:PT1H
X-Robots-Tag:noindex
X-PUBLISHED-TTL:PT1H
BEGIN:VTIMEZONE
TZID:America/New_York
BEGIN:DAYLIGHT
TZOFFSETFROM:-0500
TZOFFSETTO:-0400
TZNAME:EDT
DTSTART:20250309T070000
END:DAYLIGHT
BEGIN:STANDARD
TZOFFSETFROM:-0400
TZOFFSETTO:-0500
TZNAME:EST
DTSTART:20251102T060000
END:STANDARD
BEGIN:DAYLIGHT
TZOFFSETFROM:-0500
TZOFFSETTO:-0400
TZNAME:EDT
DTSTART:20260308T070000
END:DAYLIGHT
BEGIN:STANDARD
TZOFFSETFROM:-0400
TZOFFSETTO:-0500
TZNAME:EST
DTSTART:20261101T060000
END:STANDARD
BEGIN:DAYLIGHT
TZOFFSETFROM:-0500
TZOFFSETTO:-0400
TZNAME:EDT
DTSTART:20270314T070000
END:DAYLIGHT
BEGIN:STANDARD
TZOFFSETFROM:-0400
TZOFFSETTO:-0500
TZNAME:EST
DTSTART:20271107T060000
END:STANDARD
END:VTIMEZONE
BEGIN:VEVENT
DTSTART;TZID=America/New_York:20260430T120000
DTEND;TZID=America/New_York:20260524T170000
DTSTAMP:20260421T180019
CREATED:20260419T204141Z
LAST-MODIFIED:20260419T204141Z
UID:10007084-1777550400-1779642000@www.downtownithaca.com
SUMMARY:Black and White and…
DESCRIPTION:In their show\, Black and White and…\, painter Ileen Kaplan and Photographer David Watkins explore the use of black and white and touches of color to create abstract\, graphic and representational pieces.\n The show will run from April 30 through May 24\, 2026.  Opening reception Friday\, May 1 from\n5–8pm.
URL:https://www.downtownithaca.com/event/black-and-white-and/
LOCATION:State of the Art Gallery\, 120 W State St #2\, Ithaca\, 14850\, United Kingdom
CATEGORIES:Featured
ATTACH;FMTTYPE=image/jpeg:https://www.downtownithaca.com/wp-content/uploads/2026-05-Kaplan-ILEEN-Open-Sky-1.jpeg
ORGANIZER;CN="State of the Art Gallery":MAILTO:gallery@soag.org
END:VEVENT
BEGIN:VEVENT
DTSTART;TZID=America/New_York:20260507T130000
DTEND;TZID=America/New_York:20260614T200000
DTSTAMP:20260421T180019
CREATED:20260415T132801Z
LAST-MODIFIED:20260415T132801Z
UID:10007080-1778158800-1781467200@www.downtownithaca.com
SUMMARY:28th annual Spring Writes Literary Festival. May - Sept\, Live and Zoom
DESCRIPTION:The Community Arts Partnership of Tompkins County (CAP) is proud to announce our 18th annual Spring Writes Literary Festival with over 40 literary events: reading s\, panels\, multi – genre performances\, workshops\, a Book & Zine Fair\, and a Survivor style literary showdown.  \nThere’s something for everyone! From seasoned authors\, to the loving public. Check out the amazing slate of free events at SpringWrites.org and find event descriptions\, registration links\, and participating artist bios.  \nThe Festival starts with an opening weekend of in-person events from Thursday evening\, May 7th through Sunday\, May 10th. Events continue on May 16th and May 31st. Locations are Buffalo Street Books\, the Ithaca Downtown Conference Center (mostly)\, Tompkins County Public Library\, Lot 10 Ithaca\, Liquid State Brewing\, and The Cherry Arts.  \nZoom events follow from May 14th – May 28th \, and June 14th-perfect for literary lovers tuning in from afar.  \nFrom July through September\, there are eight additional in-person events at Buffalo Street Books.  \nVisit SpringWrites.org for schedules\, event details\, registration links\, artist bios\, and more.  \nDon’t miss this chance to connect\, create\, and celebrate the power of words together!  \nWe thank our Sponsors For Their Support. Ithaca College\, Beginnings Credit Union\, M&T Bank\, the Odyssey Bookstore\, Wegmans\, and the Ithaca Downtown Conference Center\, along with media partners WSKG\, WITH The Route\, What’s Hot Magazine\, and Cinemapolis.  \nAdditional support is provided by Poets & Writers\, a Fair Game Grant\, and the Tompkins County Tourism Program
URL:https://www.downtownithaca.com/event/28th-annual-spring-writes-literary-festival-may-sept-live-and-zoom/
LOCATION:Downtown Ithaca\, United States
CATEGORIES:Featured
ATTACH;FMTTYPE=image/png:https://www.downtownithaca.com/wp-content/uploads/SW-Square-1.png
ORGANIZER;CN="Community Arts Partnership":MAILTO:info@artspartner.org
GEO:42.4394279;-76.4969274
END:VEVENT
BEGIN:VEVENT
DTSTART;TZID=America/New_York:20260512T153000
DTEND;TZID=America/New_York:20260512T170000
DTSTAMP:20260421T180019
CREATED:20260218T133721Z
LAST-MODIFIED:20260218T133721Z
UID:10006740-1778599800-1778605200@www.downtownithaca.com
SUMMARY:Work & Tea & Lofi @ Orozco Gallery
DESCRIPTION:🗓️ Tuesday\, April 7\, 14\, 21\, 28 | ⏰ 3:30–5 PM\n📍 115 S Cayuga St\, Ithaca\, NY\n🎟️ Free | 👨‍👩‍👧‍👦 All ages \n🎨 This April\, Orozco Gallery opens its doors for a month-long pop-up filled with arts & culture in Downtown Ithaca. Featuring artist talks\, live music\, dance\, storytelling\, and hands-on workshops\, this welcoming sober space invites all ages to gather and celebrate the transformative power of art. \nDuring Orozco Gallery’s month-long arts & culture pop-up\, enjoy a cozy co-working session with lo-fi beats and tea. Bring your laptop\, sketchbook\, or homework and settle into a calm\, creative atmosphere. \n🍵 Tea by fee\n🥤 N/A drinks available\n♿ Accessible \n🌐 orozcogallery.com / @orozco_gallery – RSVP info: https://forms.gle/QbVYMMwfEcuVkXLMA
URL:https://www.downtownithaca.com/event/work-tea-lofi-orozco-gallery/2026-05-12/
LOCATION:orozco gallery\, 115 s cayuga st\, ithaca\, 14850
CATEGORIES:Featured
ATTACH;FMTTYPE=image/png:https://www.downtownithaca.com/wp-content/uploads/Screenshot-2026-02-18-at-8.34.56-AM.png
ORGANIZER;CN="Gallery Orozco Ithaca":MAILTO:ospinayen@gmail.com
END:VEVENT
BEGIN:VEVENT
DTSTART;TZID=America/New_York:20260513T170000
DTEND;TZID=America/New_York:20260513T210000
DTSTAMP:20260421T180019
CREATED:20251208T172404Z
LAST-MODIFIED:20251208T172404Z
UID:10006521-1778691600-1778706000@www.downtownithaca.com
SUMMARY:Rolling With Pride: LGBTQ game night at Riverwood Gifts
DESCRIPTION:join us at Riverwood gifts for a night of fun and board games! Celebrating our LGBTQ community Riverwood is a safe and inclusive place to come hang out and play! Pizza provided by SAL’s pizzeria
URL:https://www.downtownithaca.com/event/rolling-with-pride-lgbtq-game-night-at-riverwood-gifts-2/2026-05-13/
LOCATION:Riverwood\, 116 E State St\, ITHACA\, N\, 14850\, United States
CATEGORIES:Featured
ATTACH;FMTTYPE=image/jpeg:https://www.downtownithaca.com/wp-content/uploads/Rolling-with-Pride-final.jpeg
ORGANIZER;CN="Riverwood":MAILTO:marking@theriverwoodotter.com
END:VEVENT
BEGIN:VEVENT
DTSTART;TZID=America/New_York:20260516T183000
DTEND;TZID=America/New_York:20260516T213000
DTSTAMP:20260421T180019
CREATED:20260408T172324Z
LAST-MODIFIED:20260408T172324Z
UID:10007067-1778956200-1778967000@www.downtownithaca.com
SUMMARY:Destiny La Vibe Presents The Speakeasy Extravaganza
DESCRIPTION:Step into a night of glamour\, rhythm\, and unforgettable energy—right in the heart of Ithaca. \nDestiny La Vibe Presents: The Speakeasy Extravaganza is not just an event—it’s an experience. Slip into your finest Gatsby-inspired attire and prepare to be transported to a dazzling era of style\, soul\, and celebration. \nThis immersive\, cabaret-style evening will feature a full live band\, a dynamic DJ\, and special featured artists bringing powerful\, unforgettable performances to the stage. Expect the very best of blues\, R&B\, soul\, and funky grooves—a soundscape designed to move you from your seat straight to the dance floor. \nFrom the moment you arrive\, you’ll be surrounded by vintage elegance\, vibrant energy\, and a crowd ready to celebrate in style. \nWhat to expect: \nElegant table seating for a true speakeasy feel \nHigh-energy live music and featured artist performances \nA lively dance floor you won’t want to leave \nDelicious dinners and cocktails available for purchase \nA curated atmosphere designed for connection\, fun\, and flair \nA soon-to-be-announced alcohol vendor to elevate the experience \nSpeakeasy Secret: Your exclusive password for entry will be revealed upon purchase of your ticket or table—because every great night starts with a little mystery. \nBut the magic goes beyond the music. This spectacular evening also gives you a chance to give back—supporting incredible local organizations including Community School of Music and Arts\, Delta Sigma Theta Ithaca Alumnae Chapter\, and Greater Ithaca Activities Center. \nWhether you’re coming from Ithaca\, Elmira\, Cortland\, or beyond\, this is the night to gather your friends\, dress to impress\, and indulge in an evening of music\, movement\, and meaning.
URL:https://www.downtownithaca.com/event/destiny-la-vibe-presents-the-speakeasy-extravaganza/
LOCATION:Community School of Music and Arts\, 330 East State Street\, Ithaca
CATEGORIES:Featured
ATTACH;FMTTYPE=image/png:https://www.downtownithaca.com/wp-content/uploads/IMG_3099-1.png
ORGANIZER;CN="Destiny La Vibe":MAILTO:admin@destinylavibe.org
END:VEVENT
END:VCALENDAR