BEGIN:VCALENDAR
VERSION:2.0
PRODID:-//Downtown Ithaca - ECPv6.15.20//NONSGML v1.0//EN
CALSCALE:GREGORIAN
METHOD:PUBLISH
X-ORIGINAL-URL:https://www.downtownithaca.com
X-WR-CALDESC:Events for Downtown Ithaca
REFRESH-INTERVAL;VALUE=DURATION:PT1H
X-Robots-Tag:noindex
X-PUBLISHED-TTL:PT1H
BEGIN:VTIMEZONE
TZID:America/New_York
BEGIN:DAYLIGHT
TZOFFSETFROM:-0500
TZOFFSETTO:-0400
TZNAME:EDT
DTSTART:20250309T070000
END:DAYLIGHT
BEGIN:STANDARD
TZOFFSETFROM:-0400
TZOFFSETTO:-0500
TZNAME:EST
DTSTART:20251102T060000
END:STANDARD
BEGIN:DAYLIGHT
TZOFFSETFROM:-0500
TZOFFSETTO:-0400
TZNAME:EDT
DTSTART:20260308T070000
END:DAYLIGHT
BEGIN:STANDARD
TZOFFSETFROM:-0400
TZOFFSETTO:-0500
TZNAME:EST
DTSTART:20261101T060000
END:STANDARD
BEGIN:DAYLIGHT
TZOFFSETFROM:-0500
TZOFFSETTO:-0400
TZNAME:EDT
DTSTART:20270314T070000
END:DAYLIGHT
BEGIN:STANDARD
TZOFFSETFROM:-0400
TZOFFSETTO:-0500
TZNAME:EST
DTSTART:20271107T060000
END:STANDARD
END:VTIMEZONE
BEGIN:VEVENT
DTSTART;TZID=America/New_York:20260901T153000
DTEND;TZID=America/New_York:20260901T170000
DTSTAMP:20260424T085133
CREATED:20260218T133721Z
LAST-MODIFIED:20260218T133721Z
UID:10006756-1788276600-1788282000@www.downtownithaca.com
SUMMARY:Work & Tea & Lofi @ Orozco Gallery
DESCRIPTION:🗓️ Tuesday\, April 7\, 14\, 21\, 28 | ⏰ 3:30–5 PM\n📍 115 S Cayuga St\, Ithaca\, NY\n🎟️ Free | 👨‍👩‍👧‍👦 All ages \n🎨 This April\, Orozco Gallery opens its doors for a month-long pop-up filled with arts & culture in Downtown Ithaca. Featuring artist talks\, live music\, dance\, storytelling\, and hands-on workshops\, this welcoming sober space invites all ages to gather and celebrate the transformative power of art. \nDuring Orozco Gallery’s month-long arts & culture pop-up\, enjoy a cozy co-working session with lo-fi beats and tea. Bring your laptop\, sketchbook\, or homework and settle into a calm\, creative atmosphere. \n🍵 Tea by fee\n🥤 N/A drinks available\n♿ Accessible \n🌐 orozcogallery.com / @orozco_gallery – RSVP info: https://forms.gle/QbVYMMwfEcuVkXLMA
URL:https://www.downtownithaca.com/event/work-tea-lofi-orozco-gallery/2026-09-01/
LOCATION:orozco gallery\, 115 s cayuga st\, ithaca\, 14850
CATEGORIES:Featured
ATTACH;FMTTYPE=image/png:https://www.downtownithaca.com/wp-content/uploads/Screenshot-2026-02-18-at-8.34.56-AM.png
ORGANIZER;CN="Gallery Orozco Ithaca":MAILTO:ospinayen@gmail.com
END:VEVENT
BEGIN:VEVENT
DTSTART;TZID=America/New_York:20260902T170000
DTEND;TZID=America/New_York:20260902T210000
DTSTAMP:20260424T085133
CREATED:20251208T172404Z
LAST-MODIFIED:20251208T172404Z
UID:10006529-1788368400-1788382800@www.downtownithaca.com
SUMMARY:Rolling With Pride: LGBTQ game night at Riverwood Gifts
DESCRIPTION:join us at Riverwood gifts for a night of fun and board games! Celebrating our LGBTQ community Riverwood is a safe and inclusive place to come hang out and play! Pizza provided by SAL’s pizzeria
URL:https://www.downtownithaca.com/event/rolling-with-pride-lgbtq-game-night-at-riverwood-gifts-2/2026-09-02/
LOCATION:Riverwood\, 116 E State St\, ITHACA\, N\, 14850\, United States
CATEGORIES:Featured
ATTACH;FMTTYPE=image/jpeg:https://www.downtownithaca.com/wp-content/uploads/Rolling-with-Pride-final.jpeg
ORGANIZER;CN="Riverwood":MAILTO:marking@theriverwoodotter.com
END:VEVENT
BEGIN:VEVENT
DTSTART;TZID=America/New_York:20260904T170000
DTEND;TZID=America/New_York:20260904T200000
DTSTAMP:20260424T085133
CREATED:20260201T160037Z
LAST-MODIFIED:20260202T063342Z
UID:10003594-1788541200-1788552000@www.downtownithaca.com
SUMMARY:Ithaca Gallery Night - First Friday of Every Month
DESCRIPTION:ITHACA GALLERY NIGHT \nFRIDAY\, FEBRUARY 6\, 2026\n5:00–8:00 PM\nDOWNTOWN ITHACA \nIthaca Gallery Night is a walkable evening of art openings and cultural experiences throughout Downtown Ithaca. On the first Friday\, galleries\, studios\, and creative spaces open their doors for the public to explore exhibitions\, meet artists\, and experience the city’s arts community in one cohesive night. \nThis event is part of First Friday Ithaca Gallery Night openings.\nPlease visit www.ithacagallerynight.com\nto see all participating locations and current event details. \nFollow along and share your experience using:\n#ithacagallerynight1 #downtownithaca #visitithaca \nFacebook Event Link
URL:https://www.downtownithaca.com/event/gallery-night-ithaca-first-friday-of-every-month/2026-09-04/
ATTACH;FMTTYPE=image/png:https://www.downtownithaca.com/wp-content/uploads/Google-form-GRAPHIC_IthacaGalleryNight-1.png
END:VEVENT
END:VCALENDAR