BEGIN:VCALENDAR
VERSION:2.0
PRODID:-//Downtown Ithaca - ECPv6.15.20//NONSGML v1.0//EN
CALSCALE:GREGORIAN
METHOD:PUBLISH
X-ORIGINAL-URL:https://www.downtownithaca.com
X-WR-CALDESC:Events for Downtown Ithaca
REFRESH-INTERVAL;VALUE=DURATION:PT1H
X-Robots-Tag:noindex
X-PUBLISHED-TTL:PT1H
BEGIN:VTIMEZONE
TZID:America/New_York
BEGIN:DAYLIGHT
TZOFFSETFROM:-0500
TZOFFSETTO:-0400
TZNAME:EDT
DTSTART:20260308T070000
END:DAYLIGHT
BEGIN:STANDARD
TZOFFSETFROM:-0400
TZOFFSETTO:-0500
TZNAME:EST
DTSTART:20261101T060000
END:STANDARD
BEGIN:DAYLIGHT
TZOFFSETFROM:-0500
TZOFFSETTO:-0400
TZNAME:EDT
DTSTART:20270314T070000
END:DAYLIGHT
BEGIN:STANDARD
TZOFFSETFROM:-0400
TZOFFSETTO:-0500
TZNAME:EST
DTSTART:20271107T060000
END:STANDARD
BEGIN:DAYLIGHT
TZOFFSETFROM:-0500
TZOFFSETTO:-0400
TZNAME:EDT
DTSTART:20280312T070000
END:DAYLIGHT
BEGIN:STANDARD
TZOFFSETFROM:-0400
TZOFFSETTO:-0500
TZNAME:EST
DTSTART:20281105T060000
END:STANDARD
END:VTIMEZONE
BEGIN:VEVENT
DTSTART;TZID=America/New_York:20270604T170000
DTEND;TZID=America/New_York:20270604T200000
DTSTAMP:20260424T225100
CREATED:20260201T160037Z
LAST-MODIFIED:20260202T063342Z
UID:10003603-1812128400-1812139200@www.downtownithaca.com
SUMMARY:Ithaca Gallery Night - First Friday of Every Month
DESCRIPTION:ITHACA GALLERY NIGHT \nFRIDAY\, FEBRUARY 6\, 2026\n5:00–8:00 PM\nDOWNTOWN ITHACA \nIthaca Gallery Night is a walkable evening of art openings and cultural experiences throughout Downtown Ithaca. On the first Friday\, galleries\, studios\, and creative spaces open their doors for the public to explore exhibitions\, meet artists\, and experience the city’s arts community in one cohesive night. \nThis event is part of First Friday Ithaca Gallery Night openings.\nPlease visit www.ithacagallerynight.com\nto see all participating locations and current event details. \nFollow along and share your experience using:\n#ithacagallerynight1 #downtownithaca #visitithaca \nFacebook Event Link
URL:https://www.downtownithaca.com/event/gallery-night-ithaca-first-friday-of-every-month/2027-06-04/
ATTACH;FMTTYPE=image/png:https://www.downtownithaca.com/wp-content/uploads/Google-form-GRAPHIC_IthacaGalleryNight-1.png
END:VEVENT
END:VCALENDAR