BEGIN:VCALENDAR
VERSION:2.0
PRODID:-//Downtown Ithaca - ECPv6.15.20//NONSGML v1.0//EN
CALSCALE:GREGORIAN
METHOD:PUBLISH
X-WR-CALNAME:Downtown Ithaca
X-ORIGINAL-URL:https://www.downtownithaca.com
X-WR-CALDESC:Events for Downtown Ithaca
REFRESH-INTERVAL;VALUE=DURATION:PT1H
X-Robots-Tag:noindex
X-PUBLISHED-TTL:PT1H
BEGIN:VTIMEZONE
TZID:America/New_York
BEGIN:DAYLIGHT
TZOFFSETFROM:-0500
TZOFFSETTO:-0400
TZNAME:EDT
DTSTART:20230312T070000
END:DAYLIGHT
BEGIN:STANDARD
TZOFFSETFROM:-0400
TZOFFSETTO:-0500
TZNAME:EST
DTSTART:20231105T060000
END:STANDARD
BEGIN:DAYLIGHT
TZOFFSETFROM:-0500
TZOFFSETTO:-0400
TZNAME:EDT
DTSTART:20240310T070000
END:DAYLIGHT
BEGIN:STANDARD
TZOFFSETFROM:-0400
TZOFFSETTO:-0500
TZNAME:EST
DTSTART:20241103T060000
END:STANDARD
BEGIN:DAYLIGHT
TZOFFSETFROM:-0500
TZOFFSETTO:-0400
TZNAME:EDT
DTSTART:20250309T070000
END:DAYLIGHT
BEGIN:STANDARD
TZOFFSETFROM:-0400
TZOFFSETTO:-0500
TZNAME:EST
DTSTART:20251102T060000
END:STANDARD
BEGIN:DAYLIGHT
TZOFFSETFROM:-0500
TZOFFSETTO:-0400
TZNAME:EDT
DTSTART:20260308T070000
END:DAYLIGHT
BEGIN:STANDARD
TZOFFSETFROM:-0400
TZOFFSETTO:-0500
TZNAME:EST
DTSTART:20261101T060000
END:STANDARD
BEGIN:DAYLIGHT
TZOFFSETFROM:-0500
TZOFFSETTO:-0400
TZNAME:EDT
DTSTART:20270314T070000
END:DAYLIGHT
BEGIN:STANDARD
TZOFFSETFROM:-0400
TZOFFSETTO:-0500
TZNAME:EST
DTSTART:20271107T060000
END:STANDARD
END:VTIMEZONE
BEGIN:VEVENT
DTSTART;TZID=America/New_York:20260109T110000
DTEND;TZID=America/New_York:20260109T130000
DTSTAMP:20260422T070715
CREATED:20251211T210838Z
LAST-MODIFIED:20251211T210838Z
UID:10006646-1767956400-1767963600@www.downtownithaca.com
SUMMARY:Human Trafficking Awareness Month Resource Fair
DESCRIPTION:Join the Advocacy Center of Tompkins County to get educated on the state of local sex trafficking and connect with community resources. During the evening portion on January 8th\, there will be an opportunity to hear updates from Kate Booth\, the Director of Tompkins County Youth Services\, at 5:30pm on risks\, data\, and services. Also the evening of the 8th\, community organizations will be tabling\, a display from The Clothesline Project will be up\, and we will serve light refreshments. On the 9th\, The Clothesline Project Display will continue and individuals are welcome to come and contribute their own shirts to the collection. Access to resources and education will be available as well. \nWhere: The Tompkins County Public Library\, Borg Warner Room \nJanuary 8th\, 5-6:30pm\nJanuary 9th\, 11am-1pm
URL:https://www.downtownithaca.com/event/human-trafficking-awareness-month-resource-fair/2026-01-09/
LOCATION:Tompkins County Public Library\, 101 E. Green Street\, Ithaca\, NY\, 14850
CATEGORIES:Featured
ATTACH;FMTTYPE=image/png:https://www.downtownithaca.com/wp-content/uploads/Trafficking-Awareness.png
ORGANIZER;CN="Advocacy Center of Tompkins County":MAILTO:akabat@actompkins.org
END:VEVENT
BEGIN:VEVENT
DTSTART;TZID=America/New_York:20250621T124500
DTEND;TZID=America/New_York:20250621T150000
DTSTAMP:20260422T070715
CREATED:20250530T140148Z
LAST-MODIFIED:20250602T184225Z
UID:10004728-1750509900-1750518000@www.downtownithaca.com
SUMMARY:Celebrating Queer Survivorship & Resiliency through Art
DESCRIPTION:Join the Advocacy Center of Tompkins County for an intergenerational (16 and up) event for LGBTQIA+ survivors of intimate partner violence\, sexual violence\, and/or child sexual abuse. Come to discuss and celebrate queer survivorship and activism through writing and art prompts. This afternoon of rest and craft will include guided grounding activities\, writing exercises\, candle-making\, collage\, and zines. Art supplies and snacks will be provided\, though attendees are also welcome to bring their own materials (old candles to reuse\, containers to fill for new candles\, magazines\, and writing/drawing supplies). Registration is required for this event.
URL:https://www.downtownithaca.com/event/celebrating-queer-survivorship-resiliency-through-art/
LOCATION:Tompkins County Public Library\, 101 E. Green Street\, Ithaca\, NY\, 14850
CATEGORIES:Featured
ATTACH;FMTTYPE=image/png:https://www.downtownithaca.com/wp-content/uploads/Queer-Survivorship-flyer.png
ORGANIZER;CN="Advocacy Center of Tompkins County":MAILTO:akabat@actompkins.org
END:VEVENT
BEGIN:VEVENT
DTSTART;TZID=America/New_York:20250425T190000
DTEND;TZID=America/New_York:20250425T210000
DTSTAMP:20260422T070715
CREATED:20250407T153057Z
LAST-MODIFIED:20250407T153057Z
UID:10004517-1745607600-1745614800@www.downtownithaca.com
SUMMARY:Take Back the Night 2025
DESCRIPTION:Join the Advocacy Center of Tompkins County for our 46th annual Take Back the Night event: a march\, rally\, speak-out\, and vigil to unite the community to support survivors and envision an end to sexual assault\, domestic violence\, rape\, and child sexual abuse. \nThis year\, our agency’s Take Back the Night event will be an evening of reclamation\, empowerment\, and celebration; we seek to empower and uplift survivors and prioritize underrepresented and marginalized voices in their stories\, their healing\, and in our collective liberation. Our local TBTN fosters collaboration between the three college campuses\, schools\, and community members throughout Ithaca and Tompkins County. Participants gather together as survivors\, supporters\, and allies\, bearing witness to harms that have been done and holding space for hope of a future without sexual and relationship violence. \nFor decades\, our local event has included three marches: one from Cornell\, one from Ithaca College\, and one from downtown Ithaca with students\, families\, professionals – all community members wanting to support survivors are welcome! \nThose who wish to march (walking on sidewalks) to the Ithaca Commons are encouraged to bring friends\, family\, teammates\, coworkers and club members. We welcome signs\, banners and/or clothes that highlight groups/organizations who choose to act in solidarity with survivors and speak against domestic and sexual violence. We will teach you some march chants and invite you to teach us your favorites. \nYou are also welcome to join us on the Commons between 6:30 and 7pm to welcome the marchers as they arrive. \nOur Take Back the Night rally will start at 7pm with guest speakers and music. The event will end by 9pm with a short candlelight vigil. \nWe look forward to marching with you!
URL:https://www.downtownithaca.com/event/take-back-the-night-2025/
LOCATION:Bernie Milton Pavilion\, 100 N. Tioga Street\, Ithaca\, NY\, 14845
CATEGORIES:Featured
ATTACH;FMTTYPE=image/png:https://www.downtownithaca.com/wp-content/uploads/poster-1.png
ORGANIZER;CN="Advocacy Center of Tompkins County":MAILTO:akabat@actompkins.org
END:VEVENT
BEGIN:VEVENT
DTSTART;TZID=America/New_York:20240426T180000
DTEND;TZID=America/New_York:20240426T210000
DTSTAMP:20260422T070715
CREATED:20240311T044434Z
LAST-MODIFIED:20240311T044434Z
UID:10003727-1714154400-1714165200@www.downtownithaca.com
SUMMARY:45th Annual Take Back the Night
DESCRIPTION:Ithaca’s Annual Take Back the Night (TBTN) March and Rally are back! This year’s TBTN will take place on April 26th\, 2024 with marches from GIAC\, Ithaca College\, and Cornell\, and a rally and candlelit vigil at the Bernie Milton Pavillion on the Ithaca Commons. Join us as a survivor or as an ally. \nTake Back the Night began as a grassroots movement in the late 1870’s\, protesting the violence and fear that women experienced walking the streets at night. The first U.S. Take Back the Night events were held in the 1970’s in several cities including San Francisco\, Philadelphia and – Ithaca\, NY to protest sexual violence against women. Through decades of continued activism\, Take Back the Night has expanded to embrace survivors of all gender identities and from all backgrounds. \nThis year\, Take Back the Night will be an evening of reclamation\, empowerment\, and celebration; we seek to empower and uplift survivors of domestic and sexual violence and prioritize underrepresented and marginalized survivors in their stories\, their healing\, and in our collective liberation. \nWe look forward to marching with you! Details about march times and locations TBA\, follow us on Instagram @advocacytc or on Facebook to stay up to date!
URL:https://www.downtownithaca.com/event/45th-annual-take-back-the-night/
LOCATION:Bernie Milton Pavilion\, 100 N. Tioga Street\, Ithaca\, NY\, 14845
CATEGORIES:Featured
ATTACH;FMTTYPE=image/png:https://www.downtownithaca.com/wp-content/uploads/Take-Back-the-Night-2024-Final-Social-Media.png
ORGANIZER;CN="Advocacy Center of Tompkins County":MAILTO:akabat@actompkins.org
END:VEVENT
END:VCALENDAR