BEGIN:VCALENDAR
VERSION:2.0
PRODID:-//Downtown Ithaca - ECPv6.15.20//NONSGML v1.0//EN
CALSCALE:GREGORIAN
METHOD:PUBLISH
X-WR-CALNAME:Downtown Ithaca
X-ORIGINAL-URL:https://www.downtownithaca.com
X-WR-CALDESC:Events for Downtown Ithaca
REFRESH-INTERVAL;VALUE=DURATION:PT1H
X-Robots-Tag:noindex
X-PUBLISHED-TTL:PT1H
BEGIN:VTIMEZONE
TZID:America/New_York
BEGIN:DAYLIGHT
TZOFFSETFROM:-0500
TZOFFSETTO:-0400
TZNAME:EDT
DTSTART:20220313T070000
END:DAYLIGHT
BEGIN:STANDARD
TZOFFSETFROM:-0400
TZOFFSETTO:-0500
TZNAME:EST
DTSTART:20221106T060000
END:STANDARD
BEGIN:DAYLIGHT
TZOFFSETFROM:-0500
TZOFFSETTO:-0400
TZNAME:EDT
DTSTART:20230312T070000
END:DAYLIGHT
BEGIN:STANDARD
TZOFFSETFROM:-0400
TZOFFSETTO:-0500
TZNAME:EST
DTSTART:20231105T060000
END:STANDARD
BEGIN:DAYLIGHT
TZOFFSETFROM:-0500
TZOFFSETTO:-0400
TZNAME:EDT
DTSTART:20240310T070000
END:DAYLIGHT
BEGIN:STANDARD
TZOFFSETFROM:-0400
TZOFFSETTO:-0500
TZNAME:EST
DTSTART:20241103T060000
END:STANDARD
BEGIN:DAYLIGHT
TZOFFSETFROM:-0500
TZOFFSETTO:-0400
TZNAME:EDT
DTSTART:20250309T070000
END:DAYLIGHT
BEGIN:STANDARD
TZOFFSETFROM:-0400
TZOFFSETTO:-0500
TZNAME:EST
DTSTART:20251102T060000
END:STANDARD
BEGIN:DAYLIGHT
TZOFFSETFROM:-0500
TZOFFSETTO:-0400
TZNAME:EDT
DTSTART:20260308T070000
END:DAYLIGHT
BEGIN:STANDARD
TZOFFSETFROM:-0400
TZOFFSETTO:-0500
TZNAME:EST
DTSTART:20261101T060000
END:STANDARD
BEGIN:DAYLIGHT
TZOFFSETFROM:-0500
TZOFFSETTO:-0400
TZNAME:EDT
DTSTART:20270314T070000
END:DAYLIGHT
BEGIN:STANDARD
TZOFFSETFROM:-0400
TZOFFSETTO:-0500
TZNAME:EST
DTSTART:20271107T060000
END:STANDARD
END:VTIMEZONE
BEGIN:VEVENT
DTSTART;TZID=America/New_York:20260321T100000
DTEND;TZID=America/New_York:20260321T180000
DTSTAMP:20260421T083419
CREATED:20260315T022508Z
LAST-MODIFIED:20260315T022508Z
UID:10006874-1774087200-1774116000@www.downtownithaca.com
SUMMARY:Fairy Fest
DESCRIPTION:Step into a day of enchantment during Fairy Fest in Downtown Ithaca\, where magic and creativity fill the streets and shops of the Commons. Visitors of all ages are invited to dress as their favorite fairy\, elf\, woodland creature\, or magical character and explore a whimsical celebration throughout Downtown Ithaca. \nThroughout the day\, participating businesses host hands-on activities\, crafts\, story times\, themed treats\, and magical experiences for families and visitors. From the Dewitt Mall to Press Bay Alley and shops across Downtown Ithaca\, each location offers its own fairy-inspired activity. \nFairy Fest celebrates the creativity and community spirit of Downtown Ithaca while encouraging visitors to explore local shops and discover the magic inside each storefront. Activities are primarily hosted inside participating businesses\, making this a perfect event to wander\, discover\, and enjoy the imaginative atmosphere of the district. \n✨ Costumes are encouraged! Come dressed as a fairy\, elf\, imp\, or magical creature and join the fun. \nEVENT HIGHLIGHTS \nFairy-themed crafts and hands-on activities\nStorytime and creative workshops\nCostume contest and magical characters\nFairy-inspired treats and special menus\nActivities hosted inside participating Downtown Ithaca businesses
URL:https://www.downtownithaca.com/event/fairy-fest-3/
LOCATION:Downtown Ithaca\, United States
CATEGORIES:Featured
ORGANIZER;CN="Alphabet Soup":MAILTO:buyersoup@gmail.com
GEO:42.4394279;-76.4969274
END:VEVENT
BEGIN:VEVENT
DTSTART;TZID=America/New_York:20250329T100000
DTEND;TZID=America/New_York:20250329T150000
DTSTAMP:20260421T083419
CREATED:20250310T135310Z
LAST-MODIFIED:20250310T135310Z
UID:10004460-1743242400-1743260400@www.downtownithaca.com
SUMMARY:Fairy Fest
DESCRIPTION:For the fourth time\, fairy magic is coming to Downtown Ithaca! Dress as your favorite fairy\, elf\, imp or magical creature and come enjoy a day of crafts and family fun inside your favorite downtown businesses. All ages welcome!
URL:https://www.downtownithaca.com/event/fairy-fest-2/
LOCATION:Downtown Ithaca\, United States
CATEGORIES:Featured
ATTACH;FMTTYPE=image/png:https://www.downtownithaca.com/wp-content/uploads/FF25-Square-early.png
ORGANIZER;CN="Alphabet Soup":MAILTO:buyersoup@gmail.com
GEO:42.4394279;-76.4969274
END:VEVENT
BEGIN:VEVENT
DTSTART;TZID=America/New_York:20230318T100000
DTEND;TZID=America/New_York:20230318T150000
DTSTAMP:20260421T083419
CREATED:20230302T151008Z
LAST-MODIFIED:20230302T151008Z
UID:10000059-1679133600-1679151600@www.downtownithaca.com
SUMMARY:Fairy Fest
DESCRIPTION:Dress up as your favorite fairy\, elf or woodland creature and join us in Downtown Ithaca for a day of crafts and family fun! All activities are indoors from story time at the library to making flower crowns at Alphabet Soup. Most activities are free\, some may require a small fee. Please bring a mask as some locations may require masks to enter.
URL:https://www.downtownithaca.com/event/fairy-fest/
ATTACH;FMTTYPE=image/png:https://www.downtownithaca.com/wp-content/uploads/FairyFest-Facebook-Event-Cover-1920-×-1005-px.png
ORGANIZER;CN="Alphabet Soup":MAILTO:buyersoup@gmail.com
END:VEVENT
END:VCALENDAR