BEGIN:VCALENDAR
VERSION:2.0
PRODID:-//Downtown Ithaca - ECPv6.15.20//NONSGML v1.0//EN
CALSCALE:GREGORIAN
METHOD:PUBLISH
X-WR-CALNAME:Downtown Ithaca
X-ORIGINAL-URL:https://www.downtownithaca.com
X-WR-CALDESC:Events for Downtown Ithaca
REFRESH-INTERVAL;VALUE=DURATION:PT1H
X-Robots-Tag:noindex
X-PUBLISHED-TTL:PT1H
BEGIN:VTIMEZONE
TZID:America/New_York
BEGIN:DAYLIGHT
TZOFFSETFROM:-0500
TZOFFSETTO:-0400
TZNAME:EDT
DTSTART:20230312T070000
END:DAYLIGHT
BEGIN:STANDARD
TZOFFSETFROM:-0400
TZOFFSETTO:-0500
TZNAME:EST
DTSTART:20231105T060000
END:STANDARD
BEGIN:DAYLIGHT
TZOFFSETFROM:-0500
TZOFFSETTO:-0400
TZNAME:EDT
DTSTART:20240310T070000
END:DAYLIGHT
BEGIN:STANDARD
TZOFFSETFROM:-0400
TZOFFSETTO:-0500
TZNAME:EST
DTSTART:20241103T060000
END:STANDARD
BEGIN:DAYLIGHT
TZOFFSETFROM:-0500
TZOFFSETTO:-0400
TZNAME:EDT
DTSTART:20250309T070000
END:DAYLIGHT
BEGIN:STANDARD
TZOFFSETFROM:-0400
TZOFFSETTO:-0500
TZNAME:EST
DTSTART:20251102T060000
END:STANDARD
BEGIN:DAYLIGHT
TZOFFSETFROM:-0500
TZOFFSETTO:-0400
TZNAME:EDT
DTSTART:20260308T070000
END:DAYLIGHT
BEGIN:STANDARD
TZOFFSETFROM:-0400
TZOFFSETTO:-0500
TZNAME:EST
DTSTART:20261101T060000
END:STANDARD
END:VTIMEZONE
BEGIN:VEVENT
DTSTART;TZID=America/New_York:20250125T163000
DTEND;TZID=America/New_York:20250125T173000
DTSTAMP:20260420T062119
CREATED:20250108T031620Z
LAST-MODIFIED:20250108T031620Z
UID:10004386-1737822600-1737826200@www.downtownithaca.com
SUMMARY:Guided Tequila & Mezcal Tasting
DESCRIPTION:Join us and learn the basics of tequila & mezcal: a bit of history on agave spirits\, how/where its made\, how to taste & enjoy it\, and how to find/where to buy some of the best and most traditional brands on the market. Try 3 tequilas and 3 mezcals as Kevin & Corey\, the ‘Twins’ behind Bickering Twins pour some of our best selections while walking you through the process. Sip\, enjoy and learn about one of today’s most popular and fastest growing spirits.
URL:https://www.downtownithaca.com/event/guided-tequila-mezcal-tasting-2/
LOCATION:Bickering Twins Restaurant & Tequila Bar\, 114 N Cayuga St.\, Ithaca\, N\, 14850\, United States
CATEGORIES:Featured
ATTACH;FMTTYPE=image/jpeg:https://www.downtownithaca.com/wp-content/uploads/Tequila-tasting-1.jpeg
ORGANIZER;CN="Bickering Twins Restaurant &amp%3B Tequila Bar":MAILTO:csadelman@gmail.com
END:VEVENT
BEGIN:VEVENT
DTSTART;TZID=America/New_York:20241214T163000
DTEND;TZID=America/New_York:20241214T173000
DTSTAMP:20260420T062119
CREATED:20241209T182420Z
LAST-MODIFIED:20241209T182420Z
UID:10004307-1734193800-1734197400@www.downtownithaca.com
SUMMARY:Guided Tequila & Mezcal Tasting
DESCRIPTION:Join us and learn the basics of tequila & mezcal: a bit of history on agave spirits\, how/where its made\, how to taste & enjoy it\, and how to find/where to buy some of the best and most traditional brands on the market. Try 3 tequilas and 3 mezcals as Kevin & Corey\, the ‘Twins’ behind Bickering Twins pour some of our best selections while walking you through the process. Sip\, enjoy and learn about one of today’s most popular and fastest growing spirits.
URL:https://www.downtownithaca.com/event/guided-tequila-mezcal-tasting/
LOCATION:Bickering Twins Restaurant & Tequila Bar\, 114 N Cayuga St.\, Ithaca\, N\, 14850\, United States
ATTACH;FMTTYPE=image/jpeg:https://www.downtownithaca.com/wp-content/uploads/Tequila-tasting.jpg
ORGANIZER;CN="Bickering Twins Restaurant &amp%3B Tequila Bar":MAILTO:csadelman@gmail.com
END:VEVENT
END:VCALENDAR