BEGIN:VCALENDAR
VERSION:2.0
PRODID:-//Downtown Ithaca - ECPv6.15.20//NONSGML v1.0//EN
CALSCALE:GREGORIAN
METHOD:PUBLISH
X-ORIGINAL-URL:https://www.downtownithaca.com
X-WR-CALDESC:Events for Downtown Ithaca
REFRESH-INTERVAL;VALUE=DURATION:PT1H
X-Robots-Tag:noindex
X-PUBLISHED-TTL:PT1H
BEGIN:VTIMEZONE
TZID:America/New_York
BEGIN:DAYLIGHT
TZOFFSETFROM:-0500
TZOFFSETTO:-0400
TZNAME:EDT
DTSTART:20220313T070000
END:DAYLIGHT
BEGIN:STANDARD
TZOFFSETFROM:-0400
TZOFFSETTO:-0500
TZNAME:EST
DTSTART:20221106T060000
END:STANDARD
BEGIN:DAYLIGHT
TZOFFSETFROM:-0500
TZOFFSETTO:-0400
TZNAME:EDT
DTSTART:20230312T070000
END:DAYLIGHT
BEGIN:STANDARD
TZOFFSETFROM:-0400
TZOFFSETTO:-0500
TZNAME:EST
DTSTART:20231105T060000
END:STANDARD
BEGIN:DAYLIGHT
TZOFFSETFROM:-0500
TZOFFSETTO:-0400
TZNAME:EDT
DTSTART:20240310T070000
END:DAYLIGHT
BEGIN:STANDARD
TZOFFSETFROM:-0400
TZOFFSETTO:-0500
TZNAME:EST
DTSTART:20241103T060000
END:STANDARD
END:VTIMEZONE
BEGIN:VEVENT
DTSTART;TZID=America/New_York:20230422T120000
DTEND;TZID=America/New_York:20230422T170000
DTSTAMP:20260425T105404
CREATED:20230411T185210Z
LAST-MODIFIED:20230421T160839Z
UID:10000090-1682164800-1682182800@www.downtownithaca.com
SUMMARY:BlocPower “BlocParty” Community Event
DESCRIPTION:On Earth Day (April 22)\, BlocPower will be hosting a fun and informative community “BlocParty” in Washington Park to celebrate Ithaca’s pioneering efforts to prioritize climate change and update residents on the Electrify Ithaca program. \nResidents can meet BlocPower’s new Ithaca program manager Ethan Bodnaruk – a former civil engineer with Ithaca’s Department of Public Works – who will answer questions about the program. Ithaca’s Acting Director of Sustainability Rebecca Evans will also be on hand to provide information about Ithaca’s Green New Deal and other climate initiatives. \nEvent sponsors BlocPower\, Daikin and Fujitsu will provide food from Ithaca’s NuSpice Catering at no cost. Daikin and Fujitsu will also give live demonstrations of energy efficient air source heat pumps\, and other community partners will share information related to climate justice and environmental education. \nIthaca’s DJ Evo Evolution will provide music\, with games and giveaways hosted by community groups such as Citizens’ Climate Lobby\, Community Science Institute\, Mothers Out Front\, Dryden Rail Trail Task Force\, Cornell Cooperative Extension\, Sunrise Movement\, Healthy Workforce Network and more! \nThe event is open to all\, rain or shine. \nWHAT: BlocPower “BlocParty” Community Event – Free food\, music\, games\, giveaways and information/updates about the Electrify Ithaca program \nWHEN: Earth Day – Saturday\, April 22 12:00 – 5:00 pm\nEditor’s Note: BlocPower welcome remarks at 1:30 pm \nWHERE: Washington Park\, Washington St\, Ithaca\, NY 14850 \nWHO:\nBlocPower’s Ethan Bodnaruk\, Monika Hansen and other executives\nIthaca’s Acting Director of Sustainability Rebecca Evans
URL:https://www.downtownithaca.com/event/blocpower-blocparty-community-event/
LOCATION:Washington Park\, Washington Park\, Washington St\, Ithaca\, NY 14850\, Ithaca\, NY\, 14850\, United States
ORGANIZER;CN="BlocPower":MAILTO:blocpower@sparkpr.com
END:VEVENT
END:VCALENDAR