BEGIN:VCALENDAR
VERSION:2.0
PRODID:-//Downtown Ithaca - ECPv6.15.20//NONSGML v1.0//EN
CALSCALE:GREGORIAN
METHOD:PUBLISH
X-ORIGINAL-URL:https://www.downtownithaca.com
X-WR-CALDESC:Events for Downtown Ithaca
REFRESH-INTERVAL;VALUE=DURATION:PT1H
X-Robots-Tag:noindex
X-PUBLISHED-TTL:PT1H
BEGIN:VTIMEZONE
TZID:America/New_York
BEGIN:DAYLIGHT
TZOFFSETFROM:-0500
TZOFFSETTO:-0400
TZNAME:EDT
DTSTART:20250309T070000
END:DAYLIGHT
BEGIN:STANDARD
TZOFFSETFROM:-0400
TZOFFSETTO:-0500
TZNAME:EST
DTSTART:20251102T060000
END:STANDARD
BEGIN:DAYLIGHT
TZOFFSETFROM:-0500
TZOFFSETTO:-0400
TZNAME:EDT
DTSTART:20260308T070000
END:DAYLIGHT
BEGIN:STANDARD
TZOFFSETFROM:-0400
TZOFFSETTO:-0500
TZNAME:EST
DTSTART:20261101T060000
END:STANDARD
BEGIN:DAYLIGHT
TZOFFSETFROM:-0500
TZOFFSETTO:-0400
TZNAME:EDT
DTSTART:20270314T070000
END:DAYLIGHT
BEGIN:STANDARD
TZOFFSETFROM:-0400
TZOFFSETTO:-0500
TZNAME:EST
DTSTART:20271107T060000
END:STANDARD
END:VTIMEZONE
BEGIN:VEVENT
DTSTART;TZID=America/New_York:20260319T120000
DTEND;TZID=America/New_York:20260319T130000
DTSTAMP:20260425T112516
CREATED:20260128T214118Z
LAST-MODIFIED:20260128T214118Z
UID:10006697-1773921600-1773925200@www.downtownithaca.com
SUMMARY:Brookdale Continuing Education Series
DESCRIPTION:We’re excited to share that we are relaunching our March CE program for our professional referral partners\, and we would love for you to join us for our second CE of the year!\nDate: Thursday\, March 19th\, 2026\nTime: 12:00–1:00 PM\nLocation: Zoom\nCredit: 1 CE credit\nCost: Free \nOur March CE Course is titled: Proactive End-of-Life Care Planning: Starting the Conversation Early. \nThis session will be informative\, engaging\, and designed to support you in your work with older adults and their families—while making it easy to earn your CE credit over lunch.\nPlease RSVP over email to junobr@brookdale.com by Wednesday March 11th\, 2026 to reserve your spot.\nThank you for your partnership and we hope you can join us!
URL:https://www.downtownithaca.com/event/brookdale-continuing-education-series/
CATEGORIES:Featured
ATTACH;FMTTYPE=image/jpeg:https://www.downtownithaca.com/wp-content/uploads/CE-Training-March-Brookdale.jpg
END:VEVENT
END:VCALENDAR