BEGIN:VCALENDAR
VERSION:2.0
PRODID:-//Downtown Ithaca - ECPv6.15.20//NONSGML v1.0//EN
CALSCALE:GREGORIAN
METHOD:PUBLISH
X-ORIGINAL-URL:https://www.downtownithaca.com
X-WR-CALDESC:Events for Downtown Ithaca
REFRESH-INTERVAL;VALUE=DURATION:PT1H
X-Robots-Tag:noindex
X-PUBLISHED-TTL:PT1H
BEGIN:VTIMEZONE
TZID:America/New_York
BEGIN:DAYLIGHT
TZOFFSETFROM:-0500
TZOFFSETTO:-0400
TZNAME:EDT
DTSTART:20240310T070000
END:DAYLIGHT
BEGIN:STANDARD
TZOFFSETFROM:-0400
TZOFFSETTO:-0500
TZNAME:EST
DTSTART:20241103T060000
END:STANDARD
BEGIN:DAYLIGHT
TZOFFSETFROM:-0500
TZOFFSETTO:-0400
TZNAME:EDT
DTSTART:20250309T070000
END:DAYLIGHT
BEGIN:STANDARD
TZOFFSETFROM:-0400
TZOFFSETTO:-0500
TZNAME:EST
DTSTART:20251102T060000
END:STANDARD
BEGIN:DAYLIGHT
TZOFFSETFROM:-0500
TZOFFSETTO:-0400
TZNAME:EDT
DTSTART:20260308T070000
END:DAYLIGHT
BEGIN:STANDARD
TZOFFSETFROM:-0400
TZOFFSETTO:-0500
TZNAME:EST
DTSTART:20261101T060000
END:STANDARD
END:VTIMEZONE
BEGIN:VEVENT
DTSTART;TZID=America/New_York:20250919T130000
DTEND;TZID=America/New_York:20250921T113000
DTSTAMP:20260424T112118
CREATED:20250817T021521Z
LAST-MODIFIED:20250817T021521Z
UID:10004932-1758286800-1758454200@www.downtownithaca.com
SUMMARY:New York State Ornithological Association 2025 Conference
DESCRIPTION:Join us in Ithaca for a weekend celebrating the birds and birders of New York State!  The 2025 New York State Ornithological Association Conference will be hosted this September by the Cayuga Bird Club in Ithaca\, New York\, located on Cayuga Lake in the beautiful Finger Lakes region. The meeting is open to the public\, brings together birders from across the state and beyond\, and offers attendees a variety of social\, educational\, and birding activities.
URL:https://www.downtownithaca.com/event/new-york-state-ornithological-association-2025-conference/
LOCATION:Ithaca Downtown Conference Center\, 116 E. Green St.\, Ithaca\, 14850
CATEGORIES:Featured
ATTACH;FMTTYPE=image/jpeg:https://www.downtownithaca.com/wp-content/uploads/nysoa2025logo_crop.jpg
END:VEVENT
END:VCALENDAR