BEGIN:VCALENDAR
VERSION:2.0
PRODID:-//Downtown Ithaca - ECPv6.15.20//NONSGML v1.0//EN
CALSCALE:GREGORIAN
METHOD:PUBLISH
X-ORIGINAL-URL:https://www.downtownithaca.com
X-WR-CALDESC:Events for Downtown Ithaca
REFRESH-INTERVAL;VALUE=DURATION:PT1H
X-Robots-Tag:noindex
X-PUBLISHED-TTL:PT1H
BEGIN:VTIMEZONE
TZID:America/New_York
BEGIN:DAYLIGHT
TZOFFSETFROM:-0500
TZOFFSETTO:-0400
TZNAME:EDT
DTSTART:20230312T070000
END:DAYLIGHT
BEGIN:STANDARD
TZOFFSETFROM:-0400
TZOFFSETTO:-0500
TZNAME:EST
DTSTART:20231105T060000
END:STANDARD
BEGIN:DAYLIGHT
TZOFFSETFROM:-0500
TZOFFSETTO:-0400
TZNAME:EDT
DTSTART:20240310T070000
END:DAYLIGHT
BEGIN:STANDARD
TZOFFSETFROM:-0400
TZOFFSETTO:-0500
TZNAME:EST
DTSTART:20241103T060000
END:STANDARD
BEGIN:DAYLIGHT
TZOFFSETFROM:-0500
TZOFFSETTO:-0400
TZNAME:EDT
DTSTART:20250309T070000
END:DAYLIGHT
BEGIN:STANDARD
TZOFFSETFROM:-0400
TZOFFSETTO:-0500
TZNAME:EST
DTSTART:20251102T060000
END:STANDARD
END:VTIMEZONE
BEGIN:VEVENT
DTSTART;TZID=America/New_York:20240504T120000
DTEND;TZID=America/New_York:20240504T150000
DTSTAMP:20260421T152937
CREATED:20240429T190328Z
LAST-MODIFIED:20240429T190328Z
UID:10003825-1714824000-1714834800@www.downtownithaca.com
SUMMARY:AAPI Heritage Month Celebration
DESCRIPTION:The History Center in Tompkins County\, Tompkins County Public Library\, Cornell Asian American Studies Program\, Cornell East Asia Program\, Cornell Southeast Asia Program\, and Cornell South Asia Program are excited to host the inaugural celebration of Asian American and Pacific Islander (AAPI) heritage and culture in Tompkins County. \nEnjoy an afternoon of music\, dance\, and martial arts performances!
URL:https://www.downtownithaca.com/event/aapi-heritage-month-celebration/
LOCATION:Bernie Milton Pavilion\, 100 N. Tioga Street\, Ithaca\, NY\, 14845
CATEGORIES:Featured
ATTACH;FMTTYPE=image/jpeg:https://www.downtownithaca.com/wp-content/uploads/AAPI-Posters.jpg
ORGANIZER;CN="The History Center in Tompkins County":MAILTO:community@thehistorycenter.net
END:VEVENT
END:VCALENDAR