BEGIN:VCALENDAR
VERSION:2.0
PRODID:-//Downtown Ithaca - ECPv6.15.20//NONSGML v1.0//EN
CALSCALE:GREGORIAN
METHOD:PUBLISH
X-ORIGINAL-URL:https://www.downtownithaca.com
X-WR-CALDESC:Events for Downtown Ithaca
REFRESH-INTERVAL;VALUE=DURATION:PT1H
X-Robots-Tag:noindex
X-PUBLISHED-TTL:PT1H
BEGIN:VTIMEZONE
TZID:America/New_York
BEGIN:DAYLIGHT
TZOFFSETFROM:-0500
TZOFFSETTO:-0400
TZNAME:EDT
DTSTART:20240310T070000
END:DAYLIGHT
BEGIN:STANDARD
TZOFFSETFROM:-0400
TZOFFSETTO:-0500
TZNAME:EST
DTSTART:20241103T060000
END:STANDARD
BEGIN:DAYLIGHT
TZOFFSETFROM:-0500
TZOFFSETTO:-0400
TZNAME:EDT
DTSTART:20250309T070000
END:DAYLIGHT
BEGIN:STANDARD
TZOFFSETFROM:-0400
TZOFFSETTO:-0500
TZNAME:EST
DTSTART:20251102T060000
END:STANDARD
BEGIN:DAYLIGHT
TZOFFSETFROM:-0500
TZOFFSETTO:-0400
TZNAME:EDT
DTSTART:20260308T070000
END:DAYLIGHT
BEGIN:STANDARD
TZOFFSETFROM:-0400
TZOFFSETTO:-0500
TZNAME:EST
DTSTART:20261101T060000
END:STANDARD
END:VTIMEZONE
BEGIN:VEVENT
DTSTART;TZID=America/New_York:20250504T140000
DTEND;TZID=America/New_York:20250504T160000
DTSTAMP:20260421T215554
CREATED:20250424T191747Z
LAST-MODIFIED:20250424T191747Z
UID:10004653-1746367200-1746374400@www.downtownithaca.com
SUMMARY:Cornell Media Guild Music Festival
DESCRIPTION:On May 4\, Cornell Media Guild\, home to WVBR-FM 93.5 Ithaca’s Alternative\, is celebrating its 90th anniversary of empowering student-run media and bringing music to Ithaca with the Cornell Media Guild Music Festival. Come down to the Ithaca Commons to enjoy live performances by incredible local bands\, meet some of your favorite WVBR DJs\, and explore tables from local vendors. CMG Fest is a free\, all-ages event to thank the community that has been with us for 90 years.
URL:https://www.downtownithaca.com/event/cornell-media-guild-music-festival-2/
LOCATION:Bernie Milton Pavilion\, 100 N. Tioga Street\, Ithaca\, NY\, 14845
CATEGORIES:Featured
ATTACH;FMTTYPE=image/png:https://www.downtownithaca.com/wp-content/uploads/CMG-FEST-scaled.png
ORGANIZER;CN="Cornell Media Guild":MAILTO:treasurer@wvbr.com
END:VEVENT
END:VCALENDAR