BEGIN:VCALENDAR
VERSION:2.0
PRODID:-//Downtown Ithaca - ECPv6.15.20//NONSGML v1.0//EN
CALSCALE:GREGORIAN
METHOD:PUBLISH
X-ORIGINAL-URL:https://www.downtownithaca.com
X-WR-CALDESC:Events for Downtown Ithaca
REFRESH-INTERVAL;VALUE=DURATION:PT1H
X-Robots-Tag:noindex
X-PUBLISHED-TTL:PT1H
BEGIN:VTIMEZONE
TZID:America/New_York
BEGIN:DAYLIGHT
TZOFFSETFROM:-0500
TZOFFSETTO:-0400
TZNAME:EDT
DTSTART:20220313T070000
END:DAYLIGHT
BEGIN:STANDARD
TZOFFSETFROM:-0400
TZOFFSETTO:-0500
TZNAME:EST
DTSTART:20221106T060000
END:STANDARD
BEGIN:DAYLIGHT
TZOFFSETFROM:-0500
TZOFFSETTO:-0400
TZNAME:EDT
DTSTART:20230312T070000
END:DAYLIGHT
BEGIN:STANDARD
TZOFFSETFROM:-0400
TZOFFSETTO:-0500
TZNAME:EST
DTSTART:20231105T060000
END:STANDARD
BEGIN:DAYLIGHT
TZOFFSETFROM:-0500
TZOFFSETTO:-0400
TZNAME:EDT
DTSTART:20240310T070000
END:DAYLIGHT
BEGIN:STANDARD
TZOFFSETFROM:-0400
TZOFFSETTO:-0500
TZNAME:EST
DTSTART:20241103T060000
END:STANDARD
BEGIN:DAYLIGHT
TZOFFSETFROM:-0500
TZOFFSETTO:-0400
TZNAME:EDT
DTSTART:20250309T070000
END:DAYLIGHT
BEGIN:STANDARD
TZOFFSETFROM:-0400
TZOFFSETTO:-0500
TZNAME:EST
DTSTART:20251102T060000
END:STANDARD
BEGIN:DAYLIGHT
TZOFFSETFROM:-0500
TZOFFSETTO:-0400
TZNAME:EDT
DTSTART:20260308T070000
END:DAYLIGHT
BEGIN:STANDARD
TZOFFSETFROM:-0400
TZOFFSETTO:-0500
TZNAME:EST
DTSTART:20261101T060000
END:STANDARD
BEGIN:DAYLIGHT
TZOFFSETFROM:-0500
TZOFFSETTO:-0400
TZNAME:EDT
DTSTART:20270314T070000
END:DAYLIGHT
BEGIN:STANDARD
TZOFFSETFROM:-0400
TZOFFSETTO:-0500
TZNAME:EST
DTSTART:20271107T060000
END:STANDARD
END:VTIMEZONE
BEGIN:VEVENT
DTSTART;VALUE=DATE:20260330
DTEND;VALUE=DATE:20260406
DTSTAMP:20260424T065357
CREATED:20260323T190745Z
LAST-MODIFIED:20260323T190745Z
UID:10006970-1774828800-1775433599@www.downtownithaca.com
SUMMARY:Downtown Ithaca Egg Hunt
DESCRIPTION:Celebrate spring with a self-guided egg hunt across Downtown Ithaca. Explore participating businesses\, discover hidden eggs\, and win prizes along the way! Inside each egg is a treat\, prize\, or raffle ticket. On Monday\, April 6\, the winning raffle ticket number will be posted on our social media @downtownithaca\, so be sure to keep an eye out!
URL:https://www.downtownithaca.com/event/downtown-ithaca-egg-hunt-2/
LOCATION:Downtown Ithaca\, United States
CATEGORIES:Featured
ATTACH;FMTTYPE=image/png:https://www.downtownithaca.com/wp-content/uploads/EggHuntPic.png
ORGANIZER;CN="Downtown Ithaca":MAILTO:Adam@downtownithaca.com
GEO:42.4394279;-76.4969274
END:VEVENT
BEGIN:VEVENT
DTSTART;TZID=America/New_York:20260307T120000
DTEND;TZID=America/New_York:20260307T160000
DTSTAMP:20260424T065357
CREATED:20260114T210007Z
LAST-MODIFIED:20260114T210008Z
UID:10006684-1772884800-1772899200@www.downtownithaca.com
SUMMARY:The Downtown Ithaca Chili Cook-Off
DESCRIPTION:Saturday\, March 7\, 2026 | 12:00 to 4:00 PM\nDOWNTOWN ITHACA COMMONS \nWinter doesn’t stand a chance. The Downtown Ithaca Chili Cook Off returns to the Commons for a one-day tasting experience filled with bold chili\, lively crowds\, and friendly competition. Sample a wide range of chili styles\, explore Downtown Ithaca shops and restaurants\, and vote for your favorites as the district comes alive. \nThis annual event is also a fundraiser. Proceeds go toward making events free in Downtown Ithaca all year\, helping support accessible\, community-driven programming that brings people downtown in every season. \nLocal participants compete for top honors including Best Meat Chili\, Best Vegetarian or Vegan Chili\, Best Chili-Inspired Item\, and the fan-favorite People’s Choice Award.
URL:https://www.downtownithaca.com/event/the-downtown-ithaca-chili-cook-off-2/
LOCATION:Downtown Ithaca\, United States
CATEGORIES:Featured
ATTACH;FMTTYPE=image/png:https://www.downtownithaca.com/wp-content/uploads/Insta-Frame-scaled.png
ORGANIZER;CN="Downtown Ithaca":MAILTO:Adam@downtownithaca.com
GEO:42.4394279;-76.4969274
END:VEVENT
BEGIN:VEVENT
DTSTART;VALUE=DATE:20260116
DTEND;VALUE=DATE:20260202
DTSTAMP:20260424T065357
CREATED:20260105T175116Z
LAST-MODIFIED:20260105T175118Z
UID:10006675-1768521600-1769990399@www.downtownithaca.com
SUMMARY:The Comfort Food Trail
DESCRIPTION:Downtown Ithaca’s Comfort Food Trail is a cozy winter event running January 16 – February 1 that invites food lovers to explore local restaurants while enjoying warm\, comfort-food dishes around town. Participants scan QR codes at participating eateries to log visits\, collect entries in a digital passport\, and earn chances to win weekly $50 Downtown Ithaca gift cards or the grand prize of a $150 gift card—all while savoring seasonal comfort favorites and supporting local businesses. There’s no separate fee to join; simply order featured items and scan the QR code at each stop to get more chances to win and make your way through Ithaca’s vibrant Downtown dining scene.
URL:https://www.downtownithaca.com/event/the-comfort-food-trail/
CATEGORIES:Featured
ATTACH;FMTTYPE=image/png:https://www.downtownithaca.com/wp-content/uploads/Comfort-Food-Trail-9-Mailchimp.png
ORGANIZER;CN="Downtown Ithaca":MAILTO:Adam@downtownithaca.com
END:VEVENT
BEGIN:VEVENT
DTSTART;TZID=America/New_York:20251206T110000
DTEND;TZID=America/New_York:20251206T200000
DTSTAMP:20260424T065357
CREATED:20251030T190829Z
LAST-MODIFIED:20251030T191046Z
UID:10005300-1765018800-1765051200@www.downtownithaca.com
SUMMARY:The Downtown Ithaca Winter Holiday Bash
DESCRIPTION:Downtown Ithaca Winter Holiday Bash\nSaturday\, December 6\, 2025 — Downtown Ithaca Commons \nExperience the spirit of the season at Downtown Ithaca’s Winter Holiday Bash — a one-day celebration filled with lights\, music\, and holiday magic!\nKick off the day with Santa’s Arrival (11 AM – 2 PM) and festive activities for families.\nAt 4:30 PM\, kids 12 and under take the stage at the brand-new Elf Hop Kids Silent Disco — a fun\, energetic hour of holiday hits and dancing.\nAs evening sets in\, grab a headset and join the Silent Disco (6 – 8 PM) — a high-energy outdoor dance party in the heart of Downtown.
URL:https://www.downtownithaca.com/event/the-downtown-ithaca-winter-holiday-bash/
LOCATION:Ithaca Commons\, E. State Street\, Ithaca\, NY\, United States
CATEGORIES:Featured
ATTACH;FMTTYPE=image/png:https://www.downtownithaca.com/wp-content/uploads/300X300-2.png
ORGANIZER;CN="Downtown Ithaca":MAILTO:Adam@downtownithaca.com
END:VEVENT
BEGIN:VEVENT
DTSTART;VALUE=DATE:20251128
DTEND;VALUE=DATE:20251215
DTSTAMP:20260424T065357
CREATED:20251119T211354Z
LAST-MODIFIED:20251119T211427Z
UID:10005633-1764288000-1765756799@www.downtownithaca.com
SUMMARY:Downtown Ithaca Holiday Window Display Competition
DESCRIPTION:This festive Downtown Ithaca tradition brings together dozens of beautifully decorated holiday window displays. Stroll the Commons and surrounding streets\, discover your favorite designs\, and help us crown this year’s winners. \nPublic voting runs from November 28 through December 14\, with winners announced on December 17. \nTo check out the map and learn more – Click Here
URL:https://www.downtownithaca.com/event/downtown-ithaca-holiday-window-display-competition/
LOCATION:Downtown Ithaca\, United States
CATEGORIES:Featured
ATTACH;FMTTYPE=image/png:https://www.downtownithaca.com/wp-content/uploads/Window-Display-Competition-Posts.png
ORGANIZER;CN="Downtown Ithaca":MAILTO:Adam@downtownithaca.com
GEO:42.4394279;-76.4969274
END:VEVENT
BEGIN:VEVENT
DTSTART;VALUE=DATE:20251128
DTEND;VALUE=DATE:20251201
DTSTAMP:20260424T065357
CREATED:20251103T193140Z
LAST-MODIFIED:20251103T193141Z
UID:10005303-1764288000-1764547199@www.downtownithaca.com
SUMMARY:Shop Small Business Weekend in Downtown Ithaca
DESCRIPTION:Celebrate the season by shopping local and supporting your favorite small businesses throughout Downtown Ithaca. Enjoy exclusive deals and festive charm all weekend long. Earn a free tote bag when you make a qualifying purchase at participating locations while supplies last
URL:https://www.downtownithaca.com/event/shop-small-business-weekend-in-downtown-ithaca/
LOCATION:Downtown Ithaca\, United States
CATEGORIES:Featured
ATTACH;FMTTYPE=image/png:https://www.downtownithaca.com/wp-content/uploads/Social-Post-1-scaled.png
ORGANIZER;CN="Downtown Ithaca":MAILTO:Adam@downtownithaca.com
GEO:42.4394279;-76.4969274
END:VEVENT
BEGIN:VEVENT
DTSTART;TZID=America/New_York:20250928T100000
DTEND;TZID=America/New_York:20250928T180000
DTSTAMP:20260424T065357
CREATED:20250901T202220Z
LAST-MODIFIED:20250901T202221Z
UID:10005003-1759053600-1759082400@www.downtownithaca.com
SUMMARY:43rd Annual Apple Harvest Festival
DESCRIPTION:Downtown Ithaca’s signature fall celebration returns with farm stand apples\, cider treats\, craft vendors\, and live entertainment on the Commons. \nThe festival opens Friday\, Sept 26 (12–8 PM) with the Welcome Student Showcase\, featuring performances by Cornell\, Ithaca College\, and TC3 student groups — capped off with a headline performance by Ithaca’s own Jimkata at the Bernie Milton Pavilion. \nSaturday\, Sept 27 (10 AM–6 PM) and Sunday\, Sept 28 (10 AM–6 PM) bring continuous live music\, over 150 local artisans and makers\, 25+ New York State farmers and food vendors\, apple-inspired treats\, regional cuisine\, and family activities. \nFamilies can enjoy the Family Fun Zone with inflatables\, pumpkin painting\, and a petting zoo\, while children’s entertainment includes interactive dance and storytelling. \nAdmission is free and open to all.
URL:https://www.downtownithaca.com/event/43rd-annual-apple-harvest-festival/2025-09-28/
LOCATION:Downtown Ithaca\, United States
CATEGORIES:Featured
ATTACH;FMTTYPE=image/jpeg:https://www.downtownithaca.com/wp-content/uploads/Apple-Harvest-Design-2025_300-x-300_-300DPI_06.jpg
ORGANIZER;CN="Downtown Ithaca":MAILTO:Adam@downtownithaca.com
GEO:42.4394279;-76.4969274
END:VEVENT
BEGIN:VEVENT
DTSTART;TZID=America/New_York:20250418T170000
DTEND;TZID=America/New_York:20250418T190000
DTSTAMP:20260424T065357
CREATED:20250410T185230Z
LAST-MODIFIED:20250410T185231Z
UID:10004569-1744995600-1745002800@www.downtownithaca.com
SUMMARY:Sidewalk Showcase – Presented by Visions Federal Credit Union
DESCRIPTION:Enjoy free outdoor performances on the Commons! April’s Sidewalk Showcase features high-energy juggling from the Cornell Juggling Club and mesmerizing acrobatics by Shekinah Williams Goddess. Presented by Visions Federal Credit Union.
URL:https://www.downtownithaca.com/event/sidewalk-showcase-presented-by-visions-federal-credit-union/
LOCATION:Ithaca Commons\, E. State Street\, Ithaca\, NY\, United States
CATEGORIES:Featured
ATTACH;FMTTYPE=image/png:https://www.downtownithaca.com/wp-content/uploads/300X300.png
ORGANIZER;CN="Downtown Ithaca":MAILTO:Adam@downtownithaca.com
END:VEVENT
BEGIN:VEVENT
DTSTART;VALUE=DATE:20250414
DTEND;VALUE=DATE:20250421
DTSTAMP:20260424T065357
CREATED:20250410T184716Z
LAST-MODIFIED:20250417T204249Z
UID:10004568-1744588800-1745193599@www.downtownithaca.com
SUMMARY:Downtown Ithaca Egg Hunt
DESCRIPTION:Celebrate spring with a fun\, self-guided egg hunt throughout Downtown Ithaca! From April 14–20\, visitors can search for colorful eggs hidden in shops\, restaurants\, hotels\, and other downtown businesses. Each egg contains small prizes\, treats\, or raffle tickets. \nHold onto any raffle ticket you find — winning ticket numbers will be announced on Monday\, April 21 on Downtown Ithaca’s website and social media. Winners will receive Downtown gift cards. \nFree to participate. No registration required. \nOur participating businesses:\nPlease note that each business has their own hours of operation! \n15 Steps\nAlphabet Soup\nAutumn Leaves\nBool’s Flower Shop\nBuffalo Street Books\nCayuga Lake Creamery\nCenter Ithaca\nComics For Collectors\nCommunity School of Music & Arts\nCornell Store on the Commons\nEnvious\nHome Green Home\nHotel Ithaca\nIthaca Marriott Downtown on the Commons\nIthacamade\nMonks on the Commons\nNick Romo\, State Farm\nOdyssey Bookstore\nParis Baguette\nPetrune\nPoured Candle Bar\nRiverwood\nSewGreen\nState Theatre of Ithaca – Box Office\nSunny Days of Ithaca\nThe Brain Shoppe\nThe Cat’s Pajamas\nThe Cellar d’Or Wine\, Cider & Spirits\nV’s Hair Salon\nVisit Ithaca\nViva Taqueria & Cantina\nWoodpecker Bread
URL:https://www.downtownithaca.com/event/downtown-ithaca-egg-hunt/
LOCATION:Downtown Ithaca\, United States
CATEGORIES:Featured
ATTACH;FMTTYPE=image/png:https://www.downtownithaca.com/wp-content/uploads/egg-hunt-5-Egg-hunt.png
ORGANIZER;CN="Downtown Ithaca":MAILTO:Adam@downtownithaca.com
GEO:42.4394279;-76.4969274
END:VEVENT
BEGIN:VEVENT
DTSTART;TZID=America/New_York:20250301T120000
DTEND;TZID=America/New_York:20250301T160000
DTSTAMP:20260424T065357
CREATED:20250113T180319Z
LAST-MODIFIED:20250113T180509Z
UID:10004395-1740830400-1740844800@www.downtownithaca.com
SUMMARY:27th Annual Downtown Ithaca Chili Cook-Off
DESCRIPTION:Warm up your winter with the 27th Annual Downtown Ithaca Chili Cook-Off\, a signature event in the heart of the Commons! Join us for a day filled with delicious chili creations\, live entertainment\, and community fun as chefs and restaurants from across the region compete for top honors. \nTaste your way through a diverse selection of chili offerings\, including savory meat options\, bold vegan and vegetarian recipes\, and unique chili-inspired dishes. Sample beverages from local craft breweries\, cideries\, and wineries that perfectly complement the flavors of the day. With options for every palate\, this family-friendly event promises a fun and tasty experience for everyone. \nChefs will compete in several categories\, including Best Meat Chili\, Best Vegetarian/Vegan Chili\, Best Chili-Inspired Dish\, and the highly coveted People’s Choice Award\, where you get to vote for your favorite creation! Entertainment will be provided throughout the event\, featuring live music and performances that capture the energy and excitement of Ithaca’s winter season. \nThe Chili Cook-Off is a perfect way to celebrate the community\, support local businesses\, and enjoy the best comfort food Ithaca has to offer. Bring your friends\, family\, and appetite to this one-of-a-kind festival!
URL:https://www.downtownithaca.com/event/27th-annual-downtown-ithaca-chili-cook-off/
LOCATION:Downtown Ithaca\, United States
CATEGORIES:Featured
ATTACH;FMTTYPE=image/jpeg:https://www.downtownithaca.com/wp-content/uploads/533X300.jpg
ORGANIZER;CN="Downtown Ithaca":MAILTO:Adam@downtownithaca.com
GEO:42.4394279;-76.4969274
END:VEVENT
BEGIN:VEVENT
DTSTART;TZID=America/New_York:20241207T110000
DTEND;TZID=America/New_York:20241207T200000
DTSTAMP:20260424T065357
CREATED:20241115T171833Z
LAST-MODIFIED:20241118T024233Z
UID:10004249-1733569200-1733601600@www.downtownithaca.com
SUMMARY:William Jane Dispensary presents the Winter Holiday Bash
DESCRIPTION:Celebrate the holiday season with Downtown Ithaca’s Winter Holiday Bash! This festive one-day celebration will bring joy and cheer to the Commons with two fantastic events designed for the whole family. \nSanta’s Arrival | 11 AM – 4 PM\nExperience the magic of the season as Santa Claus makes his grand arrival! Families can enjoy holiday activities\, take photos with Santa\, and immerse themselves in the festive spirit. \nSilent Disco | 6 PM – 8 PM\nDance under the stars at our evening Silent Disco! Grab a pair of headphones\, choose your favorite channel\, and dance the night away to holiday beats in a unique\, immersive experience. \nDon’t miss this memorable day full of holiday fun and festivities!
URL:https://www.downtownithaca.com/event/downtown-ithaca-winter-holiday-bash/
LOCATION:Ithaca Commons\, E. State Street\, Ithaca\, NY\, United States
CATEGORIES:Featured
ATTACH;FMTTYPE=image/jpeg:https://www.downtownithaca.com/wp-content/uploads/DIA_SANTA_2021_CM-30-1.jpg
ORGANIZER;CN="Downtown Ithaca":MAILTO:Adam@downtownithaca.com
END:VEVENT
BEGIN:VEVENT
DTSTART;TZID=America/New_York:20241025T160000
DTEND;TZID=America/New_York:20241025T180000
DTSTAMP:20260424T065357
CREATED:20240913T201342Z
LAST-MODIFIED:20240913T203348Z
UID:10003733-1729872000-1729879200@www.downtownithaca.com
SUMMARY:Halloween In Downtown
DESCRIPTION:Halloween in Downtown Ithaca is all about creating a safe and secure trick-or-treating experience for families. On Halloween\, local merchants will be giving out candy\, creating a fun trail through downtown where kids can enjoy the spirit of the holiday. Come dressed in your best costumes and explore the Commons while collecting treats from participating businesses!
URL:https://www.downtownithaca.com/event/halloween-in-downtown/
CATEGORIES:Featured
ATTACH;FMTTYPE=image/png:https://www.downtownithaca.com/wp-content/uploads/Insta-Frame-copyHalloween-2024-1.png
ORGANIZER;CN="Downtown Ithaca":MAILTO:Adam@downtownithaca.com
END:VEVENT
BEGIN:VEVENT
DTSTART;TZID=America/New_York:20240927T120000
DTEND;TZID=America/New_York:20240929T180000
DTSTAMP:20260424T065357
CREATED:20240923T175945Z
LAST-MODIFIED:20240923T175946Z
UID:10004154-1727438400-1727632800@www.downtownithaca.com
SUMMARY:The Downtown Ithaca Alliance presents the 42nd annual Apple Harvest Festival
DESCRIPTION:Join us for a celebration of fall at the Apple Harvest Festival! Experience the vibrant atmosphere of Downtown Ithaca as you explore local vendors offering delicious apple treats\, handmade crafts\, and unique gifts. Enjoy live music\, family-friendly activities\, and the crisp autumn air while savoring everything apple—from fresh cider to sweet and savory apple-inspired dishes. It’s the perfect way to welcome the season with friends and family!
URL:https://www.downtownithaca.com/event/the-downtown-ithaca-alliance-presents-the-42nd-annual-apple-harvest-festival/
LOCATION:Downtown Ithaca\, United States
CATEGORIES:Featured
ATTACH;FMTTYPE=image/jpeg:https://www.downtownithaca.com/wp-content/uploads/Apple-Harvest-2024-Design-Assests-Complete_1080-x-1080-scaled.jpg
ORGANIZER;CN="Downtown Ithaca":MAILTO:Adam@downtownithaca.com
GEO:42.4394279;-76.4969274
END:VEVENT
BEGIN:VEVENT
DTSTART;TZID=America/New_York:20240202T170000
DTEND;TZID=America/New_York:20240202T190000
DTSTAMP:20260424T065357
CREATED:20240131T151056Z
LAST-MODIFIED:20240131T151355Z
UID:10003649-1706893200-1706900400@www.downtownithaca.com
SUMMARY:New Roots Celebration of Learning / Open House @ First Friday Gallery Night
DESCRIPTION:New Roots invites you to join us for a Celebration of Learning\, where students of all grade levels are excited to share their work from the Fall semester with you. Additionally\, our immersive art class has constructed a tree in the Elevate Gallery. Many students are also displaying their photography and artwork from our photography studio art classes. Please join us and celebrate our students’ accomplishments.
URL:https://www.downtownithaca.com/event/new-roots-celebration-of-learning-open-house-first-friday-gallery-night/
LOCATION:New Roots Charter School\, 116 N. Cayuga Street\, Ithaca
CATEGORIES:Featured
ATTACH;FMTTYPE=image/jpeg:https://www.downtownithaca.com/wp-content/uploads/2024-NR-Open-House-Flyer.jpg
ORGANIZER;CN="Downtown Ithaca":MAILTO:Adam@downtownithaca.com
END:VEVENT
BEGIN:VEVENT
DTSTART;TZID=America/New_York:20231103T170000
DTEND;TZID=America/New_York:20231103T190000
DTSTAMP:20260424T065357
CREATED:20231030T150931Z
LAST-MODIFIED:20231030T150931Z
UID:10003539-1699030800-1699038000@www.downtownithaca.com
SUMMARY:Angelo Paradiso @ Elevate Gallery (First Friday Gallery Night)
DESCRIPTION:Angelo Paradiso mixes Minimalism\, abstract and raw emotion in his latest series “Intersectionality”. Using various mediums including acrylic on stretched canvas w rough cut cedar wood frames\, each piece tells stories with simplicity and nuance. Angelo Paradiso has been an artist\, musician and producer living in the Fingerlakes for decades. He has a Bachelor of Arts from Ithaca College\, class of 2010.
URL:https://www.downtownithaca.com/event/angelo-paradiso-elevate-gallery-first-friday-gallery-night/
LOCATION:New Roots Charter School\, 116 N. Cayuga Street\, Ithaca
ATTACH;FMTTYPE=image/jpeg:https://www.downtownithaca.com/wp-content/uploads/Angelo-Paradiso-scaled.jpg
ORGANIZER;CN="Downtown Ithaca":MAILTO:Adam@downtownithaca.com
END:VEVENT
BEGIN:VEVENT
DTSTART;TZID=America/New_York:20231027T160000
DTEND;TZID=America/New_York:20231027T180000
DTSTAMP:20260424T065357
CREATED:20231019T145721Z
LAST-MODIFIED:20231019T174442Z
UID:10003271-1698422400-1698429600@www.downtownithaca.com
SUMMARY:Halloween in Downtown Ithaca!
DESCRIPTION:Celebrate Halloween  in Downtown Ithaca October 27th from 4pm to 6pm on the Commons and around Downtown!\nCome enjoy candy and photo opportunities for the whole family!
URL:https://www.downtownithaca.com/event/halloween/
LOCATION:Downtown Ithaca\, United States
ATTACH;FMTTYPE=image/jpeg:https://www.downtownithaca.com/wp-content/uploads/halloween-.jpeg
ORGANIZER;CN="Downtown Ithaca":MAILTO:Adam@downtownithaca.com
GEO:42.4394279;-76.4969274
END:VEVENT
BEGIN:VEVENT
DTSTART;TZID=America/New_York:20231006T170000
DTEND;TZID=America/New_York:20231006T190000
DTSTAMP:20260424T065357
CREATED:20231004T133932Z
LAST-MODIFIED:20231004T133932Z
UID:10003244-1696611600-1696618800@www.downtownithaca.com
SUMMARY:Elevate Gallery: Conor Gaffney @ 1st Friday Gallery Night
DESCRIPTION:Conor’s “Spoken Glass” is a premier laser engraving company that specializes in crafting customized laser-engraved and laser-cut products. With a focus on creating unique wedding and event items\, they bring a touch of elegance to every occasion. Their offerings range from wedding and event items to personalized glass water bottles\, as well as stunning laser-cut wood wall hangings that serve as timeless décor pieces. Whether you’re seeking personalized wedding favors or looking to elevate your home decor\, Spoken Glass combines precision craftsmanship with artistic flair to turn your ideas into beautifully engraved reality.
URL:https://www.downtownithaca.com/event/elevate-gallery-conor-gaffney-1st-friday-gallery-night/
LOCATION:New Roots Charter School\, 116 N. Cayuga Street\, Ithaca
ATTACH;FMTTYPE=image/jpeg:https://www.downtownithaca.com/wp-content/uploads/flower-of-life.jpg
ORGANIZER;CN="Downtown Ithaca":MAILTO:Adam@downtownithaca.com
END:VEVENT
BEGIN:VEVENT
DTSTART;VALUE=DATE:20230929
DTEND;VALUE=DATE:20231002
DTSTAMP:20260424T065357
CREATED:20230620T134824Z
LAST-MODIFIED:20230620T155703Z
UID:10002731-1695945600-1696204799@www.downtownithaca.com
SUMMARY:41st Annual Apple Harvest Festival presented by CFCU
DESCRIPTION:The 41st Annual Apple Harvest Festival presented by CFCU returns to Downtown Ithaca this fall\, September 29th-October 1st.\nWhat better way to kick off New York Cider Week than with three days celebrating apple growers\, cider makers\, and of course cider donuts in Downtown Ithaca\, New York. Festival Times: TBD. \nApple Harvest Festival will host plenty of farmstand fresh apples and produce\, delectable apple and seasonal baked goods\, a variety of food trucks offering tasty bites\, and a craft fair with artisans from around the region. There will also be live music and entertainment\, plus a cider trail to enjoy refreshing cider in store and plenty of great apple and apples-inspired products for sale inside shops in and around Downtown. \nFor more information on this year’s Apple Harvest Festival\, visit our event page here.
URL:https://www.downtownithaca.com/event/41st-annual-apple-harvest-festival-presented-by-cfcu/
LOCATION:Downtown Ithaca\, United States
CATEGORIES:Featured
ATTACH;FMTTYPE=image/jpeg:https://www.downtownithaca.com/wp-content/uploads/Insta-Frame-2-3.jpg
ORGANIZER;CN="Downtown Ithaca":MAILTO:Adam@downtownithaca.com
GEO:42.4394279;-76.4969274
END:VEVENT
END:VCALENDAR