BEGIN:VCALENDAR
VERSION:2.0
PRODID:-//Downtown Ithaca - ECPv6.15.20//NONSGML v1.0//EN
CALSCALE:GREGORIAN
METHOD:PUBLISH
X-ORIGINAL-URL:https://www.downtownithaca.com
X-WR-CALDESC:Events for Downtown Ithaca
REFRESH-INTERVAL;VALUE=DURATION:PT1H
X-Robots-Tag:noindex
X-PUBLISHED-TTL:PT1H
BEGIN:VTIMEZONE
TZID:America/New_York
BEGIN:DAYLIGHT
TZOFFSETFROM:-0500
TZOFFSETTO:-0400
TZNAME:EDT
DTSTART:20240310T070000
END:DAYLIGHT
BEGIN:STANDARD
TZOFFSETFROM:-0400
TZOFFSETTO:-0500
TZNAME:EST
DTSTART:20241103T060000
END:STANDARD
BEGIN:DAYLIGHT
TZOFFSETFROM:-0500
TZOFFSETTO:-0400
TZNAME:EDT
DTSTART:20250309T070000
END:DAYLIGHT
BEGIN:STANDARD
TZOFFSETFROM:-0400
TZOFFSETTO:-0500
TZNAME:EST
DTSTART:20251102T060000
END:STANDARD
BEGIN:DAYLIGHT
TZOFFSETFROM:-0500
TZOFFSETTO:-0400
TZNAME:EDT
DTSTART:20260308T070000
END:DAYLIGHT
BEGIN:STANDARD
TZOFFSETFROM:-0400
TZOFFSETTO:-0500
TZNAME:EST
DTSTART:20261101T060000
END:STANDARD
END:VTIMEZONE
BEGIN:VEVENT
DTSTART;TZID=America/New_York:20251213T120000
DTEND;TZID=America/New_York:20251213T190000
DTSTAMP:20260425T112426
CREATED:20251211T220001Z
LAST-MODIFIED:20251211T220037Z
UID:10006647-1765627200-1765652400@www.downtownithaca.com
SUMMARY:Sip & Sparkle Holiday Jewelry Party!
DESCRIPTION:✨🎄 Sip & Sparkle – Holiday Jewelry Party! 🎄✨ \nEnjoy the best parts of the season right from the start—complimentary bubbly mimosas\, artisan chocolates\, 15% off storewide\, and free bath & body care sample giveaways for all guests! Plus\, every attendee can enter our Holiday Raffle for a chance to win a $100 gift card. \nWrap yourself in the magic of the season at our monthly Sip & Sparkle event at Fall Creek Atelier! This month\, we’re celebrating Christmas with style\, joy\, and a whole lot of sparkle. \nJoin us for a festive evening of holiday gift shopping featuring meaningful\, handcrafted gemstone jewelry infused with energetic benefits—perfect for treating yourself or finding a thoughtful gift for someone you love. \nAlongside our jewelry collection\, explore a curated variety of all-natural bath\, body\, and home care products—including organic soaps\, essential-oil shower steamers\, natural perfume oils\, luscious creams\, refreshing scrubs\, hand-poured candles\, and uplifting room sprays. \nAs you browse\, sip your mimosa\, savor your chocolate\, mingle with friends\, and soak in the cozy-glam holiday ambiance. \nWe’ll announce the winner of the Fall Creek Atelier Holiday Raffle during the event\, so be sure to RSVP and register for your raffle ticket. Your RSVP helps us prepare the perfect sparkling evening just for you. \nCome sip\, sparkle\, and celebrate the season with us! ✨🎄
URL:https://www.downtownithaca.com/event/sip-sparkle-holiday-jewelry-party/
LOCATION:Press Bay Alley\, 118 West Green Street\, Ithaca\, NY\, United States
CATEGORIES:Featured
ATTACH;FMTTYPE=image/png:https://www.downtownithaca.com/wp-content/uploads/Post-de-Instagram-Promocion-Tienda-Recortes-Collage-Aesthetic-Gris-Rosado-Postcards-Portrait-Flyer.png
ORGANIZER;CN="Fall Creek Atelier":MAILTO:Fallcreekatelier@gmail.com
END:VEVENT
BEGIN:VEVENT
DTSTART;TZID=America/New_York:20251115T140000
DTEND;TZID=America/New_York:20251115T200000
DTSTAMP:20260425T112426
CREATED:20251110T144912Z
LAST-MODIFIED:20251110T144912Z
UID:10005310-1763215200-1763236800@www.downtownithaca.com
SUMMARY:Sip & Sparkle Holiday Jewelry Party at Fall Creek Atelier
DESCRIPTION:✨ Sip\, Shop & Sparkle — Holiday Grand Opening at Fall Creek Atelier \nEnjoy complimentary champagne\, artisan chocolates\, and self-care samples as we celebrate the season at Fall Creek Atelier’s Holiday Grand Opening & Sample Party\, happening Saturday\, November 15th from 2–8 PM at Press Bay Alley in Ithaca\, NY. \nDiscover our newest collection of handmade gemstone jewelry\, thoughtfully designed and crafted from sustainable\, hypoallergenic materials including brass\, stainless steel\, gold filled\, and sterling silver. Each piece is inspired by nature’s beauty and made to last — waterproof\, timeless\, and one of a kind. \nGuests will receive exclusive event-only discounts and free samples from our vegan\, cruelty-free bath and body line\, made with all-natural ingredients and eco-friendly packaging. \nSip\, savor\, and sparkle under the lights of Press Bay Alley — a festive evening of gemstones\, treats\, and community connection to welcome the holidays. \n✨ Visit our website to RSVP today & reserve your complimentary gifts and event entry!
URL:https://www.downtownithaca.com/event/sip-sparkle-holiday-jewelry-party-at-fall-creek-atelier/
LOCATION:Press Bay Alley\, 118 West Green Street\, Ithaca\, NY\, United States
CATEGORIES:Featured
ATTACH;FMTTYPE=image/png:https://www.downtownithaca.com/wp-content/uploads/FLYERS-FOR-SIP-AND-SPARKLE.png
ORGANIZER;CN="Fall Creek Atelier":MAILTO:Fallcreekatelier@gmail.com
END:VEVENT
END:VCALENDAR