BEGIN:VCALENDAR
VERSION:2.0
PRODID:-//Downtown Ithaca - ECPv6.15.20//NONSGML v1.0//EN
CALSCALE:GREGORIAN
METHOD:PUBLISH
X-WR-CALNAME:Downtown Ithaca
X-ORIGINAL-URL:https://www.downtownithaca.com
X-WR-CALDESC:Events for Downtown Ithaca
REFRESH-INTERVAL;VALUE=DURATION:PT1H
X-Robots-Tag:noindex
X-PUBLISHED-TTL:PT1H
BEGIN:VTIMEZONE
TZID:America/New_York
BEGIN:DAYLIGHT
TZOFFSETFROM:-0500
TZOFFSETTO:-0400
TZNAME:EDT
DTSTART:20220313T070000
END:DAYLIGHT
BEGIN:STANDARD
TZOFFSETFROM:-0400
TZOFFSETTO:-0500
TZNAME:EST
DTSTART:20221106T060000
END:STANDARD
BEGIN:DAYLIGHT
TZOFFSETFROM:-0500
TZOFFSETTO:-0400
TZNAME:EDT
DTSTART:20230312T070000
END:DAYLIGHT
BEGIN:STANDARD
TZOFFSETFROM:-0400
TZOFFSETTO:-0500
TZNAME:EST
DTSTART:20231105T060000
END:STANDARD
BEGIN:DAYLIGHT
TZOFFSETFROM:-0500
TZOFFSETTO:-0400
TZNAME:EDT
DTSTART:20240310T070000
END:DAYLIGHT
BEGIN:STANDARD
TZOFFSETFROM:-0400
TZOFFSETTO:-0500
TZNAME:EST
DTSTART:20241103T060000
END:STANDARD
BEGIN:DAYLIGHT
TZOFFSETFROM:-0500
TZOFFSETTO:-0400
TZNAME:EDT
DTSTART:20250309T070000
END:DAYLIGHT
BEGIN:STANDARD
TZOFFSETFROM:-0400
TZOFFSETTO:-0500
TZNAME:EST
DTSTART:20251102T060000
END:STANDARD
END:VTIMEZONE
BEGIN:VEVENT
DTSTART;TZID=America/New_York:20240501T163000
DTEND;TZID=America/New_York:20240501T190000
DTSTAMP:20260421T174745
CREATED:20240326T190051Z
LAST-MODIFIED:20240326T190051Z
UID:10003743-1714581000-1714590000@www.downtownithaca.com
SUMMARY:11th Annual Mac 'n Cheese Bowl
DESCRIPTION:Over 20 competitors vie for your votes to try and win the titles of Best Meat Mac\, Best Non-Meat Mac\, Kid’s Choice\, Most Creative\, and new-for-2024 Alt Mac. Your ticket allows you to taste all of them and vote for your favorite! Try your luck with raffle baskets and visit info booths for our partners in senior services. Proceeds support Foodnet Meals on Wheels programs providing nutritious meals and safety checks for older adults in Tompkins County.
URL:https://www.downtownithaca.com/event/11th-annual-mac-n-cheese-bowl/
LOCATION:Ithaca Farmers Market\, Steamboat Landing 545 3rd St\, Ithaca\, NY\, 14850
CATEGORIES:Featured
ATTACH;FMTTYPE=image/jpeg:https://www.downtownithaca.com/wp-content/uploads/2024-MNCB-Buy-Tickets-Now-Square.jpg
ORGANIZER;CN="Foodnet Meals on Wheels":MAILTO:info@foodnet.org
END:VEVENT
BEGIN:VEVENT
DTSTART;TZID=America/New_York:20230503T163000
DTEND;TZID=America/New_York:20230503T190000
DTSTAMP:20260421T174745
CREATED:20230327T165011Z
LAST-MODIFIED:20230327T165011Z
UID:10000083-1683131400-1683140400@www.downtownithaca.com
SUMMARY:Foodnet Meals on Wheels 10th Annual Mac 'n Cheese Bowl
DESCRIPTION:May 3\, 2023 – 4:30 – 7:00PM\nHosted and sponsored by Ithaca Farmers Market \nWho makes the best mac ‘n cheese in town? You decide! Local restaurants and vendors will be whipping up their version of everyone’s favorite comfort food. Taste the all and vote for your favorites. Come for the tastings\, vendors\, raffles and more! Vegan and gluten-free options available! \nTICKETS: Your ticket entitles you to a sample portion of all the macs. \nPre-Sale:\nAdult: Mac & Cheese Ticket – $15.00\nKids (5-12): Mac & Cheese Ticket – $10.00\nKids (4 & Under) – Free\nAt the Door:\nAdult – $20\nKids (5 – 12) – $15\nKids (4 & Under) – Free \nThe Bowl is Foodnet’s signature fundraising event and it furthers our mission to provide food and nutritional services to vulnerable older adults and others who are unable to cook or shop for themselves in Tompkins County.
URL:https://www.downtownithaca.com/event/foodnet-meals-on-wheels-10th-annual-mac-n-cheese-bowl/
LOCATION:Ithaca Farmers Market\, Steamboat Landing 545 3rd St\, Ithaca\, NY\, 14850
ATTACH;FMTTYPE=image/jpeg:https://www.downtownithaca.com/wp-content/uploads/2023-MNCB-Tickets-OnSale.jpg
ORGANIZER;CN="Foodnet Meals on Wheels":MAILTO:info@foodnet.org
END:VEVENT
END:VCALENDAR