BEGIN:VCALENDAR
VERSION:2.0
PRODID:-//Downtown Ithaca - ECPv6.15.20//NONSGML v1.0//EN
CALSCALE:GREGORIAN
METHOD:PUBLISH
X-WR-CALNAME:Downtown Ithaca
X-ORIGINAL-URL:https://www.downtownithaca.com
X-WR-CALDESC:Events for Downtown Ithaca
REFRESH-INTERVAL;VALUE=DURATION:PT1H
X-Robots-Tag:noindex
X-PUBLISHED-TTL:PT1H
BEGIN:VTIMEZONE
TZID:America/New_York
BEGIN:DAYLIGHT
TZOFFSETFROM:-0500
TZOFFSETTO:-0400
TZNAME:EDT
DTSTART:20230312T070000
END:DAYLIGHT
BEGIN:STANDARD
TZOFFSETFROM:-0400
TZOFFSETTO:-0500
TZNAME:EST
DTSTART:20231105T060000
END:STANDARD
BEGIN:DAYLIGHT
TZOFFSETFROM:-0500
TZOFFSETTO:-0400
TZNAME:EDT
DTSTART:20240310T070000
END:DAYLIGHT
BEGIN:STANDARD
TZOFFSETFROM:-0400
TZOFFSETTO:-0500
TZNAME:EST
DTSTART:20241103T060000
END:STANDARD
BEGIN:DAYLIGHT
TZOFFSETFROM:-0500
TZOFFSETTO:-0400
TZNAME:EDT
DTSTART:20250309T070000
END:DAYLIGHT
BEGIN:STANDARD
TZOFFSETFROM:-0400
TZOFFSETTO:-0500
TZNAME:EST
DTSTART:20251102T060000
END:STANDARD
END:VTIMEZONE
BEGIN:VEVENT
DTSTART;VALUE=DATE:20240501
DTEND;VALUE=DATE:20240601
DTSTAMP:20260421T170149
CREATED:20240409T183227Z
LAST-MODIFIED:20240409T183227Z
UID:10003800-1714521600-1717199999@www.downtownithaca.com
SUMMARY:The Bike Month Challenge
DESCRIPTION:Make every ride count this May with the Bike Month Challenge! \nBrought to Ithaca by Love to Ride and GOIthaca\, the national #MakeEveryRideCount initiative aims to champion bike riding while harnessing the pedal power of bike riders across the country to generate data that will make biking better for everyone. \nSo\, how does it work? Once someone downloads the Love to Ride app and enjoys a bike ride\, they can use the Rate My Routes feature to show how comfortable they felt on different streets and paths. This feedback\, paired with anonymized trip data from other users\, can pinpoint the prime spots in your community calling out for better biking infrastructure! \nIt’s totally free to download the app and take part in the Bike Month Challenge. There are prizes up for grabs for anyone who logs a ride\, and even more can be won if someone encourages others to join! This May\, let’s #MakeEveryRideCount.
URL:https://www.downtownithaca.com/event/the-bike-month-challenge/
LOCATION:Virtual
CATEGORIES:Featured
ATTACH;FMTTYPE=image/jpeg:https://www.downtownithaca.com/wp-content/uploads/LTR-BMC-24-Digi-poster-Ithaca-small-scaled.jpeg
ORGANIZER;CN="GOIthaca":MAILTO:support@goithaca.org
END:VEVENT
END:VCALENDAR