BEGIN:VCALENDAR
VERSION:2.0
PRODID:-//Downtown Ithaca - ECPv6.15.20//NONSGML v1.0//EN
CALSCALE:GREGORIAN
METHOD:PUBLISH
X-WR-CALNAME:Downtown Ithaca
X-ORIGINAL-URL:https://www.downtownithaca.com
X-WR-CALDESC:Events for Downtown Ithaca
REFRESH-INTERVAL;VALUE=DURATION:PT1H
X-Robots-Tag:noindex
X-PUBLISHED-TTL:PT1H
BEGIN:VTIMEZONE
TZID:America/New_York
BEGIN:DAYLIGHT
TZOFFSETFROM:-0500
TZOFFSETTO:-0400
TZNAME:EDT
DTSTART:20220313T070000
END:DAYLIGHT
BEGIN:STANDARD
TZOFFSETFROM:-0400
TZOFFSETTO:-0500
TZNAME:EST
DTSTART:20221106T060000
END:STANDARD
BEGIN:DAYLIGHT
TZOFFSETFROM:-0500
TZOFFSETTO:-0400
TZNAME:EDT
DTSTART:20230312T070000
END:DAYLIGHT
BEGIN:STANDARD
TZOFFSETFROM:-0400
TZOFFSETTO:-0500
TZNAME:EST
DTSTART:20231105T060000
END:STANDARD
BEGIN:DAYLIGHT
TZOFFSETFROM:-0500
TZOFFSETTO:-0400
TZNAME:EDT
DTSTART:20240310T070000
END:DAYLIGHT
BEGIN:STANDARD
TZOFFSETFROM:-0400
TZOFFSETTO:-0500
TZNAME:EST
DTSTART:20241103T060000
END:STANDARD
END:VTIMEZONE
BEGIN:VEVENT
DTSTART;TZID=America/New_York:20230213T173000
DTEND;TZID=America/New_York:20230213T193000
DTSTAMP:20260421T081743
CREATED:20230202T193115Z
LAST-MODIFIED:20230202T193115Z
UID:10000034-1676309400-1676316600@www.downtownithaca.com
SUMMARY:Cookies and Cosmos Class
DESCRIPTION:Bring your besties and learn to make strawberry caviar cosmos and Valentine’s Day cookies at The Greenhouse Cafe & Cocktail Lounge! \nIncluded with your ticket:\n-2 Cosmos with Strawberry Caviar\n-2 Cookies\n-Recipes to take home \nPlease arrive 15 minutes early to get checked in and secure a seat at the bar. Space is limited. Refunds are available up to 48 hours before the event.
URL:https://www.downtownithaca.com/event/cookies-and-cosmos-class/2023-02-13/
LOCATION:Greenhouse Cafe and Cocktail Lounge\, 320 E. State Street\, Ithaca\, NY\, 14850\, United States
ATTACH;FMTTYPE=image/png:https://www.downtownithaca.com/wp-content/uploads/Cookies-and-Cosmos-1.png
ORGANIZER;CN="Greenhouse Cafe and Cocktail Lounge":MAILTO:timmy@thegreenhouseithaca.com
END:VEVENT
END:VCALENDAR