BEGIN:VCALENDAR
VERSION:2.0
PRODID:-//Downtown Ithaca - ECPv6.15.20//NONSGML v1.0//EN
CALSCALE:GREGORIAN
METHOD:PUBLISH
X-WR-CALNAME:Downtown Ithaca
X-ORIGINAL-URL:https://www.downtownithaca.com
X-WR-CALDESC:Events for Downtown Ithaca
REFRESH-INTERVAL;VALUE=DURATION:PT1H
X-Robots-Tag:noindex
X-PUBLISHED-TTL:PT1H
BEGIN:VTIMEZONE
TZID:America/New_York
BEGIN:DAYLIGHT
TZOFFSETFROM:-0500
TZOFFSETTO:-0400
TZNAME:EDT
DTSTART:20220313T070000
END:DAYLIGHT
BEGIN:STANDARD
TZOFFSETFROM:-0400
TZOFFSETTO:-0500
TZNAME:EST
DTSTART:20221106T060000
END:STANDARD
BEGIN:DAYLIGHT
TZOFFSETFROM:-0500
TZOFFSETTO:-0400
TZNAME:EDT
DTSTART:20230312T070000
END:DAYLIGHT
BEGIN:STANDARD
TZOFFSETFROM:-0400
TZOFFSETTO:-0500
TZNAME:EST
DTSTART:20231105T060000
END:STANDARD
BEGIN:DAYLIGHT
TZOFFSETFROM:-0500
TZOFFSETTO:-0400
TZNAME:EDT
DTSTART:20240310T070000
END:DAYLIGHT
BEGIN:STANDARD
TZOFFSETFROM:-0400
TZOFFSETTO:-0500
TZNAME:EST
DTSTART:20241103T060000
END:STANDARD
BEGIN:DAYLIGHT
TZOFFSETFROM:-0500
TZOFFSETTO:-0400
TZNAME:EDT
DTSTART:20250309T070000
END:DAYLIGHT
BEGIN:STANDARD
TZOFFSETFROM:-0400
TZOFFSETTO:-0500
TZNAME:EST
DTSTART:20251102T060000
END:STANDARD
BEGIN:DAYLIGHT
TZOFFSETFROM:-0500
TZOFFSETTO:-0400
TZNAME:EDT
DTSTART:20260308T070000
END:DAYLIGHT
BEGIN:STANDARD
TZOFFSETFROM:-0400
TZOFFSETTO:-0500
TZNAME:EST
DTSTART:20261101T060000
END:STANDARD
END:VTIMEZONE
BEGIN:VEVENT
DTSTART;TZID=America/New_York:20250323T103000
DTEND;TZID=America/New_York:20250323T140000
DTSTAMP:20260422T095159
CREATED:20250102T061111Z
LAST-MODIFIED:20250102T061111Z
UID:10004384-1742725800-1742738400@www.downtownithaca.com
SUMMARY:Winter Market at Trimphammer Marketplace
DESCRIPTION:Local produce\, meats\, cheeses\, artisan goods\, prepared food and more.
URL:https://www.downtownithaca.com/event/winter-market-at-trimphammer-marketplace/2025-03-23/
LOCATION:Triphammer Marketplace\, 2255 Triphammer Road\, Ithaca\, 14850
CATEGORIES:Featured
ATTACH;FMTTYPE=image/jpeg:https://www.downtownithaca.com/wp-content/uploads/Winter-Market-Quarter-Card-2.1.jpeg
ORGANIZER;CN="Ithaca Farmers Market":MAILTO:info@ithacamarket.com
END:VEVENT
BEGIN:VEVENT
DTSTART;TZID=America/New_York:20241029T110000
DTEND;TZID=America/New_York:20241029T140000
DTSTAMP:20260422T095159
CREATED:20240715T163309Z
LAST-MODIFIED:20240715T163310Z
UID:10003931-1730199600-1730210400@www.downtownithaca.com
SUMMARY:Ithaca DOWNTOWN Farmers Market
DESCRIPTION:Ithaca Farmers Market returns to DeWitt Park on Tuesday afternoons this summer! \nCome to the shady oasis of DeWitt Park (corners of Cayuga and Buffalo St) on Tuesdays from 11 AM to 2P PM to grab lunch and shop for your weekly groceries including seasonal produce\, locally raised meat\, dairy\, cheese\, and other fresh or prepared grocery items. We welcome use of SNAP/EBT benefits. You can shop for local art and gifts and enjoy a hot meal during this short summer season that will include live music\, a Tompkins County Public Library story time and other activities. \nThe Ithaca Farmers Market emphasizes a direct connection between producer and consumer and promotes and strengthens local agriculture. Our Market features sustainable practices and a diverse array of farm and artisan products\, as well as prepared foods\, all produced within 30 miles.
URL:https://www.downtownithaca.com/event/ithaca-downtown-farmers-market-2/2024-10-29/
LOCATION:Dewitt Park\, 102 E Court Street\, Ithaca\, 14850\, United States
CATEGORIES:Featured
ATTACH;FMTTYPE=image/png:https://www.downtownithaca.com/wp-content/uploads/tuesdaymarket.png
ORGANIZER;CN="Ithaca Farmers Market":MAILTO:info@ithacamarket.com
END:VEVENT
BEGIN:VEVENT
DTSTART;TZID=America/New_York:20230919T150000
DTEND;TZID=America/New_York:20230919T180000
DTSTAMP:20260422T095159
CREATED:20230706T191702Z
LAST-MODIFIED:20230706T191702Z
UID:10002777-1695135600-1695146400@www.downtownithaca.com
SUMMARY:Tuesday Downtown Market at DeWitt Park
DESCRIPTION:Ithaca Farmers Market returns to DeWitt Park on Tuesday afternoons this summer!\nCome to the shady oasis of DeWitt Park on Tuesday afternoons from 3-6 PM to shop for your weekly groceries including seasonal produce\, locally-raised meat\, dairy\, cheese\, and other fresh or prepared grocery items. We welcome use of SNAP/EBT benefits. You can shop for local art and gifts and enjoy a hot meal during this short summer season that will include live music and other activities. \nThe Ithaca Farmers Market emphasizes a direct connection between producer and consumer\, and promotes and strengthens local agriculture. Our Market features sustainable practices and a diverse array of farm and artisan products\, as well as prepared foods\, all produced within 30 miles.
URL:https://www.downtownithaca.com/event/tuesday-downtown-market-at-dewitt-park/2023-09-19/
ATTACH;FMTTYPE=image/jpeg:https://www.downtownithaca.com/wp-content/uploads/Downtown-Market-social-media-square-June-2023.jpg
ORGANIZER;CN="Ithaca Farmers Market":MAILTO:info@ithacamarket.com
END:VEVENT
END:VCALENDAR