BEGIN:VCALENDAR
VERSION:2.0
PRODID:-//Downtown Ithaca - ECPv6.15.20//NONSGML v1.0//EN
CALSCALE:GREGORIAN
METHOD:PUBLISH
X-WR-CALNAME:Downtown Ithaca
X-ORIGINAL-URL:https://www.downtownithaca.com
X-WR-CALDESC:Events for Downtown Ithaca
REFRESH-INTERVAL;VALUE=DURATION:PT1H
X-Robots-Tag:noindex
X-PUBLISHED-TTL:PT1H
BEGIN:VTIMEZONE
TZID:America/New_York
BEGIN:DAYLIGHT
TZOFFSETFROM:-0500
TZOFFSETTO:-0400
TZNAME:EDT
DTSTART:20240310T070000
END:DAYLIGHT
BEGIN:STANDARD
TZOFFSETFROM:-0400
TZOFFSETTO:-0500
TZNAME:EST
DTSTART:20241103T060000
END:STANDARD
BEGIN:DAYLIGHT
TZOFFSETFROM:-0500
TZOFFSETTO:-0400
TZNAME:EDT
DTSTART:20250309T070000
END:DAYLIGHT
BEGIN:STANDARD
TZOFFSETFROM:-0400
TZOFFSETTO:-0500
TZNAME:EST
DTSTART:20251102T060000
END:STANDARD
BEGIN:DAYLIGHT
TZOFFSETFROM:-0500
TZOFFSETTO:-0400
TZNAME:EDT
DTSTART:20260308T070000
END:DAYLIGHT
BEGIN:STANDARD
TZOFFSETFROM:-0400
TZOFFSETTO:-0500
TZNAME:EST
DTSTART:20261101T060000
END:STANDARD
END:VTIMEZONE
BEGIN:VEVENT
DTSTART;TZID=America/New_York:20250423T063000
DTEND;TZID=America/New_York:20250423T220000
DTSTAMP:20260425T095340
CREATED:20250415T025138Z
LAST-MODIFIED:20250415T025138Z
UID:10004592-1745389800-1745445600@www.downtownithaca.com
SUMMARY:Enjoy a delicious meal at Monk's whil supporting the Ithaca Garden Club!
DESCRIPTION:Please join us at Monks on the Commons on Wednesday\, April 23\, for a meal or drink (or both!).\nThe Ithaca Garden Club (IGC) will be honored as part of the “Monks Gives Back” program. 50% of the food and beverage proceeds for the entire day will be donated to the IGC! Along with numerous community projects\, the IGC has planted 180\,000 golden daffodils in Cass Park so far…we plan to continue adding even more bulbs to this collection.\nMonks serves breakfast\, lunch\, and dinner\, and IGC members will greet guests at the bar from 5 to 7 PM\, as well as joining in the event throughout dinnertime.\nMonks is located inside the Ithaca Marriott Downtown on the Commons at 120 S. Aurora St.\, Ithaca\, NY.\nParking is available at the Seneca Street Garage or the new Green Street Garage next to Cinemapolis.\nHope to see you there!
URL:https://www.downtownithaca.com/event/enjoy-a-delicious-meal-at-monks-whil-supporting-the-ithaca-garden-club/
LOCATION:Monks on The Commons\, 120 S. Aurora Street\, Ithaca\, New York\, 14850
CATEGORIES:Featured
ATTACH;FMTTYPE=image/jpeg:https://www.downtownithaca.com/wp-content/uploads/bicyclist-with-DAFFS-1.jpg
ORGANIZER;CN="Ithaca Garden Club":MAILTO:slb.ithacagardenclub@gmail.com
END:VEVENT
END:VCALENDAR