BEGIN:VCALENDAR
VERSION:2.0
PRODID:-//Downtown Ithaca - ECPv6.15.20//NONSGML v1.0//EN
CALSCALE:GREGORIAN
METHOD:PUBLISH
X-WR-CALNAME:Downtown Ithaca
X-ORIGINAL-URL:https://www.downtownithaca.com
X-WR-CALDESC:Events for Downtown Ithaca
REFRESH-INTERVAL;VALUE=DURATION:PT1H
X-Robots-Tag:noindex
X-PUBLISHED-TTL:PT1H
BEGIN:VTIMEZONE
TZID:America/New_York
BEGIN:DAYLIGHT
TZOFFSETFROM:-0500
TZOFFSETTO:-0400
TZNAME:EDT
DTSTART:20220313T070000
END:DAYLIGHT
BEGIN:STANDARD
TZOFFSETFROM:-0400
TZOFFSETTO:-0500
TZNAME:EST
DTSTART:20221106T060000
END:STANDARD
BEGIN:DAYLIGHT
TZOFFSETFROM:-0500
TZOFFSETTO:-0400
TZNAME:EDT
DTSTART:20230312T070000
END:DAYLIGHT
BEGIN:STANDARD
TZOFFSETFROM:-0400
TZOFFSETTO:-0500
TZNAME:EST
DTSTART:20231105T060000
END:STANDARD
BEGIN:DAYLIGHT
TZOFFSETFROM:-0500
TZOFFSETTO:-0400
TZNAME:EDT
DTSTART:20240310T070000
END:DAYLIGHT
BEGIN:STANDARD
TZOFFSETFROM:-0400
TZOFFSETTO:-0500
TZNAME:EST
DTSTART:20241103T060000
END:STANDARD
END:VTIMEZONE
BEGIN:VEVENT
DTSTART;TZID=America/New_York:20230318T090000
DTEND;TZID=America/New_York:20230318T160000
DTSTAMP:20260421T083456
CREATED:20230302T150838Z
LAST-MODIFIED:20230302T150838Z
UID:10000057-1679130000-1679155200@www.downtownithaca.com
SUMMARY:Ithaca Fishing and Conservation Day
DESCRIPTION:ITHACA—Outdoors enthusiasts\, fans of healthy rivers and streams\, and those who fish and boat are invited to the 29th Annual Ithaca Fishing and Conservation Day on Saturday\, March 18\, 2023 from 9 a.m. to 4 p.m. at Boynton Middle School in Ithaca\, N.Y. Come and experience a day of fun family-friendly activities\, exhibits\, and education focused on fishing and environmental conservation\, sponsored by the Leon Chandler Chapter of Trout Unlimited. \nThe event is open to the public and there is no admission charge\, although donations are greatly appreciated. Proceeds benefit youth environmental education activities and the Finger Lakes Trout in the Classroom program\, which is currently operating in 20 schools within nine local school districts and is co-sponsored by the Leon Chandler Chapter of Trout Unlimited and Discover Cayuga Lake. \nPrograms planned throughout the day will include: \n– hands-on activities with one of our Trout in the Classroom fish tanks; \n– a demonstration aquarium featuring live\, locally collected aquatic insect specimens; \n– fly-tying instruction; \n– fly and spin casting instruction (weather permitting) and the opportunity to learn fishing and fly-tying tips from masters from around the region. \nExhibitors include the Discover Cayuga Lake Floating Classroom Project\, the Finger Lakes Trout in the Classroom Project\, Twin Tiers Five Rivers Chapter of the Federation of Fly Fishers\, the U.S. Coast Guard Auxiliary\, Cayuga Nature Center\, the Finger Lakes Land Trust\, Tompkins County Soil and Water Conservation District\, and more. \nAn array of local vendors and guides will be on hand with a wide variety of goods for purchase. These include: Badger Creek Fly Tying\, Eric Mastroberti’s Streamflow Fly Design\, Colin Nash Flies\, and others. \nFor directions please visit: https://www.facebook.com/LeonChandlerTU
URL:https://www.downtownithaca.com/event/ithaca-fishing-and-conservation-day/
LOCATION:Boynton Middle School\, 1601 N Cayuga St\, Ithaca\, 14850
ATTACH;FMTTYPE=image/png:https://www.downtownithaca.com/wp-content/uploads/Leon-Chandler-Chapter-of-TU.png
ORGANIZER;CN="Leon Chandler Trout Unlimited":MAILTO:lchandler@gmail.com
END:VEVENT
END:VCALENDAR