BEGIN:VCALENDAR
VERSION:2.0
PRODID:-//Downtown Ithaca - ECPv6.15.20//NONSGML v1.0//EN
CALSCALE:GREGORIAN
METHOD:PUBLISH
X-ORIGINAL-URL:https://www.downtownithaca.com
X-WR-CALDESC:Events for Downtown Ithaca
REFRESH-INTERVAL;VALUE=DURATION:PT1H
X-Robots-Tag:noindex
X-PUBLISHED-TTL:PT1H
BEGIN:VTIMEZONE
TZID:America/New_York
BEGIN:DAYLIGHT
TZOFFSETFROM:-0500
TZOFFSETTO:-0400
TZNAME:EDT
DTSTART:20240310T070000
END:DAYLIGHT
BEGIN:STANDARD
TZOFFSETFROM:-0400
TZOFFSETTO:-0500
TZNAME:EST
DTSTART:20241103T060000
END:STANDARD
BEGIN:DAYLIGHT
TZOFFSETFROM:-0500
TZOFFSETTO:-0400
TZNAME:EDT
DTSTART:20250309T070000
END:DAYLIGHT
BEGIN:STANDARD
TZOFFSETFROM:-0400
TZOFFSETTO:-0500
TZNAME:EST
DTSTART:20251102T060000
END:STANDARD
BEGIN:DAYLIGHT
TZOFFSETFROM:-0500
TZOFFSETTO:-0400
TZNAME:EDT
DTSTART:20260308T070000
END:DAYLIGHT
BEGIN:STANDARD
TZOFFSETFROM:-0400
TZOFFSETTO:-0500
TZNAME:EST
DTSTART:20261101T060000
END:STANDARD
END:VTIMEZONE
BEGIN:VEVENT
DTSTART;TZID=America/New_York:20251017T183000
DTEND;TZID=America/New_York:20251017T200000
DTSTAMP:20260424T182844
CREATED:20250905T202610Z
LAST-MODIFIED:20250905T202610Z
UID:10005007-1760725800-1760731200@www.downtownithaca.com
SUMMARY:The Songs of the Shakers
DESCRIPTION:Thanks to the generous support of the Arts Council of the Southern Finger Lakes\, guitarist and composer Liam Lawson will perform his new arrangements of traditional Shaker songs with support from Josh Chamberlain (upright bass)\, Ali Diemecke (violin)\, Olive Mitra (percussion)\, and Christopher Ploss (accordion).  \nLiam is a professional composer and multi-instrumentalist\, who performs across the American northeast. He is also a music educator\, amateur music historian\, and ethnomusicologist. \nPerformances are suitable for all ages and admittance is free. Come enjoy the music and storytelling
URL:https://www.downtownithaca.com/event/the-songs-of-the-shakers/
CATEGORIES:Featured
ATTACH;FMTTYPE=image/jpeg:https://www.downtownithaca.com/wp-content/uploads/IMG_3632-1.jpg
ORGANIZER;CN="Liam Lawson Music":MAILTO:liamlawsonbooking@gmail.com
END:VEVENT
END:VCALENDAR