BEGIN:VCALENDAR
VERSION:2.0
PRODID:-//Downtown Ithaca - ECPv6.15.20//NONSGML v1.0//EN
CALSCALE:GREGORIAN
METHOD:PUBLISH
X-ORIGINAL-URL:https://www.downtownithaca.com
X-WR-CALDESC:Events for Downtown Ithaca
REFRESH-INTERVAL;VALUE=DURATION:PT1H
X-Robots-Tag:noindex
X-PUBLISHED-TTL:PT1H
BEGIN:VTIMEZONE
TZID:America/New_York
BEGIN:DAYLIGHT
TZOFFSETFROM:-0500
TZOFFSETTO:-0400
TZNAME:EDT
DTSTART:20230312T070000
END:DAYLIGHT
BEGIN:STANDARD
TZOFFSETFROM:-0400
TZOFFSETTO:-0500
TZNAME:EST
DTSTART:20231105T060000
END:STANDARD
BEGIN:DAYLIGHT
TZOFFSETFROM:-0500
TZOFFSETTO:-0400
TZNAME:EDT
DTSTART:20240310T070000
END:DAYLIGHT
BEGIN:STANDARD
TZOFFSETFROM:-0400
TZOFFSETTO:-0500
TZNAME:EST
DTSTART:20241103T060000
END:STANDARD
BEGIN:DAYLIGHT
TZOFFSETFROM:-0500
TZOFFSETTO:-0400
TZNAME:EDT
DTSTART:20250309T070000
END:DAYLIGHT
BEGIN:STANDARD
TZOFFSETFROM:-0400
TZOFFSETTO:-0500
TZNAME:EST
DTSTART:20251102T060000
END:STANDARD
BEGIN:DAYLIGHT
TZOFFSETFROM:-0500
TZOFFSETTO:-0400
TZNAME:EDT
DTSTART:20260308T070000
END:DAYLIGHT
BEGIN:STANDARD
TZOFFSETFROM:-0400
TZOFFSETTO:-0500
TZNAME:EST
DTSTART:20261101T060000
END:STANDARD
END:VTIMEZONE
BEGIN:VEVENT
DTSTART;TZID=America/New_York:20250922T190000
DTEND;TZID=America/New_York:20250922T210000
DTSTAMP:20260424T131518
CREATED:20250917T045813Z
LAST-MODIFIED:20250917T045813Z
UID:10005031-1758567600-1758574800@www.downtownithaca.com
SUMMARY:Ithaca Irrealistic Readings
DESCRIPTION:A boozy reading series featuring authors of the fantastic\, the surreal\, the absurd\, the speculative\, and the odd.  \nThis months featured authors are Don Pizzaro\, and Parker M.O’Neill
URL:https://www.downtownithaca.com/event/ithaca-irrealistic-readings-2/
LOCATION:Liquid State Brewery\, 620 W. Green St.\, Ithaca
CATEGORIES:Featured
ATTACH;FMTTYPE=image/png:https://www.downtownithaca.com/wp-content/uploads/Ithaca-Irrealist-Readings-September-2025-1.png
ORGANIZER;CN="Liquid State Brewery":MAILTO:art@liquidstatebeer.com
END:VEVENT
BEGIN:VEVENT
DTSTART;TZID=America/New_York:20250820T180000
DTEND;TZID=America/New_York:20250905T210000
DTSTAMP:20260424T131518
CREATED:20250820T184408Z
LAST-MODIFIED:20250820T184408Z
UID:10004949-1755712800-1757106000@www.downtownithaca.com
SUMMARY:Pocket Bandits Live
DESCRIPTION:Experience Ithaca’s favorite emerging progressive funk-fusion trio\, Pocket Bandits! Hear Joe\, Simon\, and Sam lead an evening of original material and surprise covers in the barrel room at Liquid State Brewing Co in Downtown Ithaca.\nThey’ll be joined throughout the night by a host of special guest musicians including Micheal Schuler\, Emmett Scott\, R.Aaron Walters and many more!\nCheck out Liquidstatebeer.com/events for more information.\n$15/PWYC
URL:https://www.downtownithaca.com/event/pocket-bandits-live/
LOCATION:Liquid State Brewery\, 620 W. Green St.\, Ithaca
CATEGORIES:Featured
ATTACH;FMTTYPE=image/png:https://www.downtownithaca.com/wp-content/uploads/Pocket-Bandits-Liquid-State-9-5-2025-Instagram.png
ORGANIZER;CN="Liquid State Brewery":MAILTO:art@liquidstatebeer.com
END:VEVENT
BEGIN:VEVENT
DTSTART;TZID=America/New_York:20250513T190000
DTEND;TZID=America/New_York:20250513T210000
DTSTAMP:20260424T131518
CREATED:20250508T171138Z
LAST-MODIFIED:20250508T171138Z
UID:10004678-1747162800-1747170000@www.downtownithaca.com
SUMMARY:Ithaca Irrealistic Readings
DESCRIPTION:A boozy reading series featuring authors of the fantastic\, the surreal\, the absurd\, the speculative\, and the odd. \nThis months featured authors are Jennifer Hudak\, David DeGraff\, and Edward Ashton
URL:https://www.downtownithaca.com/event/ithaca-irrealistic-readings/
LOCATION:Liquid State Brewery\, 620 W. Green St.\, Ithaca
CATEGORIES:Featured
ATTACH;FMTTYPE=image/png:https://www.downtownithaca.com/wp-content/uploads/Ithaca-Irrealist-Readings-May-20252-1.png
ORGANIZER;CN="Liquid State Brewery":MAILTO:art@liquidstatebeer.com
END:VEVENT
BEGIN:VEVENT
DTSTART;TZID=America/New_York:20250510T200000
DTEND;TZID=America/New_York:20250510T220000
DTSTAMP:20260424T131518
CREATED:20250508T174732Z
LAST-MODIFIED:20250508T174732Z
UID:10004674-1746907200-1746914400@www.downtownithaca.com
SUMMARY:Karaoke at the Brewery!
DESCRIPTION:Come sing your heart out with on-stage karaoke\, hosted by Lil’b!
URL:https://www.downtownithaca.com/event/karaoke-at-the-brewery-4/
LOCATION:Liquid State Brewery\, 620 W. Green St.\, Ithaca
CATEGORIES:Featured
ATTACH;FMTTYPE=image/jpeg:https://www.downtownithaca.com/wp-content/uploads/karaoke_5.10.jpg
ORGANIZER;CN="Liquid State Brewery":MAILTO:art@liquidstatebeer.com
END:VEVENT
BEGIN:VEVENT
DTSTART;TZID=America/New_York:20250214T200000
DTEND;TZID=America/New_York:20250214T220000
DTSTAMP:20260424T131518
CREATED:20250205T152329Z
LAST-MODIFIED:20250205T152329Z
UID:10004431-1739563200-1739570400@www.downtownithaca.com
SUMMARY:Valentine's Day Karaoke With Lil'b
DESCRIPTION:Come Celebrate love with a night of Karaoke- hosted by Lil’b (formerly known as Brandon Fortenberry) and a participating partner of “Ithaca Loves Teachers”. The stage performance of your dreams is waiting and what a fun way to celebrate the season of love!
URL:https://www.downtownithaca.com/event/valentines-day-karaoke-with-lilb/
LOCATION:Liquid State Brewery\, 620 W. Green St.\, Ithaca
CATEGORIES:Featured
ORGANIZER;CN="Liquid State Brewery":MAILTO:art@liquidstatebeer.com
END:VEVENT
BEGIN:VEVENT
DTSTART;TZID=America/New_York:20250208T130000
DTEND;TZID=America/New_York:20250208T170000
DTSTAMP:20260424T131518
CREATED:20250130T202302Z
LAST-MODIFIED:20250130T202302Z
UID:10004423-1739019600-1739034000@www.downtownithaca.com
SUMMARY:Nice Racks! Vintage and Locally Made Market
DESCRIPTION:Shop the tastefully curated racks of 10 vintage and locally made vendors. Chicken\, Beer and unique fashion gems for everyone!
URL:https://www.downtownithaca.com/event/nice-racks-vintage-and-locally-made-market/
LOCATION:Liquid State Brewery\, 620 W. Green St.\, Ithaca
CATEGORIES:Featured
ATTACH;FMTTYPE=image/jpeg:https://www.downtownithaca.com/wp-content/uploads/niceracks8.jpg
ORGANIZER;CN="Liquid State Brewery":MAILTO:art@liquidstatebeer.com
END:VEVENT
BEGIN:VEVENT
DTSTART;TZID=America/New_York:20250207T190000
DTEND;TZID=America/New_York:20250207T220000
DTSTAMP:20260424T131518
CREATED:20250204T040540Z
LAST-MODIFIED:20250204T040540Z
UID:10004429-1738954800-1738965600@www.downtownithaca.com
SUMMARY:Scuba Bowl 3
DESCRIPTION:For the third annual Super Bowl weekend running comes – Scuba Bowl! A live musical performance from Ithaca’s voted “best bar band” Scuba Jerry\, playing the music from the great Jerry Garcia Band.
URL:https://www.downtownithaca.com/event/scuba-bowl-3-2/
LOCATION:Liquid State Brewery\, 620 W. Green St.\, Ithaca
CATEGORIES:Featured
ATTACH;FMTTYPE=image/png:https://www.downtownithaca.com/wp-content/uploads/Screen-Shot-2025-02-03-at-5.19.18-PM.png
ORGANIZER;CN="Liquid State Brewery":MAILTO:art@liquidstatebeer.com
END:VEVENT
BEGIN:VEVENT
DTSTART;TZID=America/New_York:20250203T190000
DTEND;TZID=America/New_York:20250203T220000
DTSTAMP:20260424T131518
CREATED:20250204T040419Z
LAST-MODIFIED:20250204T040419Z
UID:10004428-1738609200-1738620000@www.downtownithaca.com
SUMMARY:Scuba Bowl 3
DESCRIPTION:For the third annual Super Bowl weekend running comes – Scuba Bowl! A live musical performance from Ithaca’s voted “best bar band” Scuba Jerry\, playing the music from the great Jerry Garcia Band. \nFriday\, February 7th\, is 7-10pm\n21+
URL:https://www.downtownithaca.com/event/scuba-bowl-3/
LOCATION:Liquid State Brewery\, 620 W. Green St.\, Ithaca
CATEGORIES:Featured
ORGANIZER;CN="Liquid State Brewery":MAILTO:art@liquidstatebeer.com
END:VEVENT
BEGIN:VEVENT
DTSTART;TZID=America/New_York:20250125T183000
DTEND;TZID=America/New_York:20250125T210000
DTSTAMP:20260424T131518
CREATED:20250109T194522Z
LAST-MODIFIED:20250109T194522Z
UID:10004391-1737829800-1737838800@www.downtownithaca.com
SUMMARY:Pocket Bandits Album Release
DESCRIPTION:Celebrating the debut LP from Ithaca’s favorite emerging progressive funk-fusion trio! Hear Joe\, Simon\, and Sam lead an evening of original material and surprise covers in the barrel room at Liquid State Brewing Co in Downtown Ithaca.\nThey’ll be joined throughout the night by a host of special guests musicians\, including Ali Diemecke (La Llorona\, Ilium Works) Joe Gibson (The Shuffle Bros\, Spacetrain)\, Mandy Goldman (Noon Fifteen)\, Amanda Massa (Thru Spectrums)\, Bob McMahon (Fall Creek Brass Band\, Thru Spectrums)\, Harry Nichols (Fusebox\, Noon Fifteen)\, Josh Oxford (Oxtet)\, Alec Staples (Fall Creek Brass Band\, Thru Spectrums)\, Michael Wu (Gunpoets\, Front & Main) AND MORE!\nDoors 6:30 PM\nMusic 7:00 PM\n$15 cover\nPreorder “Nine by Pocket Bandits” here:\nhttps://pocketbandits.bandcamp.com/…/nine-by-pocket…\nhttps://pocketbandits.com
URL:https://www.downtownithaca.com/event/pocket-bandits-album-release/
ATTACH;FMTTYPE=image/jpeg:https://www.downtownithaca.com/wp-content/uploads/pocketbandits_releaseposter-01-scaled.jpg
ORGANIZER;CN="Liquid State Brewery":MAILTO:art@liquidstatebeer.com
END:VEVENT
BEGIN:VEVENT
DTSTART;TZID=America/New_York:20250124T200000
DTEND;TZID=America/New_York:20250124T230000
DTSTAMP:20260424T131518
CREATED:20250121T194702Z
LAST-MODIFIED:20250121T194702Z
UID:10004409-1737748800-1737759600@www.downtownithaca.com
SUMMARY:Karaoke!
DESCRIPTION:Come belt it our for on-stage karaoke with your host Lil’b (Formerly known as Brandon Fortenberry).
URL:https://www.downtownithaca.com/event/karaoke/
LOCATION:Liquid State Brewery\, 620 W. Green St.\, Ithaca
CATEGORIES:Featured
ATTACH;FMTTYPE=image/png:https://www.downtownithaca.com/wp-content/uploads/1-3.png
ORGANIZER;CN="Liquid State Brewery":MAILTO:art@liquidstatebeer.com
END:VEVENT
BEGIN:VEVENT
DTSTART;TZID=America/New_York:20241215T130000
DTEND;TZID=America/New_York:20241215T170000
DTSTAMP:20260424T131518
CREATED:20241210T215820Z
LAST-MODIFIED:20241210T215820Z
UID:10004309-1734267600-1734282000@www.downtownithaca.com
SUMMARY:Holiday Market and Surf Renegades
DESCRIPTION:Please join us for our annual holiday maker’s market and Surf Renegades Live performance! Shop the goods of eight local artisans including stain glass\, paintings\, paper goods + prints\, handmade clothing\, vintage clothing and most importantly holiday gifts! Surf through the holiday rush with us!
URL:https://www.downtownithaca.com/event/holiday-market-and-surf-renegades/
LOCATION:Liquid State Brewery\, 620 W. Green St.\, Ithaca
CATEGORIES:Featured
ATTACH;FMTTYPE=image/png:https://www.downtownithaca.com/wp-content/uploads/Artboard-2-3.png
ORGANIZER;CN="Liquid State Brewery":MAILTO:art@liquidstatebeer.com
END:VEVENT
BEGIN:VEVENT
DTSTART;TZID=America/New_York:20241213T200000
DTEND;TZID=America/New_York:20241213T220000
DTSTAMP:20260424T131518
CREATED:20241206T141156Z
LAST-MODIFIED:20241206T141156Z
UID:10004304-1734120000-1734127200@www.downtownithaca.com
SUMMARY:Ugly Sweater Karaoke
DESCRIPTION:Suit up in those ugly holiday sweaters and get your vocal cords warmed up by Friday\, December 13th\, 8pm at Liquid State Brewing Co. Spreading the cheer is our MC Brandon Fortenberry\, with prizes for the ugliest sweater and the best holiday song sung!
URL:https://www.downtownithaca.com/event/ugly-sweater-karaoke/
LOCATION:Liquid State Brewery\, 620 W. Green St.\, Ithaca
CATEGORIES:Featured
ATTACH;FMTTYPE=image/png:https://www.downtownithaca.com/wp-content/uploads/ugly-sw-IG-square.png
ORGANIZER;CN="Liquid State Brewery":MAILTO:art@liquidstatebeer.com
END:VEVENT
BEGIN:VEVENT
DTSTART;TZID=America/New_York:20241103T130000
DTEND;TZID=America/New_York:20241103T170000
DTSTAMP:20260424T131518
CREATED:20241015T190555Z
LAST-MODIFIED:20241015T190555Z
UID:10004200-1730638800-1730653200@www.downtownithaca.com
SUMMARY:Nice Racks Market
DESCRIPTION:Fall fits for all! 12 vintage vendors and local product creators bringing Ithaca the very best mens and womens clothing\, accessories\, footwear and handbags. Plus chicken and beer made on site!
URL:https://www.downtownithaca.com/event/nice-racks-market/
LOCATION:Liquid State Brewery\, 620 W. Green St.\, Ithaca
CATEGORIES:Featured
ATTACH;FMTTYPE=image/png:https://www.downtownithaca.com/wp-content/uploads/NICERACKS6.IG_.png
ORGANIZER;CN="Liquid State Brewery":MAILTO:art@liquidstatebeer.com
END:VEVENT
BEGIN:VEVENT
DTSTART;TZID=America/New_York:20241003T190000
DTEND;TZID=America/New_York:20241003T210000
DTSTAMP:20260424T131518
CREATED:20240924T160914Z
LAST-MODIFIED:20240924T160914Z
UID:10004155-1727982000-1727989200@www.downtownithaca.com
SUMMARY:Case 84: Adopted in the U.S.A
DESCRIPTION:Case 84: Adopted in the U.S.A\, is an immersive journey through Edward’s experience growing up in Philadelphia as a transracial adoptee and touches on the influence of American media on identity\, complex family dynamics\, and ultimately what it means to be an American. There are silly\, introspective\, and also painful moments in the show\, including Edward’s trip back to Seoul\, Korea to learn more about his birth family. Edward’s delivery gives room for viewers to laugh while also reflecting on the universal themes of identity\, belonging\, and family. As Edward’s journey unfolds\, viewers have the opportunity to learn alongside him\, gaining insights into the challenges faced by adoptees and the power of self-discovery. \nEdward is a two-time Emmy nominated Senior Writer/Producer for Cable Entertainment Brand Creative at NBCUniversal. He is also a Co-Founder of The Asian Comedy Fest. The largest\, longest running Asian led comedy fest in the country. \nFor more information:\nhttps://linktr.ee/epopski\ninstagram.com/epopski
URL:https://www.downtownithaca.com/event/case-84-adopted-in-the-u-s-a/
LOCATION:Liquid State Brewery\, 620 W. Green St.\, Ithaca
CATEGORIES:Featured
ATTACH;FMTTYPE=image/jpeg:https://www.downtownithaca.com/wp-content/uploads/Ed.IG_.jpg
ORGANIZER;CN="Liquid State Brewery":MAILTO:art@liquidstatebeer.com
END:VEVENT
BEGIN:VEVENT
DTSTART;TZID=America/New_York:20240914T140000
DTEND;TZID=America/New_York:20240914T190000
DTSTAMP:20260424T131518
CREATED:20240909T181437Z
LAST-MODIFIED:20240909T181437Z
UID:10004122-1726322400-1726340400@www.downtownithaca.com
SUMMARY:Ithaca Oktoberfest Celebration 2024
DESCRIPTION:Our 7th Annual Oktoberfest is happening Saturday\, September 14th from 2 – 7 PM.
URL:https://www.downtownithaca.com/event/ithaca-oktoberfest-celebration-2024/
LOCATION:Liquid State Brewery\, 620 W. Green St.\, Ithaca
CATEGORIES:Featured
ATTACH;FMTTYPE=image/png:https://www.downtownithaca.com/wp-content/uploads/2.png
ORGANIZER;CN="Liquid State Brewery":MAILTO:art@liquidstatebeer.com
END:VEVENT
BEGIN:VEVENT
DTSTART;TZID=America/New_York:20240913T200000
DTEND;TZID=America/New_York:20240913T220000
DTSTAMP:20260424T131518
CREATED:20240912T185840Z
LAST-MODIFIED:20240912T185840Z
UID:10004124-1726257600-1726264800@www.downtownithaca.com
SUMMARY:Karaoke at the Brewery!
DESCRIPTION:Hey Superstars! Come sing your heart out with us!
URL:https://www.downtownithaca.com/event/karaoke-at-the-brewery-3/
LOCATION:Liquid State Brewery\, 620 W. Green St.\, Ithaca
CATEGORIES:Featured
ATTACH;FMTTYPE=image/png:https://www.downtownithaca.com/wp-content/uploads/carry-o-kee-fino-4.png
ORGANIZER;CN="Liquid State Brewery":MAILTO:art@liquidstatebeer.com
END:VEVENT
BEGIN:VEVENT
DTSTART;TZID=America/New_York:20240516T200000
DTEND;TZID=America/New_York:20240516T220000
DTSTAMP:20260424T131518
CREATED:20240511T165657Z
LAST-MODIFIED:20240511T165657Z
UID:10003858-1715889600-1715896800@www.downtownithaca.com
SUMMARY:Karaoke at the Brewery!
DESCRIPTION:Brandon Fortenberry hosts another fun evening of free and public karaoke. Let your inner superstar out!
URL:https://www.downtownithaca.com/event/karaoke-at-the-brewery-2/
LOCATION:Liquid State Brewery\, 620 W. Green St.\, Ithaca
CATEGORIES:Featured
ATTACH;FMTTYPE=image/png:https://www.downtownithaca.com/wp-content/uploads/carry-o-kee-fino-2.png
ORGANIZER;CN="Liquid State Brewery":MAILTO:art@liquidstatebeer.com
END:VEVENT
BEGIN:VEVENT
DTSTART;TZID=America/New_York:20240411T200000
DTEND;TZID=America/New_York:20240411T220000
DTSTAMP:20260424T131518
CREATED:20240409T161816Z
LAST-MODIFIED:20240409T161816Z
UID:10003798-1712865600-1712872800@www.downtownithaca.com
SUMMARY:Movie Night! O Brother\, Where Art Thou?
DESCRIPTION:Come enjoy the hit film written and directed by the Coen brothers\, O Brother\, Where Art Thou. Order drinks and food right to your table. Space is limited so get your tickets today!
URL:https://www.downtownithaca.com/event/movie-night-o-brother-where-art-thou/
LOCATION:Liquid State Brewery\, 620 W. Green St.\, Ithaca
CATEGORIES:Featured
ATTACH;FMTTYPE=image/png:https://www.downtownithaca.com/wp-content/uploads/Artboard-1-5.png
ORGANIZER;CN="Liquid State Brewery":MAILTO:art@liquidstatebeer.com
END:VEVENT
BEGIN:VEVENT
DTSTART;TZID=America/New_York:20240408T183000
DTEND;TZID=America/New_York:20240408T203000
DTSTAMP:20260424T131518
CREATED:20240409T161857Z
LAST-MODIFIED:20240409T161857Z
UID:10003799-1712601000-1712608200@www.downtownithaca.com
SUMMARY:Ryan Petereson Trio - Jazz Jam Session
DESCRIPTION:Ryan’s trio will play a couple tunes to warm up the stage and then open the stage to members of the local jazz community. Each person who signs up will get approximately 2 tunes with the band before rotating. \nBring your instrument and join in with this great band with Ryan Peterson on guitar\, August Bish on upright bass\, and Owen Erickson on drums! \nThe $5 Suggested Donation goes directly to the band and to supporting the session.
URL:https://www.downtownithaca.com/event/ryan-petereson-trio-jazz-jam-session/
LOCATION:Liquid State Brewery\, 620 W. Green St.\, Ithaca
CATEGORIES:Featured
ATTACH;FMTTYPE=image/png:https://www.downtownithaca.com/wp-content/uploads/Jazz-Mondays.png
ORGANIZER;CN="Liquid State Brewery":MAILTO:art@liquidstatebeer.com
END:VEVENT
BEGIN:VEVENT
DTSTART;TZID=America/New_York:20240329T200000
DTEND;TZID=America/New_York:20240329T220000
DTSTAMP:20260424T131518
CREATED:20240327T133737Z
LAST-MODIFIED:20240327T133737Z
UID:10003744-1711742400-1711749600@www.downtownithaca.com
SUMMARY:Karaoke at the Brewery!
DESCRIPTION:Come sing your little heart out\, this Friday night March 29th\, 8-10pm
URL:https://www.downtownithaca.com/event/karaoke-at-the-brewery/
LOCATION:Liquid State Brewery\, 620 W. Green St.\, Ithaca
CATEGORIES:Featured
ATTACH;FMTTYPE=image/jpeg:https://www.downtownithaca.com/wp-content/uploads/carry-o-kee-fino-1-scaled.jpg
ORGANIZER;CN="Liquid State Brewery":MAILTO:art@liquidstatebeer.com
END:VEVENT
BEGIN:VEVENT
DTSTART;TZID=America/New_York:20240229T190000
DTEND;TZID=America/New_York:20240229T210000
DTSTAMP:20260424T131518
CREATED:20240222T051748Z
LAST-MODIFIED:20240222T051748Z
UID:10003658-1709233200-1709240400@www.downtownithaca.com
SUMMARY:Movie Night at Liquid State
DESCRIPTION:We’re playing the Oscar Nominated Barbie Movie on our Big Screen in the Barrel Room. Beverages and Silo food delivered directly to your table
URL:https://www.downtownithaca.com/event/movie-night-at-liquid-state/
LOCATION:Liquid State Brewery\, 620 W. Green St.\, Ithaca
CATEGORIES:Featured
ATTACH;FMTTYPE=image/jpeg:https://www.downtownithaca.com/wp-content/uploads/0069651-FacebookImage.jpeg
ORGANIZER;CN="Liquid State Brewery":MAILTO:art@liquidstatebeer.com
END:VEVENT
END:VCALENDAR