BEGIN:VCALENDAR
VERSION:2.0
PRODID:-//Downtown Ithaca - ECPv6.15.20//NONSGML v1.0//EN
CALSCALE:GREGORIAN
METHOD:PUBLISH
X-ORIGINAL-URL:https://www.downtownithaca.com
X-WR-CALDESC:Events for Downtown Ithaca
REFRESH-INTERVAL;VALUE=DURATION:PT1H
X-Robots-Tag:noindex
X-PUBLISHED-TTL:PT1H
BEGIN:VTIMEZONE
TZID:America/New_York
BEGIN:DAYLIGHT
TZOFFSETFROM:-0500
TZOFFSETTO:-0400
TZNAME:EDT
DTSTART:20240310T070000
END:DAYLIGHT
BEGIN:STANDARD
TZOFFSETFROM:-0400
TZOFFSETTO:-0500
TZNAME:EST
DTSTART:20241103T060000
END:STANDARD
BEGIN:DAYLIGHT
TZOFFSETFROM:-0500
TZOFFSETTO:-0400
TZNAME:EDT
DTSTART:20250309T070000
END:DAYLIGHT
BEGIN:STANDARD
TZOFFSETFROM:-0400
TZOFFSETTO:-0500
TZNAME:EST
DTSTART:20251102T060000
END:STANDARD
BEGIN:DAYLIGHT
TZOFFSETFROM:-0500
TZOFFSETTO:-0400
TZNAME:EDT
DTSTART:20260308T070000
END:DAYLIGHT
BEGIN:STANDARD
TZOFFSETFROM:-0400
TZOFFSETTO:-0500
TZNAME:EST
DTSTART:20261101T060000
END:STANDARD
END:VTIMEZONE
BEGIN:VEVENT
DTSTART;TZID=America/New_York:20251018T113000
DTEND;TZID=America/New_York:20251018T163000
DTSTAMP:20260421T230838
CREATED:20250930T204752Z
LAST-MODIFIED:20250930T204752Z
UID:10005047-1760787000-1760805000@www.downtownithaca.com
SUMMARY:Loaves & Fishes 30th Annual Empty Bowls
DESCRIPTION:Join Loaves & Fishes in celebrating 30 years of Empty Bowls\, our signature fundraiser supporting free meals and advocacy for neighbors in need. \nLocal potters donate beautiful handmade bowls\, restaurants provide delicious soups\, and Finger Lakes wineries contribute exceptional wine. Businesses and foundations sponsor this special event\, making it a true community effort. \nEach ticket includes:\n• A handcrafted bowl\n• A gourmet take-out meal: 2 soups of your choice\, salad\, bread\, and dessert\n• Optional: Add a bottle of Finger Lakes wine for $25 \nAll proceeds directly support Loaves & Fishes’ mission.
URL:https://www.downtownithaca.com/event/loaves-fishes-30th-annual-empty-bowls/
CATEGORIES:Featured
ATTACH;FMTTYPE=image/png:https://www.downtownithaca.com/wp-content/uploads/EB-Logo-with-date-white-background.png
ORGANIZER;CN="Loaves &amp%3B Fishes":MAILTO:info@loaves.org
END:VEVENT
END:VCALENDAR