BEGIN:VCALENDAR
VERSION:2.0
PRODID:-//Downtown Ithaca - ECPv6.15.20//NONSGML v1.0//EN
CALSCALE:GREGORIAN
METHOD:PUBLISH
X-WR-CALNAME:Downtown Ithaca
X-ORIGINAL-URL:https://www.downtownithaca.com
X-WR-CALDESC:Events for Downtown Ithaca
REFRESH-INTERVAL;VALUE=DURATION:PT1H
X-Robots-Tag:noindex
X-PUBLISHED-TTL:PT1H
BEGIN:VTIMEZONE
TZID:America/New_York
BEGIN:DAYLIGHT
TZOFFSETFROM:-0500
TZOFFSETTO:-0400
TZNAME:EDT
DTSTART:20240310T070000
END:DAYLIGHT
BEGIN:STANDARD
TZOFFSETFROM:-0400
TZOFFSETTO:-0500
TZNAME:EST
DTSTART:20241103T060000
END:STANDARD
BEGIN:DAYLIGHT
TZOFFSETFROM:-0500
TZOFFSETTO:-0400
TZNAME:EDT
DTSTART:20250309T070000
END:DAYLIGHT
BEGIN:STANDARD
TZOFFSETFROM:-0400
TZOFFSETTO:-0500
TZNAME:EST
DTSTART:20251102T060000
END:STANDARD
BEGIN:DAYLIGHT
TZOFFSETFROM:-0500
TZOFFSETTO:-0400
TZNAME:EDT
DTSTART:20260308T070000
END:DAYLIGHT
BEGIN:STANDARD
TZOFFSETFROM:-0400
TZOFFSETTO:-0500
TZNAME:EST
DTSTART:20261101T060000
END:STANDARD
END:VTIMEZONE
BEGIN:VEVENT
DTSTART;TZID=America/New_York:20250514T180000
DTEND;TZID=America/New_York:20250514T193000
DTSTAMP:20260424T144339
CREATED:20250512T164831Z
LAST-MODIFIED:20250512T164831Z
UID:10004689-1747245600-1747251000@www.downtownithaca.com
SUMMARY:Exploring Masculinity- QuAC Teach in
DESCRIPTION:A teach in discussion on gender expression\, toxic masculinity\, male privilege and more. Exploring queer and cis perspectives. Put on by Queer Anarchy Collective.
URL:https://www.downtownithaca.com/event/exploring-masculinity-quac-teach-in/
LOCATION:Autumn Leaves Books\, 115 East State Street\, Ithaca\, NY\, 14850\, United States
CATEGORIES:Featured
ATTACH;FMTTYPE=image/jpeg:https://www.downtownithaca.com/wp-content/uploads/IMG_6553.jpeg
ORGANIZER;CN="Queer Anarchy Collective - QuAC":MAILTO:QueerAnarchyCollective.Qu.A.C@gmail.com
END:VEVENT
END:VCALENDAR