BEGIN:VCALENDAR
VERSION:2.0
PRODID:-//Downtown Ithaca - ECPv6.15.20//NONSGML v1.0//EN
CALSCALE:GREGORIAN
METHOD:PUBLISH
X-ORIGINAL-URL:https://www.downtownithaca.com
X-WR-CALDESC:Events for Downtown Ithaca
REFRESH-INTERVAL;VALUE=DURATION:PT1H
X-Robots-Tag:noindex
X-PUBLISHED-TTL:PT1H
BEGIN:VTIMEZONE
TZID:America/New_York
BEGIN:DAYLIGHT
TZOFFSETFROM:-0500
TZOFFSETTO:-0400
TZNAME:EDT
DTSTART:20240310T070000
END:DAYLIGHT
BEGIN:STANDARD
TZOFFSETFROM:-0400
TZOFFSETTO:-0500
TZNAME:EST
DTSTART:20241103T060000
END:STANDARD
BEGIN:DAYLIGHT
TZOFFSETFROM:-0500
TZOFFSETTO:-0400
TZNAME:EDT
DTSTART:20250309T070000
END:DAYLIGHT
BEGIN:STANDARD
TZOFFSETFROM:-0400
TZOFFSETTO:-0500
TZNAME:EST
DTSTART:20251102T060000
END:STANDARD
BEGIN:DAYLIGHT
TZOFFSETFROM:-0500
TZOFFSETTO:-0400
TZNAME:EDT
DTSTART:20260308T070000
END:DAYLIGHT
BEGIN:STANDARD
TZOFFSETFROM:-0400
TZOFFSETTO:-0500
TZNAME:EST
DTSTART:20261101T060000
END:STANDARD
END:VTIMEZONE
BEGIN:VEVENT
DTSTART;TZID=America/New_York:20250201T143000
DTEND;TZID=America/New_York:20250201T153000
DTSTAMP:20260424T160301
CREATED:20250123T164525Z
LAST-MODIFIED:20250123T164525Z
UID:10004411-1738420200-1738423800@www.downtownithaca.com
SUMMARY:Lion Dance and Parasol Dance at TCPL to Celebrate Lunar New Year
DESCRIPTION:Tompkins County Public Library\, in partnership with the Cornell Lion Dance Club and the Cornell Illumination Chinese Cultural Dance Troupe\, invites you to a spectacular and thrilling dance performance for children and families! \nHelp celebrate the Lunar Year by ushering in the Year of the Snake! The performance will be on the Avenue of Friends at TCPL. \nEach performance will feature a lively 10-15 minute dance\, followed by engaging interactions with the children. \nThis year\, the Cornell Lion Dance is back with two ferocious lions! Don’t miss this exciting celebration!
URL:https://www.downtownithaca.com/event/lion-dance-and-parasol-dance-at-tcpl-to-celebrate-lunar-new-year/
LOCATION:Tompkins County Public Library\, 101 E. Green Street\, Ithaca\, NY\, 14850
CATEGORIES:Featured
ATTACH;FMTTYPE=image/png:https://www.downtownithaca.com/wp-content/uploads/Orange-Creative-Lion-Dance-Festival-Flyer.png
ORGANIZER;CN="TCPL":MAILTO:communications@tcpl.org
END:VEVENT
END:VCALENDAR