BEGIN:VCALENDAR
VERSION:2.0
PRODID:-//Downtown Ithaca - ECPv6.15.20//NONSGML v1.0//EN
CALSCALE:GREGORIAN
METHOD:PUBLISH
X-WR-CALNAME:Downtown Ithaca
X-ORIGINAL-URL:https://www.downtownithaca.com
X-WR-CALDESC:Events for Downtown Ithaca
REFRESH-INTERVAL;VALUE=DURATION:PT1H
X-Robots-Tag:noindex
X-PUBLISHED-TTL:PT1H
BEGIN:VTIMEZONE
TZID:America/New_York
BEGIN:DAYLIGHT
TZOFFSETFROM:-0500
TZOFFSETTO:-0400
TZNAME:EDT
DTSTART:20240310T070000
END:DAYLIGHT
BEGIN:STANDARD
TZOFFSETFROM:-0400
TZOFFSETTO:-0500
TZNAME:EST
DTSTART:20241103T060000
END:STANDARD
BEGIN:DAYLIGHT
TZOFFSETFROM:-0500
TZOFFSETTO:-0400
TZNAME:EDT
DTSTART:20250309T070000
END:DAYLIGHT
BEGIN:STANDARD
TZOFFSETFROM:-0400
TZOFFSETTO:-0500
TZNAME:EST
DTSTART:20251102T060000
END:STANDARD
BEGIN:DAYLIGHT
TZOFFSETFROM:-0500
TZOFFSETTO:-0400
TZNAME:EDT
DTSTART:20260308T070000
END:DAYLIGHT
BEGIN:STANDARD
TZOFFSETFROM:-0400
TZOFFSETTO:-0500
TZNAME:EST
DTSTART:20261101T060000
END:STANDARD
END:VTIMEZONE
BEGIN:VEVENT
DTSTART;TZID=America/New_York:20251027T080000
DTEND;TZID=America/New_York:20251027T091500
DTSTAMP:20260421T215544
CREATED:20250919T185024Z
LAST-MODIFIED:20250919T185024Z
UID:10005029-1761552000-1761556500@www.downtownithaca.com
SUMMARY:FREE MARKETING WORKSHOP FOR NON-PROFITS\, LOCAL BUSINESSES
DESCRIPTION:Gain the professional insight you need to launch a marketing\, PR and fundraising program that will bolster awareness without breaking the bank at a free breakfast workshop from The Communication Solutions Group\, in celebration of their new Ithaca office. RSVP: https://tinyurl.com/EventBriteCSGIthaca
URL:https://www.downtownithaca.com/event/free-marketing-workshop-for-non-profits-local-businesses/
LOCATION:Cinemapolis\, 120 W Green St\, Ithaca\, 14850
CATEGORIES:Featured
ATTACH;FMTTYPE=image/jpeg:https://www.downtownithaca.com/wp-content/uploads/ITHACA_WORKSHOP_DIGITAL-Downtown.jpg
ORGANIZER;CN="The Communication Solutions Group":MAILTO:Kellie@comsolutionsgroup.com
END:VEVENT
END:VCALENDAR