BEGIN:VCALENDAR
VERSION:2.0
PRODID:-//Downtown Ithaca - ECPv6.15.20//NONSGML v1.0//EN
CALSCALE:GREGORIAN
METHOD:PUBLISH
X-WR-CALNAME:Downtown Ithaca
X-ORIGINAL-URL:https://www.downtownithaca.com
X-WR-CALDESC:Events for Downtown Ithaca
REFRESH-INTERVAL;VALUE=DURATION:PT1H
X-Robots-Tag:noindex
X-PUBLISHED-TTL:PT1H
BEGIN:VTIMEZONE
TZID:America/New_York
BEGIN:DAYLIGHT
TZOFFSETFROM:-0500
TZOFFSETTO:-0400
TZNAME:EDT
DTSTART:20240310T070000
END:DAYLIGHT
BEGIN:STANDARD
TZOFFSETFROM:-0400
TZOFFSETTO:-0500
TZNAME:EST
DTSTART:20241103T060000
END:STANDARD
BEGIN:DAYLIGHT
TZOFFSETFROM:-0500
TZOFFSETTO:-0400
TZNAME:EDT
DTSTART:20250309T070000
END:DAYLIGHT
BEGIN:STANDARD
TZOFFSETFROM:-0400
TZOFFSETTO:-0500
TZNAME:EST
DTSTART:20251102T060000
END:STANDARD
BEGIN:DAYLIGHT
TZOFFSETFROM:-0500
TZOFFSETTO:-0400
TZNAME:EDT
DTSTART:20260308T070000
END:DAYLIGHT
BEGIN:STANDARD
TZOFFSETFROM:-0400
TZOFFSETTO:-0500
TZNAME:EST
DTSTART:20261101T060000
END:STANDARD
END:VTIMEZONE
BEGIN:VEVENT
DTSTART;TZID=America/New_York:20250601T143000
DTEND;TZID=America/New_York:20250601T171500
DTSTAMP:20260421T105429
CREATED:20250522T193319Z
LAST-MODIFIED:20250522T193319Z
UID:10004722-1748788200-1748798100@www.downtownithaca.com
SUMMARY:Neither Wolf Nor Dog - Presented by The Gayogohó:nǫˀ Learning Project\, a project of the Center for Transformative Action
DESCRIPTION:The Gayogohó:nǫˀ Learning Project is excited to continue offering its series of powerful and thought-provoking films to the greater Ithaca community. “Neither Wolf nor Dog\,” is based on the novel by Kent Nerburn\, which has been deeply appreciated by Indigenous communities for its accurate and moving representation. The film will be followed by a Zoom discussion between Kent Nerburn and Jim Wikel of the Seneca-Cayuga Nation and Advisory Board Member of the Gayogohó:nǫˀ Learning Project. \nThe Gayogohó:nǫˀ Learning Project is a project of the Center for Transformative Action. \nThis event is made possible in full with funds from the New York State Council on the Arts\, administered by the Community Arts Partnership.
URL:https://www.downtownithaca.com/event/neither-wolf-nor-dog-presented-by-the-gayogohon%c7%ab%cb%80-learning-project-a-project-of-the-center-for-transformative-action/
LOCATION:Cinemapolis\, 120 W Green St\, Ithaca\, 14850
CATEGORIES:Featured
ATTACH;FMTTYPE=image/jpeg:https://www.downtownithaca.com/wp-content/uploads/POSTER-portrait-smaller-rgb.jpg
ORGANIZER;CN="The Gayogoh%C3%B3%3An%C7%AB%CB%80 Learning Project":MAILTO:karenlekha@gmail.com
END:VEVENT
END:VCALENDAR