BEGIN:VCALENDAR
VERSION:2.0
PRODID:-//Downtown Ithaca - ECPv6.15.20//NONSGML v1.0//EN
CALSCALE:GREGORIAN
METHOD:PUBLISH
X-WR-CALNAME:Downtown Ithaca
X-ORIGINAL-URL:https://www.downtownithaca.com
X-WR-CALDESC:Events for Downtown Ithaca
REFRESH-INTERVAL;VALUE=DURATION:PT1H
X-Robots-Tag:noindex
X-PUBLISHED-TTL:PT1H
BEGIN:VTIMEZONE
TZID:America/New_York
BEGIN:DAYLIGHT
TZOFFSETFROM:-0500
TZOFFSETTO:-0400
TZNAME:EDT
DTSTART:20220313T070000
END:DAYLIGHT
BEGIN:STANDARD
TZOFFSETFROM:-0400
TZOFFSETTO:-0500
TZNAME:EST
DTSTART:20221106T060000
END:STANDARD
BEGIN:DAYLIGHT
TZOFFSETFROM:-0500
TZOFFSETTO:-0400
TZNAME:EDT
DTSTART:20230312T070000
END:DAYLIGHT
BEGIN:STANDARD
TZOFFSETFROM:-0400
TZOFFSETTO:-0500
TZNAME:EST
DTSTART:20231105T060000
END:STANDARD
BEGIN:DAYLIGHT
TZOFFSETFROM:-0500
TZOFFSETTO:-0400
TZNAME:EDT
DTSTART:20240310T070000
END:DAYLIGHT
BEGIN:STANDARD
TZOFFSETFROM:-0400
TZOFFSETTO:-0500
TZNAME:EST
DTSTART:20241103T060000
END:STANDARD
END:VTIMEZONE
BEGIN:VEVENT
DTSTART;TZID=America/New_York:20230511T160000
DTEND;TZID=America/New_York:20230511T173000
DTSTAMP:20260421T155207
CREATED:20230502T134439Z
LAST-MODIFIED:20230502T134439Z
UID:10000481-1683820800-1683826200@www.downtownithaca.com
SUMMARY:Community Quiltmaking for Good w/ Brooktondale Community Center\, Dryden Thimble Therapy\, and Ellis Hollow Quilters
DESCRIPTION:Community Quiltmaking for Good w/ Brooktondale Community Center\, Dryden Thimble Therapy\, and Ellis Hollow Quilters \nWHEN: Thursday May 11th – 4-5:30pm \nWHERE: CAP ArtSpace Gallery (First Floor) in the Tompkins Center for History & Culture on the Ithaca Commons – 110 North Tioga St. Ithaca NY 14850. \nPRESENTERS: Brooktondale Community Center\, Dryden Thimble Therapy\, & Ellis Hollow Quilters\, moderated by Brigid Hubberman \nIt’s hard to imagine the Ellis Hollow Fair without its coveted quilt raffle\, or the Brooktondale Apple Festival without its annual quilt raffle. As these beloved items become family heirlooms\, what is sometimes not recognized is the uncounted hours of volunteer labor that goes into creating these local treasures each year. \nJoin members of the Ellis Hollow Quilters (Now in their 56th year)\, Dryden Thimble Therapy\, and the Brooktondale Community Center as they share and remember the decades of quilt work that have supported our community programs and initiatives. An overdue recognition and appreciation for these sewists and the tens of thousands they have raised\, and the good they have done for local programs\, organizations\, and their communities. \nNo registration necessary. \nCOVID-19 POLICY – The History Center will follow the most up to date guidance from the Tompkins County Health Department. Our organization is a mask friendly space and encourage visitors to practice what is most comfortable to them regarding mask wearing. Learn more at thehistorycenter.net/health. The event space can hold up to 45 people. There is no current plan to offer a virtual option for this program. \nThis event is brought to you through the ‘Knot Sew Fast: Patchwork of Tompkins County’ exhibit\, on display February-December 2023. Learn more at thehistorycenter.net/knot-sew-fast.\n. \nLAND ACKNOWLEDGEMENT\nThis event will take place in the traditional and contemporary lands of the Gayogo̱hó꞉nǫˀ Nation (Cayuga)\, one of the Six Nations of the Haudenosaunee Confederacy. Learn more at thehistorycenter.net/land-acknowledgement.
URL:https://www.downtownithaca.com/event/community-quiltmaking-for-good-w-brooktondale-community-center-dryden-thimble-therapy-and-ellis-hollow-quilters/
LOCATION:CAP ArtSpace\, 110 N Tioga st\, Ithaca\, NY\, 14850\, United States
ATTACH;FMTTYPE=image/png:https://www.downtownithaca.com/wp-content/uploads/5.11.2023_CommunityGood_FINAL.png
ORGANIZER;CN="The History Center in Tompkins County":MAILTO:community@thehistorycenter.net
END:VEVENT
BEGIN:VEVENT
DTSTART;TZID=America/New_York:20230506T184500
DTEND;TZID=America/New_York:20230506T204500
DTSTAMP:20260421T155207
CREATED:20230502T134409Z
LAST-MODIFIED:20230502T134409Z
UID:10000480-1683398700-1683405900@www.downtownithaca.com
SUMMARY:Legacies of Canoes - Book Talk & Screening @ Cinemapolis
DESCRIPTION:Legacies of Canoes – Book Talk & Screening w/ Trent Preszler and Hickory Edwards \nWHEN: Saturday May 6th 2023\, 6:45-8:45pm \nWHERE: Cinemapolis\, 120 Green St Ithaca NY 14850. \nPRESENTERS: Trent Preszler author of Little & Often: A Memoir\, and Hickory Edwards (Onondaga) from Haudenosaunee Canoe Journey \nKick off ITHACA CANOE FEST (May 7th @ Cass Park) with a combined book talk and film screening examining family and community legacies through deeply personal canoe journeys. Author Trent Preszler will introduce his book Little and Often: A Memoir\, followed by a screening of the 2020 Haudenosaunee Canoe Journey documentary. After the 45 minute documentary\, hear from both Hickory Edwards (Onondaga) about his experience rediscovering the historic pathways of the “Peacemaker” through his canoe journey\, and Trent on the history of boat building in his life in a panel discussion about their journeys to connect to family and community legacies through canoes. \nSCHEDULE OF EVENTS \n6:45pm – Doors open \n7:00pm – Introduction of Little and Often\, written by Trent Preszler\, with joined book signing. \n7:30pm – Screening of Haudenosaunee Canoe Journey \n8:15pm – Talkback with Hickory Edwards of the Haudenosaunee Canoe Journey\, and Trent Preszler discussing the role of canoes and boats in engaging with family/community inheritance and legacy. \n8:45pm – Conclusion of event. \nABOUT THE PRESENTERS \nLittle and Often: A Memoir – A USA Today Best Book of the Year\, Little and Often is the beautiful memoir of grief\, love\, the shattered bond between a father and son\, and the resurrection of a broken heart. Trent Preszler tells his story with the same level of art and craftsmanship that he brings to his boat making. Preszler’s only inheritance was a beat-up wooden toolbox that had belonged to his father\, who was a cattle rancher\, rodeo champion\, and Vietnam War Bronze Star Medal recipient. This family heirloom befuddled Preszler. He did not work with his hands—but maybe that was the point. In his grief\, he wondered if there was still a way to understand his father\, and with that came an epiphany: he would make something with his inheritance. Having no experience or training in woodcraft\, driven only by blind will\, he decided to build a wooden canoe\, and he would aim to paddle it on the first anniversary of his father’s death \nHaudenosaunee Canoe Journey – Haudenosaunee Canoe Journey is an adventurous firsthand account of one Onondaga man\, Hickory Edwards\, who has devoted his life to the rediscovery of the path of the “Peace Maker.” Relying on knowledge from elders and intuition to guide his team in the right direction\, Hickory Edwards hopes to navigate the full waterways and travelling routes long forgotten by his people. The documentary follows that thirteen-day journey\, exploring the ancient waterways of the five founding Nations of the Haudenosaunee Confederacy. It’ll also feature the evolving relationship between Hickory and his daughter\, Ellie as he tries to teach her about her people\, their ways and their culture. \n.\nLAND ACKNOWLEDGEMENT\nThis event will take place in the traditional and contemporary lands of the Gayogo̱hó:nǫ’ Nation (Cayuga)\, one of the Six Nations of the Haudenosaunee Confederacy. Learn more at thehistorycenter.net/land-acknowledgement.
URL:https://www.downtownithaca.com/event/legacies-of-canoes-book-talk-screening-cinemapolis/
LOCATION:Cinemapolis\, 120 W Green St\, Ithaca\, 14850
ATTACH;FMTTYPE=image/jpeg:https://www.downtownithaca.com/wp-content/uploads/Legacies-of-Canoes-Landscape-4-27-page-001.jpg
ORGANIZER;CN="The History Center in Tompkins County":MAILTO:community@thehistorycenter.net
END:VEVENT
BEGIN:VEVENT
DTSTART;TZID=America/New_York:20230502T183000
DTEND;TZID=America/New_York:20230502T210000
DTSTAMP:20260421T155207
CREATED:20230424T133430Z
LAST-MODIFIED:20230424T133430Z
UID:10000474-1683052200-1683061200@www.downtownithaca.com
SUMMARY:CHAT - History of Environmental Thought - Student Presentations
DESCRIPTION:Ithaca College Students from HIST/ENVS 720 \nJoin us for a CHAT (Community History Across Tompkins) with student presentation’s from Professor Michael Smith’s ‘History of American Environmental Thought’ class. \nEach year students work with our archivist to do an intensive research project using our archival collections and focusing on local environmental issues including energy use\, urban development\, public health\, water management\, and many other timely and important topics. \nNo registration necessary. \nCOVID-19 POLICY \nThe History Center will follow the most up to date guidance from the Tompkins County Health Department. Our organization is a mask friendly space and encourage visitors to practice what is most comfortable to them regarding mask wearing. Learn more at\nthehistorycenter.net/health . \nThe program is offered through the \nCHAT (Community History Across Tompkins) \nprogram series for informal presentations by citizen historians. See other upcoming CHAT’s at \nthehistorycenter.net/CHAT . \n. \nLAND ACKNOWLEDGEMENT \nThis event will take place in the traditional and contemporary lands of the Gayogo̱hó:nǫ’ Nation (Cayuga)\, one of the Six Nations of the Haudenosaunee Confederacy. Learn more at \nthehistorycenter.net/land-acknowledgement .
URL:https://www.downtownithaca.com/event/chat-history-of-environmental-thought-student-presentations/
LOCATION:CAP ArtSpace\, 110 N Tioga st\, Ithaca\, NY\, 14850\, United States
ATTACH;FMTTYPE=image/png:https://www.downtownithaca.com/wp-content/uploads/CHAT_ENVS.720_5.2.23-1.png
ORGANIZER;CN="The History Center in Tompkins County":MAILTO:community@thehistorycenter.net
END:VEVENT
BEGIN:VEVENT
DTSTART;TZID=America/New_York:20230502T143000
DTEND;TZID=America/New_York:20230502T153000
DTSTAMP:20260421T155207
CREATED:20230502T134336Z
LAST-MODIFIED:20230502T134336Z
UID:10000479-1683037800-1683041400@www.downtownithaca.com
SUMMARY:HistoryForge: Mapping Your Family History (Virtual Program)
DESCRIPTION:HistoryForge: Mapping Your Family History (Virtual Program) w/ Eve Snyder \nWHEN: Tuesday May 2nd at 2:30pm \nWHERE: Virtual \nPRESENTER: Eve Snyder\, HistoryForge Project Director \nRegister for free on The History Center website \nHistoryForge began with the idea of using historic maps as portals to information about a community. Its integration of historic maps\, census information\, photographs and archival documents provides a unique way for people to visualize and explore their local history through the people who lived there and the buildings and neighborhoods they lived in. HistoryForge also enables family historians to explore the community context which helped shaped the lives of their ancestors. HistoryForge began in Ithaca\, NY in 2016 at The History Center in Tompkins County. Its founders wanted to develop a platform that could be replicated in communities across the United States. Since 2020 it has expanded in Tompkins County and to other communities in New York and beyond. \nJoin Eve Snyder\, HistoryForge’s Director\, to learn more about this unique project and how to get involved. Eve Snyder\, PhD Eve Snyder is the Historian at The History Center in Tompkins County (THC) and the Project Director for THC’s open-source community digital history project\, HistoryForge. During her graduate studies\, she developed a passion for the digital humanities as a tool for increasing public engagement in history. \nThis event is hosted in collaboration with the Genealogy Center. \nAbout HistoryForge \nHistoryForge is a digital history project from The History Center in Tompkins County which combines historic maps and photos with census records of the people who lived in Ithaca\, creating a way to visualize the history of Ithaca in the early 1900s. Learn more about the project here and the start of our database creation. \nNot available Saturdays but interested?\nContact Eve at HistoryForge@thehistorycenter.net \nThe HistoryForge project has been made possible in part by a major grant from the National Endowment for the Humanities: Democracy demands wisdom. \nThe HistoryForge: Mapping Census Data to Visualize Local History grant was awarded in 2022-2024 through NEH’s Digital Humanities Advancement Grant program. The project was also selected to receive funding through NEH’s A More Perfect Union initiative.
URL:https://www.downtownithaca.com/event/historyforge-mapping-your-family-history-virtual-program/
LOCATION:Virtual
ATTACH;FMTTYPE=image/jpeg:https://www.downtownithaca.com/wp-content/uploads/HF-Mapping-History.jpg
ORGANIZER;CN="The History Center in Tompkins County":MAILTO:community@thehistorycenter.net
END:VEVENT
END:VCALENDAR